{"text_format":"1","workbook":"xlsx","n_sheets":13,"sheets":["Ti1","Erä1","Ti2","Erä2","Ti3","Erä3","Ti4","Erä4","Ti5","Erä5","Yhteen LIITTOON","omayhte","pel-erot"],"not_rendered":{"charts":0,"images":0,"macros":1,"external_links":0,"defined_names":3,"comments":0,"pivot_tables":0},"unopened":[],"bounds":{"document_bytes":16777216,"sheet_cells":100000,"rows_first":2000,"rows_last":500,"rows_between":2000,"halvings":0,"cell_chars":16384,"cell_head_chars":4096},"cells_cut":0,"cells_raw":0,"read":"whole","date_system":"1900"}

{"sheet":"Ti1","index":0,"n_rows":19,"n_cols":53,"rows_kept":19,"cut":false,"hidden":false,"merged":[[5,7,5,10],[5,17,5,20],[5,27,5,30],[5,37,5,40],[5,45,5,46]]}
[null,"Joukkueet","Erä 1","Pisteet",null,null,null,null,null,null,null,null,null,null,null,null,"Vastustajan antamat pisteet:",null,null,null,null,null,null,null,null,null,null,null,null,null,null,null,null,null,null,"Syöttö"]
[null,"Omajoukkue",{"$f":"IF(D2>24,IF(D2-D3>1,1,0),0)","v":0},{"$f":"D2+E2","v":0},null,null,null,null,null,null,null,null,null,null,null,null,null,null,null,null,null,null,null,null,null,null,null,null,null,null,null,null,null,null,null,"Hyökkäys"]
[null,"Vierasjoukkue",{"$f":"IF(D3>24,IF(D3-D2>1,1,0),0)","v":0},{"$f":"D3+E3","v":0},null,null,null,null,null,null,null,null,null,null,null,null,null,null,null,null,null,null,null,null,null,null,null,null,null,null,null,null,null,null,null,"Tekn.virhe"]
["pvm:",null,null,null,null,null,null,null,null,null,null,null,null,null,null,"Ei hyök",null,null,null,null,null,null,null,null,null,"Ei hyök"]
["Paikka:",null,null,"Vast.otto",null,null,null,null,null,null,null,null,null,"VO-hyök",null,null,null,null,null,null,null,null,null,"Jatko-hyök",null,null,null,null,null,null,null,null,null,"Aloitus",null,null,null,null,null,null,null,null,null,"Torj.",null,null,null,null,"Puol",null,null,"Tv"]
["Nimet VAIN tähän taul!!",null,"Jouk.tilastot",{"$f":"Erä1!$D$21","v":0},{"$f":"Erä1!$H$21","v":{"$error":"#DIV/0!"}},{"$f":"Erä1!$G$21","v":0},{"$f":"Erä1!$I$21","v":{"$error":"#DIV/0!"}},"Korjaus",null,null,null,null,null,{"$f":"Erä1!$J$21","v":0},{"$f":"Erä1!$N$21","v":{"$error":"#DIV/0!"}},{"$f":"SUM(Erä1!L21+Erä1!M21)","v":0},{"$f":"Erä1!$O$21","v":{"$error":"#DIV/0!"}},"Korjaus",null,null,null,null,null,{"$f":"Erä1!$P$21","v":0},{"$f":"Erä1!$T$21","v":{"$error":"#DIV/0!"}},{"$f":"SUM(Erä1!R21+Erä1!S21)","v":0},{"$f":"Erä1!$U$21","v":{"$error":"#DIV/0!"}},"Korjaus",null,null,null,null,null,{"$f":"Erä1!$V$21","v":0},{"$f":"Erä1!$Z$21","v":{"$error":"#DIV/0!"}},{"$f":"Erä1!$Y$21","v":0},{"$f":"Erä1!$AA$21","v":{"$error":"#DIV/0!"}},"Korjaus",null,null,null,null,null,{"$f":"Erä1!AB21","v":0},{"$f":"Erä1!AC21","v":0},"Kor",null,null,{"$f":"Erä1!$AE$21","v":0},"Kor",null,{"$f":"Erä1!$AG$21","v":0},"Kor"]
["N:o","Sukunimi","Etunimi",1,2,3,4,1,2,3,4,null,null,1,2,"To",3,1,2,"To",3,null,null,1,2,"To",3,1,2,"To",3,null,null,1,2,3,4,1,2,3,4,null,null,1,2,1,2,null,1,1,null,1,1]
[1,"libero"]
[2,"yp"]
[3,"yp"]
[4,"yp"]
[5,"yp"]
[6,"h"]
[7,"h"]
[8,"kt"]
[9,"kt"]
[10,"kt"]
[11,"p"]
[12,"p"]

{"sheet":"Erä1","index":1,"n_rows":40,"n_cols":33,"rows_kept":40,"cut":false,"hidden":false,"merged":[]}
[null,"Joukkueet","Erä 1","Pisteet",null,null,null,null,null,"Vastustajan antamat pisteet:",null,null,null,null,null,null,{"$f":"O38","v":0}]
[null,{"$f":"'Ti1'!B2","v":"Omajoukkue"},{"$f":"'Ti1'!C2","v":0},{"$f":"'Ti1'!D2","v":0}]
[null,{"$f":"'Ti1'!B3","v":"Vierasjoukkue"},{"$f":"'Ti1'!C3","v":0},{"$f":"'Ti1'!D3","v":0}]
[null,null,null,null,null,null,null,null,null,null,{"$f":"K4+'Ti1'!O4","v":0},"Ei hyökkäystä",null,null,null,null,{"$f":"Q4+'Ti1'!Y4","v":0},"Ei hyökkäystä"]
[null,null,null,"Vast.otto",null,null,null,null,null,"Vast.otto-hyökkäys",null,null,null,null,null,"Jatko-hyökkäys",null,null,null,null,null,"Aloitus",null,null,null,null,null,"Torjunta",null,null,"Puol",null,"Tv"]
["Nro","Sukunimi","Etunimi",1,2,3,4,"P","M",1,2,"To",3,"P","M",1,2,"To",3,"P","M",1,2,3,4,"P","M",1,2,null,1,null,1]
[{"$f":"'Ti1'!A8","v":1},{"$f":"'Ti1'!B8","v":"libero"},{"$f":"'Ti1'!C8","v":0},{"$f":"D7+'Ti1'!D8-'Ti1'!H8","v":0},{"$f":"E7+'Ti1'!E8-'Ti1'!I8","v":0},{"$f":"F7+'Ti1'!F8-'Ti1'!J8","v":0},{"$f":"G7+'Ti1'!G8-'Ti1'!K8","v":0},{"$f":"(D7+E7)/(D7+E7+F7+G7)*100","v":{"$error":"#DIV/0!"}},{"$f":"G7/(D7+E7+F7+G7)*100","v":{"$error":"#DIV/0!"}},{"$f":"J7+'Ti1'!N8-'Ti1'!R8","v":0},{"$f":"K7+'Ti1'!O8-'Ti1'!S8","v":0},{"$f":"L7+'Ti1'!P8-'Ti1'!T8","v":0},{"$f":"M7+'Ti1'!Q8-'Ti1'!U8","v":0},{"$f":"J7/(J7+K7+L7+M7)*100","v":{"$error":"#DIV/0!"}},{"$f":"(L7+M7)/(J7+K7+L7+M7)*100","v":{"$error":"#DIV/0!"}},{"$f":"P7+'Ti1'!X8-'Ti1'!AB8","v":0},{"$f":"Q7+'Ti1'!Y8-'Ti1'!AC8","v":0},{"$f":"R7+'Ti1'!Z8-'Ti1'!AD8","v":0},{"$f":"S7+'Ti1'!AA8-'Ti1'!AE8","v":0},{"$f":"P7/(P7+Q7+R7+S7)*100","v":{"$error":"#DIV/0!"}},{"$f":"(R7+S7)/(P7+Q7+S7)*100","v":{"$error":"#DIV/0!"}},{"$f":"V7+'Ti1'!AH8-'Ti1'!AL8","v":0},{"$f":"W7+'Ti1'!AI8-'Ti1'!AM8","v":0},{"$f":"X7+'Ti1'!AJ8-'Ti1'!AN8","v":0},{"$f":"Y7+'Ti1'!AK8-'Ti1'!AO8","v":0},{"$f":"(V7+W7)/(V7+W7+X7+Y7)*100","v":{"$error":"#DIV/0!"}},{"$f":"Y7/(V7+W7+X7+Y7)*100","v":{"$error":"#DIV/0!"}},{"$f":"AB7+'Ti1'!AR8-'Ti1'!AT8","v":0},{"$f":"AC7+'Ti1'!AS8-'Ti1'!AU8","v":0},null,{"$f":"AE7+'Ti1'!AW8-'Ti1'!AX8","v":0},null,{"$f":"AG7+'Ti1'!AZ8-'Ti1'!BA8","v":0}]
[{"$f":"'Ti1'!A9","v":2},{"$f":"'Ti1'!B9","v":"yp"},{"$f":"'Ti1'!C9","v":0},{"$f":"D8+'Ti1'!D9-'Ti1'!H9","v":0},{"$f":"E8+'Ti1'!E9-'Ti1'!I9","v":0},{"$f":"F8+'Ti1'!F9-'Ti1'!J9","v":0},{"$f":"G8+'Ti1'!G9-'Ti1'!K9","v":0},{"$f":"(D8+E8)/(D8+E8+F8+G8)*100","v":{"$error":"#DIV/0!"}},{"$f":"G8/(D8+E8+F8+G8)*100","v":{"$error":"#DIV/0!"}},{"$f":"J8+'Ti1'!N9-'Ti1'!R9","v":0},{"$f":"K8+'Ti1'!O9-'Ti1'!S9","v":0},{"$f":"L8+'Ti1'!P9-'Ti1'!T9","v":0},{"$f":"M8+'Ti1'!Q9-'Ti1'!U9","v":0},{"$f":"J8/(J8+K8+L8+M8)*100","v":{"$error":"#DIV/0!"}},{"$f":"(L8+M8)/(J8+K8+L8+M8)*100","v":{"$error":"#DIV/0!"}},{"$f":"P8+'Ti1'!X9-'Ti1'!AB9","v":0},{"$f":"Q8+'Ti1'!Y9-'Ti1'!AC9","v":0},{"$f":"R8+'Ti1'!Z9-'Ti1'!AD9","v":0},{"$f":"S8+'Ti1'!AA9-'Ti1'!AE9","v":0},{"$f":"P8/(P8+Q8+R8+S8)*100","v":{"$error":"#DIV/0!"}},{"$f":"(R8+S8)/(P8+Q8+S8)*100","v":{"$error":"#DIV/0!"}},{"$f":"V8+'Ti1'!AH9-'Ti1'!AL9","v":0},{"$f":"W8+'Ti1'!AI9-'Ti1'!AM9","v":0},{"$f":"X8+'Ti1'!AJ9-'Ti1'!AN9","v":0},{"$f":"Y8+'Ti1'!AK9-'Ti1'!AO9","v":0},{"$f":"(V8+W8)/(V8+W8+X8+Y8)*100","v":{"$error":"#DIV/0!"}},{"$f":"Y8/(V8+W8+X8+Y8)*100","v":{"$error":"#DIV/0!"}},{"$f":"AB8+'Ti1'!AR9-'Ti1'!AT9","v":0},{"$f":"AC8+'Ti1'!AS9-'Ti1'!AU9","v":0},null,{"$f":"AE8+'Ti1'!AW9-'Ti1'!AX9","v":0},null,{"$f":"AG8+'Ti1'!AZ9-'Ti1'!BA9","v":0}]
[{"$f":"'Ti1'!A10","v":3},{"$f":"'Ti1'!B10","v":"yp"},{"$f":"'Ti1'!C10","v":0},{"$f":"D9+'Ti1'!D10-'Ti1'!H10","v":0},{"$f":"E9+'Ti1'!E10-'Ti1'!I10","v":0},{"$f":"F9+'Ti1'!F10-'Ti1'!J10","v":0},{"$f":"G9+'Ti1'!G10-'Ti1'!K10","v":0},{"$error":"#DIV/0!"},{"$error":"#DIV/0!"},{"$f":"J9+'Ti1'!N10-'Ti1'!R10","v":0},{"$f":"K9+'Ti1'!O10-'Ti1'!S10","v":0},{"$f":"L9+'Ti1'!P10-'Ti1'!T10","v":0},{"$f":"M9+'Ti1'!Q10-'Ti1'!U10","v":0},{"$error":"#DIV/0!"},{"$error":"#DIV/0!"},{"$f":"P9+'Ti1'!X10-'Ti1'!AB10","v":0},{"$f":"Q9+'Ti1'!Y10-'Ti1'!AC10","v":0},{"$f":"R9+'Ti1'!Z10-'Ti1'!AD10","v":0},{"$f":"S9+'Ti1'!AA10-'Ti1'!AE10","v":0},{"$error":"#DIV/0!"},{"$error":"#DIV/0!"},{"$f":"V9+'Ti1'!AH10-'Ti1'!AL10","v":0},{"$f":"W9+'Ti1'!AI10-'Ti1'!AM10","v":0},{"$f":"X9+'Ti1'!AJ10-'Ti1'!AN10","v":0},{"$f":"Y9+'Ti1'!AK10-'Ti1'!AO10","v":0},{"$error":"#DIV/0!"},{"$error":"#DIV/0!"},{"$f":"AB9+'Ti1'!AR10-'Ti1'!AT10","v":0},{"$f":"AC9+'Ti1'!AS10-'Ti1'!AU10","v":0},null,{"$f":"AE9+'Ti1'!AW10-'Ti1'!AX10","v":0},null,{"$f":"AG9+'Ti1'!AZ10-'Ti1'!BA10","v":0}]
[{"$f":"'Ti1'!A11","v":4},{"$f":"'Ti1'!B11","v":"yp"},{"$f":"'Ti1'!C11","v":0},{"$f":"D10+'Ti1'!D11-'Ti1'!H11","v":0},{"$f":"E10+'Ti1'!E11-'Ti1'!I11","v":0},{"$f":"F10+'Ti1'!F11-'Ti1'!J11","v":0},{"$f":"G10+'Ti1'!G11-'Ti1'!K11","v":0},{"$error":"#DIV/0!"},{"$error":"#DIV/0!"},{"$f":"J10+'Ti1'!N11-'Ti1'!R11","v":0},{"$f":"K10+'Ti1'!O11-'Ti1'!S11","v":0},{"$f":"L10+'Ti1'!P11-'Ti1'!T11","v":0},{"$f":"M10+'Ti1'!Q11-'Ti1'!U11","v":0},{"$error":"#DIV/0!"},{"$error":"#DIV/0!"},{"$f":"P10+'Ti1'!X11-'Ti1'!AB11","v":0},{"$f":"Q10+'Ti1'!Y11-'Ti1'!AC11","v":0},{"$f":"R10+'Ti1'!Z11-'Ti1'!AD11","v":0},{"$f":"S10+'Ti1'!AA11-'Ti1'!AE11","v":0},{"$error":"#DIV/0!"},{"$error":"#DIV/0!"},{"$f":"V10+'Ti1'!AH11-'Ti1'!AL11","v":0},{"$f":"W10+'Ti1'!AI11-'Ti1'!AM11","v":0},{"$f":"X10+'Ti1'!AJ11-'Ti1'!AN11","v":0},{"$f":"Y10+'Ti1'!AK11-'Ti1'!AO11","v":0},{"$error":"#DIV/0!"},{"$error":"#DIV/0!"},{"$f":"AB10+'Ti1'!AR11-'Ti1'!AT11","v":0},{"$f":"AC10+'Ti1'!AS11-'Ti1'!AU11","v":0},null,{"$f":"AE10+'Ti1'!AW11-'Ti1'!AX11","v":0},null,{"$f":"AG10+'Ti1'!AZ11-'Ti1'!BA11","v":0}]
[{"$f":"'Ti1'!A12","v":5},{"$f":"'Ti1'!B12","v":"yp"},{"$f":"'Ti1'!C12","v":0},{"$f":"D11+'Ti1'!D12-'Ti1'!H12","v":0},{"$f":"E11+'Ti1'!E12-'Ti1'!I12","v":0},{"$f":"F11+'Ti1'!F12-'Ti1'!J12","v":0},{"$f":"G11+'Ti1'!G12-'Ti1'!K12","v":0},{"$error":"#DIV/0!"},{"$error":"#DIV/0!"},{"$f":"J11+'Ti1'!N12-'Ti1'!R12","v":0},{"$f":"K11+'Ti1'!O12-'Ti1'!S12","v":0},{"$f":"L11+'Ti1'!P12-'Ti1'!T12","v":0},{"$f":"M11+'Ti1'!Q12-'Ti1'!U12","v":0},{"$error":"#DIV/0!"},{"$error":"#DIV/0!"},{"$f":"P11+'Ti1'!X12-'Ti1'!AB12","v":0},{"$f":"Q11+'Ti1'!Y12-'Ti1'!AC12","v":0},{"$f":"R11+'Ti1'!Z12-'Ti1'!AD12","v":0},{"$f":"S11+'Ti1'!AA12-'Ti1'!AE12","v":0},{"$error":"#DIV/0!"},{"$error":"#DIV/0!"},{"$f":"V11+'Ti1'!AH12-'Ti1'!AL12","v":0},{"$f":"W11+'Ti1'!AI12-'Ti1'!AM12","v":0},{"$f":"X11+'Ti1'!AJ12-'Ti1'!AN12","v":0},{"$f":"Y11+'Ti1'!AK12-'Ti1'!AO12","v":0},{"$error":"#DIV/0!"},{"$error":"#DIV/0!"},{"$f":"AB11+'Ti1'!AR12-'Ti1'!AT12","v":0},{"$f":"AC11+'Ti1'!AS12-'Ti1'!AU12","v":0},null,{"$f":"AE11+'Ti1'!AW12-'Ti1'!AX12","v":0},null,{"$f":"AG11+'Ti1'!AZ12-'Ti1'!BA12","v":0}]
[{"$f":"'Ti1'!A13","v":6},{"$f":"'Ti1'!B13","v":"h"},{"$f":"'Ti1'!C13","v":0},{"$f":"D12+'Ti1'!D13-'Ti1'!H13","v":0},{"$f":"E12+'Ti1'!E13-'Ti1'!I13","v":0},{"$f":"F12+'Ti1'!F13-'Ti1'!J13","v":0},{"$f":"G12+'Ti1'!G13-'Ti1'!K13","v":0},{"$error":"#DIV/0!"},{"$error":"#DIV/0!"},{"$f":"J12+'Ti1'!N13-'Ti1'!R13","v":0},{"$f":"K12+'Ti1'!O13-'Ti1'!S13","v":0},{"$f":"L12+'Ti1'!P13-'Ti1'!T13","v":0},{"$f":"M12+'Ti1'!Q13-'Ti1'!U13","v":0},{"$error":"#DIV/0!"},{"$error":"#DIV/0!"},{"$f":"P12+'Ti1'!X13-'Ti1'!AB13","v":0},{"$f":"Q12+'Ti1'!Y13-'Ti1'!AC13","v":0},{"$f":"R12+'Ti1'!Z13-'Ti1'!AD13","v":0},{"$f":"S12+'Ti1'!AA13-'Ti1'!AE13","v":0},{"$error":"#DIV/0!"},{"$error":"#DIV/0!"},{"$f":"V12+'Ti1'!AH13-'Ti1'!AL13","v":0},{"$f":"W12+'Ti1'!AI13-'Ti1'!AM13","v":0},{"$f":"X12+'Ti1'!AJ13-'Ti1'!AN13","v":0},{"$f":"Y12+'Ti1'!AK13-'Ti1'!AO13","v":0},{"$error":"#DIV/0!"},{"$error":"#DIV/0!"},{"$f":"AB12+'Ti1'!AR13-'Ti1'!AT13","v":0},{"$f":"AC12+'Ti1'!AS13-'Ti1'!AU13","v":0},null,{"$f":"AE12+'Ti1'!AW13-'Ti1'!AX13","v":0},null,{"$f":"AG12+'Ti1'!AZ13-'Ti1'!BA13","v":0}]
[{"$f":"'Ti1'!A14","v":7},{"$f":"'Ti1'!B14","v":"h"},{"$f":"'Ti1'!C14","v":0},{"$f":"D13+'Ti1'!D14-'Ti1'!H14","v":0},{"$f":"E13+'Ti1'!E14-'Ti1'!I14","v":0},{"$f":"F13+'Ti1'!F14-'Ti1'!J14","v":0},{"$f":"G13+'Ti1'!G14-'Ti1'!K14","v":0},{"$error":"#DIV/0!"},{"$error":"#DIV/0!"},{"$f":"J13+'Ti1'!N14-'Ti1'!R14","v":0},{"$f":"K13+'Ti1'!O14-'Ti1'!S14","v":0},{"$f":"L13+'Ti1'!P14-'Ti1'!T14","v":0},{"$f":"M13+'Ti1'!Q14-'Ti1'!U14","v":0},{"$error":"#DIV/0!"},{"$error":"#DIV/0!"},{"$f":"P13+'Ti1'!X14-'Ti1'!AB14","v":0},{"$f":"Q13+'Ti1'!Y14-'Ti1'!AC14","v":0},{"$f":"R13+'Ti1'!Z14-'Ti1'!AD14","v":0},{"$f":"S13+'Ti1'!AA14-'Ti1'!AE14","v":0},{"$error":"#DIV/0!"},{"$error":"#DIV/0!"},{"$f":"V13+'Ti1'!AH14-'Ti1'!AL14","v":0},{"$f":"W13+'Ti1'!AI14-'Ti1'!AM14","v":0},{"$f":"X13+'Ti1'!AJ14-'Ti1'!AN14","v":0},{"$f":"Y13+'Ti1'!AK14-'Ti1'!AO14","v":0},{"$error":"#DIV/0!"},{"$error":"#DIV/0!"},{"$f":"AB13+'Ti1'!AR14-'Ti1'!AT14","v":0},{"$f":"AC13+'Ti1'!AS14-'Ti1'!AU14","v":0},null,{"$f":"AE13+'Ti1'!AW14-'Ti1'!AX14","v":0},null,{"$f":"AG13+'Ti1'!AZ14-'Ti1'!BA14","v":0}]
[{"$f":"'Ti1'!A15","v":8},{"$f":"'Ti1'!B15","v":"kt"},{"$f":"'Ti1'!C15","v":0},{"$f":"D14+'Ti1'!D15-'Ti1'!H15","v":0},{"$f":"E14+'Ti1'!E15-'Ti1'!I15","v":0},{"$f":"F14+'Ti1'!F15-'Ti1'!J15","v":0},{"$f":"G14+'Ti1'!G15-'Ti1'!K15","v":0},{"$error":"#DIV/0!"},{"$error":"#DIV/0!"},{"$f":"J14+'Ti1'!N15-'Ti1'!R15","v":0},{"$f":"K14+'Ti1'!O15-'Ti1'!S15","v":0},{"$f":"L14+'Ti1'!P15-'Ti1'!T15","v":0},{"$f":"M14+'Ti1'!Q15-'Ti1'!U15","v":0},{"$error":"#DIV/0!"},{"$error":"#DIV/0!"},{"$f":"P14+'Ti1'!X15-'Ti1'!AB15","v":0},{"$f":"Q14+'Ti1'!Y15-'Ti1'!AC15","v":0},{"$f":"R14+'Ti1'!Z15-'Ti1'!AD15","v":0},{"$f":"S14+'Ti1'!AA15-'Ti1'!AE15","v":0},{"$error":"#DIV/0!"},{"$error":"#DIV/0!"},{"$f":"V14+'Ti1'!AH15-'Ti1'!AL15","v":0},{"$f":"W14+'Ti1'!AI15-'Ti1'!AM15","v":0},{"$f":"X14+'Ti1'!AJ15-'Ti1'!AN15","v":0},{"$f":"Y14+'Ti1'!AK15-'Ti1'!AO15","v":0},{"$error":"#DIV/0!"},{"$error":"#DIV/0!"},{"$f":"AB14+'Ti1'!AR15-'Ti1'!AT15","v":0},{"$f":"AC14+'Ti1'!AS15-'Ti1'!AU15","v":0},null,{"$f":"AE14+'Ti1'!AW15-'Ti1'!AX15","v":0},null,{"$f":"AG14+'Ti1'!AZ15-'Ti1'!BA15","v":0}]
[{"$f":"'Ti1'!A16","v":9},{"$f":"'Ti1'!B16","v":"kt"},{"$f":"'Ti1'!C16","v":0},{"$f":"D15+'Ti1'!D16-'Ti1'!H16","v":0},{"$f":"E15+'Ti1'!E16-'Ti1'!I16","v":0},{"$f":"F15+'Ti1'!F16-'Ti1'!J16","v":0},{"$f":"G15+'Ti1'!G16-'Ti1'!K16","v":0},{"$error":"#DIV/0!"},{"$error":"#DIV/0!"},{"$f":"J15+'Ti1'!N16-'Ti1'!R16","v":0},{"$f":"K15+'Ti1'!O16-'Ti1'!S16","v":0},{"$f":"L15+'Ti1'!P16-'Ti1'!T16","v":0},{"$f":"M15+'Ti1'!Q16-'Ti1'!U16","v":0},{"$error":"#DIV/0!"},{"$error":"#DIV/0!"},{"$f":"P15+'Ti1'!X16-'Ti1'!AB16","v":0},{"$f":"Q15+'Ti1'!Y16-'Ti1'!AC16","v":0},{"$f":"R15+'Ti1'!Z16-'Ti1'!AD16","v":0},{"$f":"S15+'Ti1'!AA16-'Ti1'!AE16","v":0},{"$error":"#DIV/0!"},{"$error":"#DIV/0!"},{"$f":"V15+'Ti1'!AH16-'Ti1'!AL16","v":0},{"$f":"W15+'Ti1'!AI16-'Ti1'!AM16","v":0},{"$f":"X15+'Ti1'!AJ16-'Ti1'!AN16","v":0},{"$f":"Y15+'Ti1'!AK16-'Ti1'!AO16","v":0},{"$error":"#DIV/0!"},{"$error":"#DIV/0!"},{"$f":"AB15+'Ti1'!AR16-'Ti1'!AT16","v":0},{"$f":"AC15+'Ti1'!AS16-'Ti1'!AU16","v":0},null,{"$f":"AE15+'Ti1'!AW16-'Ti1'!AX16","v":0},null,{"$f":"AG15+'Ti1'!AZ16-'Ti1'!BA16","v":0}]
[{"$f":"'Ti1'!A17","v":10},{"$f":"'Ti1'!B17","v":"kt"},{"$f":"'Ti1'!C17","v":0},{"$f":"D16+'Ti1'!D17-'Ti1'!H17","v":0},{"$f":"E16+'Ti1'!E17-'Ti1'!I17","v":0},{"$f":"F16+'Ti1'!F17-'Ti1'!J17","v":0},{"$f":"G16+'Ti1'!G17-'Ti1'!K17","v":0},{"$error":"#DIV/0!"},{"$error":"#DIV/0!"},{"$f":"J16+'Ti1'!N17-'Ti1'!R17","v":0},{"$f":"K16+'Ti1'!O17-'Ti1'!S17","v":0},{"$f":"L16+'Ti1'!P17-'Ti1'!T17","v":0},{"$f":"M16+'Ti1'!Q17-'Ti1'!U17","v":0},{"$error":"#DIV/0!"},{"$error":"#DIV/0!"},{"$f":"P16+'Ti1'!X17-'Ti1'!AB17","v":0},{"$f":"Q16+'Ti1'!Y17-'Ti1'!AC17","v":0},{"$f":"R16+'Ti1'!Z17-'Ti1'!AD17","v":0},{"$f":"S16+'Ti1'!AA17-'Ti1'!AE17","v":0},{"$error":"#DIV/0!"},{"$error":"#DIV/0!"},{"$f":"V16+'Ti1'!AH17-'Ti1'!AL17","v":0},{"$f":"W16+'Ti1'!AI17-'Ti1'!AM17","v":0},{"$f":"X16+'Ti1'!AJ17-'Ti1'!AN17","v":0},{"$f":"Y16+'Ti1'!AK17-'Ti1'!AO17","v":0},{"$error":"#DIV/0!"},{"$error":"#DIV/0!"},{"$f":"AB16+'Ti1'!AR17-'Ti1'!AT17","v":0},{"$f":"AC16+'Ti1'!AS17-'Ti1'!AU17","v":0},null,{"$f":"AE16+'Ti1'!AW17-'Ti1'!AX17","v":0},null,{"$f":"AG16+'Ti1'!AZ17-'Ti1'!BA17","v":0}]
[{"$f":"'Ti1'!A18","v":11},{"$f":"'Ti1'!B18","v":"p"},{"$f":"'Ti1'!C18","v":0},{"$f":"D17+'Ti1'!D18-'Ti1'!H18","v":0},{"$f":"E17+'Ti1'!E18-'Ti1'!I18","v":0},{"$f":"F17+'Ti1'!F18-'Ti1'!J18","v":0},{"$f":"G17+'Ti1'!G18-'Ti1'!K18","v":0},{"$error":"#DIV/0!"},{"$error":"#DIV/0!"},{"$f":"J17+'Ti1'!N18-'Ti1'!R18","v":0},{"$f":"K17+'Ti1'!O18-'Ti1'!S18","v":0},{"$f":"L17+'Ti1'!P18-'Ti1'!T18","v":0},{"$f":"M17+'Ti1'!Q18-'Ti1'!U18","v":0},{"$error":"#DIV/0!"},{"$error":"#DIV/0!"},{"$f":"P17+'Ti1'!X18-'Ti1'!AB18","v":0},{"$f":"Q17+'Ti1'!Y18-'Ti1'!AC18","v":0},{"$f":"R17+'Ti1'!Z18-'Ti1'!AD18","v":0},{"$f":"S17+'Ti1'!AA18-'Ti1'!AE18","v":0},{"$error":"#DIV/0!"},{"$error":"#DIV/0!"},{"$f":"V17+'Ti1'!AH18-'Ti1'!AL18","v":0},{"$f":"W17+'Ti1'!AI18-'Ti1'!AM18","v":0},{"$f":"X17+'Ti1'!AJ18-'Ti1'!AN18","v":0},{"$f":"Y17+'Ti1'!AK18-'Ti1'!AO18","v":0},{"$error":"#DIV/0!"},{"$error":"#DIV/0!"},{"$f":"AB17+'Ti1'!AR18-'Ti1'!AT18","v":0},{"$f":"AC17+'Ti1'!AS18-'Ti1'!AU18","v":0},null,{"$f":"AE17+'Ti1'!AW18-'Ti1'!AX18","v":0},null,{"$f":"AG17+'Ti1'!AZ18-'Ti1'!BA18","v":0}]
[{"$f":"'Ti1'!A19","v":12},{"$f":"'Ti1'!B19","v":"p"},{"$f":"'Ti1'!C19","v":0},{"$f":"D18+'Ti1'!D19-'Ti1'!H19","v":0},{"$f":"E18+'Ti1'!E19-'Ti1'!I19","v":0},{"$f":"F18+'Ti1'!F19-'Ti1'!J19","v":0},{"$f":"G18+'Ti1'!G19-'Ti1'!K19","v":0},{"$error":"#DIV/0!"},{"$error":"#DIV/0!"},{"$f":"J18+'Ti1'!N19-'Ti1'!R19","v":0},{"$f":"K18+'Ti1'!O19-'Ti1'!S19","v":0},{"$f":"L18+'Ti1'!P19-'Ti1'!T19","v":0},{"$f":"M18+'Ti1'!Q19-'Ti1'!U19","v":0},{"$error":"#DIV/0!"},{"$error":"#DIV/0!"},{"$f":"P18+'Ti1'!X19-'Ti1'!AB19","v":0},{"$f":"Q18+'Ti1'!Y19-'Ti1'!AC19","v":0},{"$f":"R18+'Ti1'!Z19-'Ti1'!AD19","v":0},{"$f":"S18+'Ti1'!AA19-'Ti1'!AE19","v":0},{"$error":"#DIV/0!"},{"$error":"#DIV/0!"},{"$f":"V18+'Ti1'!AH19-'Ti1'!AL19","v":0},{"$f":"W18+'Ti1'!AI19-'Ti1'!AM19","v":0},{"$f":"X18+'Ti1'!AJ19-'Ti1'!AN19","v":0},{"$f":"Y18+'Ti1'!AK19-'Ti1'!AO19","v":0},{"$error":"#DIV/0!"},{"$error":"#DIV/0!"},{"$f":"AB18+'Ti1'!AR19-'Ti1'!AT19","v":0},{"$f":"AC18+'Ti1'!AS19-'Ti1'!AU19","v":0},null,{"$f":"AE18+'Ti1'!AW19-'Ti1'!AX19","v":0},null,{"$f":"AG18+'Ti1'!AZ19-'Ti1'!BA19","v":0}]
[{"$f":"'Ti1'!A20","v":0},{"$f":"'Ti1'!B20","v":0},{"$f":"'Ti1'!C20","v":0},{"$f":"D19+'Ti1'!D20-'Ti1'!H20","v":0},{"$f":"E19+'Ti1'!E20-'Ti1'!I20","v":0},{"$f":"F19+'Ti1'!F20-'Ti1'!J20","v":0},{"$f":"G19+'Ti1'!G20-'Ti1'!K20","v":0},{"$error":"#DIV/0!"},{"$error":"#DIV/0!"},{"$f":"J19+'Ti1'!N20-'Ti1'!R20","v":0},{"$f":"K19+'Ti1'!O20-'Ti1'!S20","v":0},{"$f":"L19+'Ti1'!P20-'Ti1'!T20","v":0},{"$f":"M19+'Ti1'!Q20-'Ti1'!U20","v":0},{"$error":"#DIV/0!"},{"$error":"#DIV/0!"},{"$f":"P19+'Ti1'!X20-'Ti1'!AB20","v":0},{"$f":"Q19+'Ti1'!Y20-'Ti1'!AC20","v":0},{"$f":"R19+'Ti1'!Z20-'Ti1'!AD20","v":0},{"$f":"S19+'Ti1'!AA20-'Ti1'!AE20","v":0},{"$error":"#DIV/0!"},{"$error":"#DIV/0!"},{"$f":"V19+'Ti1'!AH20-'Ti1'!AL20","v":0},{"$f":"W19+'Ti1'!AI20-'Ti1'!AM20","v":0},{"$f":"X19+'Ti1'!AJ20-'Ti1'!AN20","v":0},{"$f":"Y19+'Ti1'!AK20-'Ti1'!AO20","v":0},{"$error":"#DIV/0!"},{"$error":"#DIV/0!"},{"$f":"AB19+'Ti1'!AR20-'Ti1'!AT20","v":0},{"$f":"AC19+'Ti1'!AS20-'Ti1'!AU20","v":0},null,{"$f":"AE19+'Ti1'!AW20-'Ti1'!AX20","v":0},null,{"$f":"AG19+'Ti1'!AZ20-'Ti1'!BA20","v":0}]
[{"$f":"'Ti1'!A21","v":0},{"$f":"'Ti1'!B21","v":0},{"$f":"'Ti1'!C21","v":0},{"$f":"D20+'Ti1'!D21-'Ti1'!H21","v":0},{"$f":"E20+'Ti1'!E21-'Ti1'!I21","v":0},{"$f":"F20+'Ti1'!F21-'Ti1'!J21","v":0},{"$f":"G20+'Ti1'!G21-'Ti1'!K21","v":0},{"$error":"#DIV/0!"},{"$error":"#DIV/0!"},{"$f":"J20+'Ti1'!N21-'Ti1'!R21","v":0},{"$f":"K20+'Ti1'!O21-'Ti1'!S21","v":0},{"$f":"L20+'Ti1'!P21-'Ti1'!T21","v":0},{"$f":"M20+'Ti1'!Q21-'Ti1'!U21","v":0},{"$error":"#DIV/0!"},{"$error":"#DIV/0!"},{"$f":"P20+'Ti1'!X21-'Ti1'!AB21","v":0},{"$f":"Q20+'Ti1'!Y21-'Ti1'!AC21","v":0},{"$f":"R20+'Ti1'!Z21-'Ti1'!AD21","v":0},{"$f":"S20+'Ti1'!AA21-'Ti1'!AE21","v":0},{"$error":"#DIV/0!"},{"$error":"#DIV/0!"},{"$f":"V20+'Ti1'!AH21-'Ti1'!AL21","v":0},{"$f":"W20+'Ti1'!AI21-'Ti1'!AM21","v":0},{"$f":"X20+'Ti1'!AJ21-'Ti1'!AN21","v":0},{"$f":"Y20+'Ti1'!AK21-'Ti1'!AO21","v":0},{"$error":"#DIV/0!"},{"$error":"#DIV/0!"},{"$f":"AB20+'Ti1'!AR21-'Ti1'!AT21","v":0},{"$f":"AC20+'Ti1'!AS21-'Ti1'!AU21","v":0},null,{"$f":"AE20+'Ti1'!AW21-'Ti1'!AX21","v":0},null,{"$f":"AG20+'Ti1'!AZ21-'Ti1'!BA21","v":0}]
[null,"Joukkue","Yhteen",{"$f":"SUM(D7:D20)","v":0},{"$f":"SUM(E7:E20)","v":0},{"$f":"SUM(F7:F20)","v":0},{"$f":"SUM(G7:G20)","v":0},{"$f":"(D21+E21)/(D21+E21+F21+G21)*100","v":{"$error":"#DIV/0!"}},{"$f":"G21/(D21+E21+F21+G21)*100","v":{"$error":"#DIV/0!"}},{"$f":"SUM(J7:J20)","v":0},{"$f":"SUM(K7:K20)","v":0},{"$f":"SUM(L7:L20)","v":0},{"$f":"SUM(M7:M20)","v":0},{"$error":"#DIV/0!"},{"$error":"#DIV/0!"},{"$f":"SUM(P7:P20)","v":0},{"$f":"SUM(Q7:Q20)","v":0},{"$f":"SUM(R7:R20)","v":0},{"$f":"SUM(S7:S20)","v":0},{"$error":"#DIV/0!"},{"$error":"#DIV/0!"},{"$f":"SUM(V7:V20)","v":0},{"$f":"SUM(W7:W20)","v":0},{"$f":"SUM(X7:X20)","v":0},{"$f":"SUM(Y7:Y20)","v":0},{"$f":"(V21+W21)/(V21+W21+X21+Y21)*100","v":{"$error":"#DIV/0!"}},{"$f":"Y21/(V21+W21+X21+Y21)*100","v":{"$error":"#DIV/0!"}},{"$f":"SUM(AB7:AB20)","v":0},{"$f":"SUM(AC7:AC20)","v":0},null,{"$f":"SUM(AE7:AE20)","v":0},null,{"$f":"SUM(AG7:AG20)","v":0}]
[]
[null,"Joukkuetilasto","ottelussa",{"$f":"omayhte!D21","v":0},{"$f":"omayhte!E21","v":0},{"$f":"omayhte!F21","v":0},{"$f":"omayhte!G21","v":0},{"$f":"omayhte!H21","v":{"$error":"#DIV/0!"}},{"$f":"omayhte!I21","v":{"$error":"#DIV/0!"}},{"$f":"omayhte!J21","v":0},{"$f":"omayhte!K21","v":0},{"$f":"omayhte!L21","v":0},{"$f":"omayhte!M21","v":0},{"$f":"omayhte!N21","v":{"$error":"#DIV/0!"}},{"$f":"omayhte!O21","v":{"$error":"#DIV/0!"}},{"$f":"omayhte!P21","v":0},{"$f":"omayhte!Q21","v":0},{"$f":"omayhte!R21","v":0},{"$f":"omayhte!S21","v":0},{"$f":"omayhte!T21","v":{"$error":"#DIV/0!"}},{"$f":"omayhte!U21","v":{"$error":"#DIV/0!"}},{"$f":"omayhte!V21","v":0},{"$f":"omayhte!W21","v":0},{"$f":"omayhte!X21","v":0},{"$f":"omayhte!Y21","v":0},{"$f":"omayhte!Z21","v":{"$error":"#DIV/0!"}},{"$f":"omayhte!AA21","v":{"$error":"#DIV/0!"}},{"$f":"omayhte!AB21","v":0},{"$f":"omayhte!AC21","v":0},{"$f":"omayhte!AD21","v":0},{"$f":"omayhte!AE21","v":0},{"$f":"omayhte!AF26","v":0},{"$f":"omayhte!AG26","v":0}]
[]
[null,"Joukkue","Yhteen",{"$f":"SUM(D27:D40)","v":0},0,0,0,0,0,0,0,{"$f":"SUM(L27:L40)","v":0},{"$f":"SUM(M27:M40)","v":0}]
["Nro","Sukunimi","Etunimi","V","H","S","T","Hä","VO","H","Al","Tv","PM",null,{"$f":"SUM(J21:M21)","v":0},"VO-hyökkäystä joista…",null,null,null,null,{"$f":"SUM(P21:S21)","v":0},"Jatko-hyökkäystä joista…",null,null,null,null,"Vastaanoton jakautuminen"]
[{"$f":"'Ti1'!A8","v":1},{"$f":"'Ti1'!B8","v":"libero"},{"$f":"'Ti1'!C8","v":0},{"$f":"J7+V7+AB7+P7","v":0},{"$f":"J7+P7","v":0},{"$f":"V7","v":0},{"$f":"AB7","v":0},{"$f":"G7+M7+Y7+S7+L7+R7+AG7","v":0},{"$f":"G7","v":0},{"$f":"M7+S7+R7+L7","v":0},{"$f":"Y7","v":0},{"$f":"AG7","v":0},{"$f":"D27-H27","v":0},null,{"$f":"(SUM(J14:M16)/O26)*100","v":{"$error":"#DIV/0!"}},"%:ia ykköshyök.",null,null,{"$f":"(SUM(J14:J16)/SUM(J14:M16)*100)","v":{"$error":"#DIV/0!"}},null,{"$f":"(SUM(P14:S16)/U26)*100","v":{"$error":"#DIV/0!"}},"%:ia ykköshyök.",null,null,{"$f":"(SUM(P14:P16)/SUM(P14:S16)*100)","v":{"$error":"#DIV/0!"}},null,{"$f":"(E7+F7+G7+D7)/(E21+F21+G21+D21)*100","v":{"$error":"#DIV/0!"}},"%:ia liberolle",null,"+","+",{"$f":"AVERAGE(H8)","v":{"$error":"#DIV/0!"}},{"$f":"AVERAGE(H7)","v":{"$error":"#DIV/0!"}}]
[{"$f":"'Ti1'!A9","v":2},{"$f":"'Ti1'!B9","v":"yp"},{"$f":"'Ti1'!C9","v":0},{"$f":"J8+V8+AB8+P8","v":0},{"$f":"J8+P8","v":0},{"$f":"V8","v":0},{"$f":"AB8","v":0},{"$f":"G8+M8+Y8+S8+L8+R8+AG8","v":0},{"$f":"G8","v":0},{"$f":"M8+S8+R8+L8","v":0},{"$f":"Y8","v":0},{"$f":"AG8","v":0},{"$f":"D28-H28","v":0},null,{"$f":"(SUM(J12:M13)/O26)*100","v":{"$error":"#DIV/0!"}},"%:ia hakkurille",null,null,{"$f":"(SUM(J12:J13)/SUM(J12:M13)*100)","v":{"$error":"#DIV/0!"}},null,{"$f":"(SUM(P12:S13)/U26)*100","v":{"$error":"#DIV/0!"}},"%:ia hakkurille",null,null,{"$f":"(SUM(P12:P13)/SUM(P12:S13)*100)","v":{"$error":"#DIV/0!"}},null,{"$f":"100-AA27","v":{"$error":"#DIV/0!"}},"%:ia muille",null,"+","+",{"$f":"(SUM(D9:E18)/SUM(D9:G18))*100","v":{"$error":"#DIV/0!"}},{"$f":"(SUM(D8:E18)/SUM(D8:G18))*100","v":{"$error":"#DIV/0!"}}]
[{"$f":"'Ti1'!A10","v":3},{"$f":"'Ti1'!B10","v":"yp"},{"$f":"'Ti1'!C10","v":0},0,0,0,0,0,0,0,0,0,0,null,{"$f":"(SUM(J8:M11)/O26)*100","v":{"$error":"#DIV/0!"}},"%:ia laitureille",null,null,{"$f":"(SUM(J8:J11)/SUM(J8:M11)*100)","v":{"$error":"#DIV/0!"}},null,{"$f":"(SUM(P8:S11)/U26)*100","v":{"$error":"#DIV/0!"}},"%:ia laitureille",null,null,{"$f":"(SUM(P8:P11)/SUM(P8:S11)*100)","v":{"$error":"#DIV/0!"}}]
[{"$f":"'Ti1'!A11","v":4},{"$f":"'Ti1'!B11","v":"yp"},{"$f":"'Ti1'!C11","v":0},0,0,0,0,0,0,0,0,0,0,null,{"$f":"(SUM(J17:M18)/O26)*100","v":{"$error":"#DIV/0!"}},"%:ia passari",null,null,{"$f":"(SUM(J17:J18)/SUM(J17:M18)*100)","v":{"$error":"#DIV/0!"}},null,{"$f":"(SUM(P17:S18)/U26)*100","v":{"$error":"#DIV/0!"}},"%:ia passari",null,null,{"$f":"(SUM(P17:P18)/SUM(P17:S18)*100)","v":{"$error":"#DIV/0!"}}]
[{"$f":"'Ti1'!A12","v":5},{"$f":"'Ti1'!B12","v":"yp"},{"$f":"'Ti1'!C12","v":0},0,0,0,0,0,0,0,0,0,0,null,null,null,null,null,null,null,null,null,null,null,null,null,{"$f":"L21+R21","v":0},"Vastustajan torjunta"]
[{"$f":"'Ti1'!A13","v":6},{"$f":"'Ti1'!B13","v":"h"},{"$f":"'Ti1'!C13","v":0},0,0,0,0,0,0,0,0,0,0]
[{"$f":"'Ti1'!A14","v":7},{"$f":"'Ti1'!B14","v":"h"},{"$f":"'Ti1'!C14","v":0},0,0,0,0,0,0,0,0,0,0,null,{"$f":"M21+S21+Y21+G21+AG21+L21+R21","v":0},"pistettä olemme antaneet omilla virheillä"]
[{"$f":"'Ti1'!A15","v":8},{"$f":"'Ti1'!B15","v":"kt"},{"$f":"'Ti1'!C15","v":0},0,0,0,0,0,0,0,0,0,0,null,null,"Vastustajalta olemme saaneet pisteitä:"]
[{"$f":"'Ti1'!A16","v":9},{"$f":"'Ti1'!B16","v":"kt"},{"$f":"'Ti1'!C16","v":0},0,0,0,0,0,0,0,0,0,0,null,{"$f":"'Ti1'!AI1+Erä1!O35","v":0},"pistettä syöttövirheillä"]
[{"$f":"'Ti1'!A17","v":10},{"$f":"'Ti1'!B17","v":"kt"},{"$f":"'Ti1'!C17","v":0},0,0,0,0,0,0,0,0,0,0,null,{"$f":"'Ti1'!AI2+Erä1!O36","v":0},"pistettä suorilla hyökkäysvirheillä"]
[{"$f":"'Ti1'!A18","v":11},{"$f":"'Ti1'!B18","v":"p"},{"$f":"'Ti1'!C18","v":0},0,0,0,0,0,0,0,0,0,0,null,{"$f":"'Ti1'!AI3+Erä1!O37","v":0},"pistettä teknisillä virheillä"]
[{"$f":"'Ti1'!A19","v":12},{"$f":"'Ti1'!B19","v":"p"},{"$f":"'Ti1'!C19","v":0},0,0,0,0,0,0,0,0,0,0,null,{"$f":"SUM(O35:O37)","v":0},"pistettä yhteensä vastustajan virheillä"]
[{"$f":"'Ti1'!A20","v":0},{"$f":"'Ti1'!B20","v":0},{"$f":"'Ti1'!C20","v":0},0,0,0,0,0,0,0,0,0,0,null,{"$f":"O38-O33","v":0},"pistettä nettovaikutus"]
[{"$f":"'Ti1'!A21","v":0},{"$f":"'Ti1'!B21","v":0},{"$f":"'Ti1'!C21","v":0},0,0,0,0,0,0,0,0,0,0]

{"sheet":"Ti2","index":2,"n_rows":21,"n_cols":53,"rows_kept":21,"cut":false,"hidden":false,"merged":[[5,7,5,10],[5,17,5,20],[5,27,5,30],[5,37,5,40],[5,45,5,46]]}
[null,"Joukkueet","Erä 2","Pisteet",null,null,null,null,null,null,null,null,null,null,null,null,"Vastustajan antamat pisteet:",null,null,null,null,null,null,null,null,null,null,null,null,null,null,null,null,null,null,"Syöttö"]
[null,{"$f":"'Ti1'!B2","v":"Omajoukkue"},{"$f":"IF(D2>24,IF(D2-D3>1,1,0),0)","v":0},{"$f":"D2+E2","v":0},null,null,null,null,null,null,null,null,null,null,null,null,null,null,null,null,null,null,null,null,null,null,null,null,null,null,null,null,null,null,null,"Hyökkäys"]
[null,{"$f":"'Ti1'!B3","v":"Vierasjoukkue"},{"$f":"IF(D3>24,IF(D3-D2>1,1,0),0)","v":0},{"$f":"D3+E3","v":0},null,null,null,null,null,null,null,null,null,null,null,null,null,null,null,null,null,null,null,null,null,null,null,null,null,null,null,null,null,null,null,"Tekn.virhe"]
[null,null,null,null,null,null,null,null,null,null,null,null,null,null,null,"Ei hyök",null,null,null,null,null,null,null,null,null,"Ei hyök"]
[null,null,null,"Vast.otto",null,null,null,null,null,null,null,null,null,"VO-hyök",null,null,null,null,null,null,null,null,null,"Jatko-hyök",null,null,null,null,null,null,null,null,null,"Aloitus",null,null,null,null,null,null,null,null,null,"Torj.",null,null,null,null,"Puol",null,null,"Tv"]
[null,null,"Jouk.tilastot",{"$f":"Erä2!$D$21","v":0},{"$f":"Erä2!$H$21","v":{"$error":"#DIV/0!"}},{"$f":"Erä2!$G$21","v":0},{"$f":"Erä2!$I$21","v":{"$error":"#DIV/0!"}},"Korjaus",null,null,null,null,null,{"$f":"Erä2!$J$21","v":0},{"$f":"Erä2!$N$21","v":{"$error":"#DIV/0!"}},{"$f":"SUM(Erä2!L21+Erä2!M21)","v":0},{"$f":"Erä2!$O$21","v":{"$error":"#DIV/0!"}},"Korjaus",null,null,null,null,null,{"$f":"Erä2!$P$21","v":0},{"$f":"Erä2!$T$21","v":{"$error":"#DIV/0!"}},{"$f":"SUM(Erä2!R21+Erä2!S21)","v":0},{"$f":"Erä2!$U$21","v":{"$error":"#DIV/0!"}},"Korjaus",null,null,null,null,null,{"$f":"Erä2!$V$21","v":0},{"$f":"Erä2!$Z$21","v":{"$error":"#DIV/0!"}},{"$f":"Erä2!$Y$21","v":0},{"$f":"Erä2!$AA$21","v":{"$error":"#DIV/0!"}},"Korjaus",null,null,null,null,null,{"$f":"Erä2!AB21","v":0},{"$f":"Erä2!AC21","v":0},"Kor",null,null,{"$f":"Erä2!$AE$21","v":0},"Kor",null,{"$f":"Erä2!$AG$21","v":0},"Kor"]
["N:o","Sukunimi","Etunimi",1,2,3,4,1,2,3,4,null,null,1,2,"To",3,1,2,"To",3,null,null,1,2,"To",3,1,2,"To",3,null,null,1,2,3,4,1,2,3,4,null,null,1,2,1,2,null,1,1,null,1,1]
[{"$f":"'Ti1'!A8","v":1},{"$f":"'Ti1'!B8","v":"libero"},{"$f":"'Ti1'!C8","v":0}]
[{"$f":"'Ti1'!A9","v":2},{"$f":"'Ti1'!B9","v":"yp"},{"$f":"'Ti1'!C9","v":0}]
[{"$f":"'Ti1'!A10","v":3},{"$f":"'Ti1'!B10","v":"yp"},{"$f":"'Ti1'!C10","v":0}]
[{"$f":"'Ti1'!A11","v":4},{"$f":"'Ti1'!B11","v":"yp"},{"$f":"'Ti1'!C11","v":0}]
[{"$f":"'Ti1'!A12","v":5},{"$f":"'Ti1'!B12","v":"yp"},{"$f":"'Ti1'!C12","v":0}]
[{"$f":"'Ti1'!A13","v":6},{"$f":"'Ti1'!B13","v":"h"},{"$f":"'Ti1'!C13","v":0}]
[{"$f":"'Ti1'!A14","v":7},{"$f":"'Ti1'!B14","v":"h"},{"$f":"'Ti1'!C14","v":0}]
[{"$f":"'Ti1'!A15","v":8},{"$f":"'Ti1'!B15","v":"kt"},{"$f":"'Ti1'!C15","v":0}]
[{"$f":"'Ti1'!A16","v":9},{"$f":"'Ti1'!B16","v":"kt"},{"$f":"'Ti1'!C16","v":0}]
[{"$f":"'Ti1'!A17","v":10},{"$f":"'Ti1'!B17","v":"kt"},{"$f":"'Ti1'!C17","v":0}]
[{"$f":"'Ti1'!A18","v":11},{"$f":"'Ti1'!B18","v":"p"},{"$f":"'Ti1'!C18","v":0}]
[{"$f":"'Ti1'!A19","v":12},{"$f":"'Ti1'!B19","v":"p"},{"$f":"'Ti1'!C19","v":0}]
[{"$f":"'Ti1'!A20","v":0},{"$f":"'Ti1'!B20","v":0},{"$f":"'Ti1'!C20","v":0}]
[{"$f":"'Ti1'!A21","v":0},{"$f":"'Ti1'!B21","v":0},{"$f":"'Ti1'!C21","v":0}]

{"sheet":"Erä2","index":3,"n_rows":40,"n_cols":33,"rows_kept":40,"cut":false,"hidden":false,"merged":[]}
[null,"Joukkueet","Erä 2","Pisteet",null,null,null,null,null,"Vastustajan antamat pisteet:",null,null,null,null,null,null,{"$f":"O38","v":0}]
[null,{"$f":"'Ti1'!B2","v":"Omajoukkue"},{"$f":"'Ti2'!C2","v":0},{"$f":"'Ti2'!D2","v":0}]
[null,{"$f":"'Ti1'!B3","v":"Vierasjoukkue"},{"$f":"'Ti2'!C3","v":0},{"$f":"'Ti2'!D3","v":0}]
[null,null,null,null,null,null,null,null,null,null,{"$f":"K4+'Ti2'!O4","v":0},"Ei hyökkäystä",null,null,null,null,{"$f":"Q4+'Ti2'!Y4","v":0},"Ei hyökkäystä"]
[null,null,null,"Vast.otto",null,null,null,null,null,"Vast.otto-hyökkäys",null,null,null,null,null,"Jatko-hyökkäys",null,null,null,null,null,"Aloitus",null,null,null,null,null,"Torjunta",null,null,"Puol",null,"Tv"]
["Nro","Sukunimi","Etunimi",1,2,3,4,"P","M",1,2,"To",3,"P","M",1,2,"To",3,"P","M",1,2,3,4,"P","M",1,2,null,1,null,1]
[{"$f":"'Ti1'!A8","v":1},{"$f":"'Ti1'!B8","v":"libero"},{"$f":"'Ti1'!C8","v":0},{"$f":"D7+'Ti2'!D8-'Ti2'!H8","v":0},{"$f":"E7+'Ti2'!E8-'Ti2'!I8","v":0},{"$f":"F7+'Ti2'!F8-'Ti2'!J8","v":0},{"$f":"G7+'Ti2'!G8-'Ti2'!K8","v":0},{"$f":"(D7+E7)/(D7+E7+F7+G7)*100","v":{"$error":"#DIV/0!"}},{"$f":"G7/(D7+E7+F7+G7)*100","v":{"$error":"#DIV/0!"}},{"$f":"J7+'Ti2'!N8-'Ti2'!R8","v":0},{"$f":"K7+'Ti2'!O8-'Ti2'!S8","v":0},{"$f":"L7+'Ti2'!P8-'Ti2'!T8","v":0},{"$f":"M7+'Ti2'!Q8-'Ti2'!U8","v":0},{"$f":"J7/(J7+K7+L7+M7)*100","v":{"$error":"#DIV/0!"}},{"$f":"(L7+M7)/(J7+K7+L7+M7)*100","v":{"$error":"#DIV/0!"}},{"$f":"P7+'Ti2'!X8-'Ti2'!AB8","v":0},{"$f":"Q7+'Ti2'!Y8-'Ti2'!AC8","v":0},{"$f":"R7+'Ti2'!Z8-'Ti2'!AD8","v":0},{"$f":"S7+'Ti2'!AA8-'Ti2'!AE8","v":0},{"$f":"P7/(P7+Q7+R7+S7)*100","v":{"$error":"#DIV/0!"}},{"$f":"(R7+S7)/(P7+Q7+S7)*100","v":{"$error":"#DIV/0!"}},{"$f":"V7+'Ti2'!AH8-'Ti2'!AL8","v":0},{"$f":"W7+'Ti2'!AI8-'Ti2'!AM8","v":0},{"$f":"X7+'Ti2'!AJ8-'Ti2'!AN8","v":0},{"$f":"Y7+'Ti2'!AK8-'Ti2'!AO8","v":0},{"$f":"(V7+W7)/(V7+W7+X7+Y7)*100","v":{"$error":"#DIV/0!"}},{"$f":"Y7/(V7+W7+X7+Y7)*100","v":{"$error":"#DIV/0!"}},{"$f":"AB7+'Ti2'!AR8-'Ti2'!AT8","v":0},{"$f":"AC7+'Ti2'!AS8-'Ti2'!AU8","v":0},null,{"$f":"AE7+'Ti2'!AW8-'Ti2'!AX8","v":0},null,{"$f":"AG7+'Ti2'!AZ8-'Ti2'!BA8","v":0}]
[{"$f":"'Ti1'!A9","v":2},{"$f":"'Ti1'!B9","v":"yp"},{"$f":"'Ti1'!C9","v":0},{"$f":"D8+'Ti2'!D9-'Ti2'!H9","v":0},{"$f":"E8+'Ti2'!E9-'Ti2'!I9","v":0},{"$f":"F8+'Ti2'!F9-'Ti2'!J9","v":0},{"$f":"G8+'Ti2'!G9-'Ti2'!K9","v":0},{"$f":"(D8+E8)/(D8+E8+F8+G8)*100","v":{"$error":"#DIV/0!"}},{"$f":"G8/(D8+E8+F8+G8)*100","v":{"$error":"#DIV/0!"}},{"$f":"J8+'Ti2'!N9-'Ti2'!R9","v":0},{"$f":"K8+'Ti2'!O9-'Ti2'!S9","v":0},{"$f":"L8+'Ti2'!P9-'Ti2'!T9","v":0},{"$f":"M8+'Ti2'!Q9-'Ti2'!U9","v":0},{"$f":"J8/(J8+K8+L8+M8)*100","v":{"$error":"#DIV/0!"}},{"$f":"(L8+M8)/(J8+K8+L8+M8)*100","v":{"$error":"#DIV/0!"}},{"$f":"P8+'Ti2'!X9-'Ti2'!AB9","v":0},{"$f":"Q8+'Ti2'!Y9-'Ti2'!AC9","v":0},{"$f":"R8+'Ti2'!Z9-'Ti2'!AD9","v":0},{"$f":"S8+'Ti2'!AA9-'Ti2'!AE9","v":0},{"$f":"P8/(P8+Q8+R8+S8)*100","v":{"$error":"#DIV/0!"}},{"$f":"(R8+S8)/(P8+Q8+S8)*100","v":{"$error":"#DIV/0!"}},{"$f":"V8+'Ti2'!AH9-'Ti2'!AL9","v":0},{"$f":"W8+'Ti2'!AI9-'Ti2'!AM9","v":0},{"$f":"X8+'Ti2'!AJ9-'Ti2'!AN9","v":0},{"$f":"Y8+'Ti2'!AK9-'Ti2'!AO9","v":0},{"$f":"(V8+W8)/(V8+W8+X8+Y8)*100","v":{"$error":"#DIV/0!"}},{"$f":"Y8/(V8+W8+X8+Y8)*100","v":{"$error":"#DIV/0!"}},{"$f":"AB8+'Ti2'!AR9-'Ti2'!AT9","v":0},{"$f":"AC8+'Ti2'!AS9-'Ti2'!AU9","v":0},null,{"$f":"AE8+'Ti2'!AW9-'Ti2'!AX9","v":0},null,{"$f":"AG8+'Ti2'!AZ9-'Ti2'!BA9","v":0}]
[{"$f":"'Ti1'!A10","v":3},{"$f":"'Ti1'!B10","v":"yp"},{"$f":"'Ti1'!C10","v":0},{"$f":"D9+'Ti2'!D10-'Ti2'!H10","v":0},{"$f":"E9+'Ti2'!E10-'Ti2'!I10","v":0},{"$f":"F9+'Ti2'!F10-'Ti2'!J10","v":0},{"$f":"G9+'Ti2'!G10-'Ti2'!K10","v":0},{"$error":"#DIV/0!"},{"$error":"#DIV/0!"},{"$f":"J9+'Ti2'!N10-'Ti2'!R10","v":0},{"$f":"K9+'Ti2'!O10-'Ti2'!S10","v":0},{"$f":"L9+'Ti2'!P10-'Ti2'!T10","v":0},{"$f":"M9+'Ti2'!Q10-'Ti2'!U10","v":0},{"$error":"#DIV/0!"},{"$error":"#DIV/0!"},{"$f":"P9+'Ti2'!X10-'Ti2'!AB10","v":0},{"$f":"Q9+'Ti2'!Y10-'Ti2'!AC10","v":0},{"$f":"R9+'Ti2'!Z10-'Ti2'!AD10","v":0},{"$f":"S9+'Ti2'!AA10-'Ti2'!AE10","v":0},{"$error":"#DIV/0!"},{"$error":"#DIV/0!"},{"$f":"V9+'Ti2'!AH10-'Ti2'!AL10","v":0},{"$f":"W9+'Ti2'!AI10-'Ti2'!AM10","v":0},{"$f":"X9+'Ti2'!AJ10-'Ti2'!AN10","v":0},{"$f":"Y9+'Ti2'!AK10-'Ti2'!AO10","v":0},{"$error":"#DIV/0!"},{"$error":"#DIV/0!"},{"$f":"AB9+'Ti2'!AR10-'Ti2'!AT10","v":0},{"$f":"AC9+'Ti2'!AS10-'Ti2'!AU10","v":0},null,{"$f":"AE9+'Ti2'!AW10-'Ti2'!AX10","v":0},null,{"$f":"AG9+'Ti2'!AZ10-'Ti2'!BA10","v":0}]
[{"$f":"'Ti1'!A11","v":4},{"$f":"'Ti1'!B11","v":"yp"},{"$f":"'Ti1'!C11","v":0},{"$f":"D10+'Ti2'!D11-'Ti2'!H11","v":0},{"$f":"E10+'Ti2'!E11-'Ti2'!I11","v":0},{"$f":"F10+'Ti2'!F11-'Ti2'!J11","v":0},{"$f":"G10+'Ti2'!G11-'Ti2'!K11","v":0},{"$error":"#DIV/0!"},{"$error":"#DIV/0!"},{"$f":"J10+'Ti2'!N11-'Ti2'!R11","v":0},{"$f":"K10+'Ti2'!O11-'Ti2'!S11","v":0},{"$f":"L10+'Ti2'!P11-'Ti2'!T11","v":0},{"$f":"M10+'Ti2'!Q11-'Ti2'!U11","v":0},{"$error":"#DIV/0!"},{"$error":"#DIV/0!"},{"$f":"P10+'Ti2'!X11-'Ti2'!AB11","v":0},{"$f":"Q10+'Ti2'!Y11-'Ti2'!AC11","v":0},{"$f":"R10+'Ti2'!Z11-'Ti2'!AD11","v":0},{"$f":"S10+'Ti2'!AA11-'Ti2'!AE11","v":0},{"$error":"#DIV/0!"},{"$error":"#DIV/0!"},{"$f":"V10+'Ti2'!AH11-'Ti2'!AL11","v":0},{"$f":"W10+'Ti2'!AI11-'Ti2'!AM11","v":0},{"$f":"X10+'Ti2'!AJ11-'Ti2'!AN11","v":0},{"$f":"Y10+'Ti2'!AK11-'Ti2'!AO11","v":0},{"$error":"#DIV/0!"},{"$error":"#DIV/0!"},{"$f":"AB10+'Ti2'!AR11-'Ti2'!AT11","v":0},{"$f":"AC10+'Ti2'!AS11-'Ti2'!AU11","v":0},null,{"$f":"AE10+'Ti2'!AW11-'Ti2'!AX11","v":0},null,{"$f":"AG10+'Ti2'!AZ11-'Ti2'!BA11","v":0}]
[{"$f":"'Ti1'!A12","v":5},{"$f":"'Ti1'!B12","v":"yp"},{"$f":"'Ti1'!C12","v":0},{"$f":"D11+'Ti2'!D12-'Ti2'!H12","v":0},{"$f":"E11+'Ti2'!E12-'Ti2'!I12","v":0},{"$f":"F11+'Ti2'!F12-'Ti2'!J12","v":0},{"$f":"G11+'Ti2'!G12-'Ti2'!K12","v":0},{"$error":"#DIV/0!"},{"$error":"#DIV/0!"},{"$f":"J11+'Ti2'!N12-'Ti2'!R12","v":0},{"$f":"K11+'Ti2'!O12-'Ti2'!S12","v":0},{"$f":"L11+'Ti2'!P12-'Ti2'!T12","v":0},{"$f":"M11+'Ti2'!Q12-'Ti2'!U12","v":0},{"$error":"#DIV/0!"},{"$error":"#DIV/0!"},{"$f":"P11+'Ti2'!X12-'Ti2'!AB12","v":0},{"$f":"Q11+'Ti2'!Y12-'Ti2'!AC12","v":0},{"$f":"R11+'Ti2'!Z12-'Ti2'!AD12","v":0},{"$f":"S11+'Ti2'!AA12-'Ti2'!AE12","v":0},{"$error":"#DIV/0!"},{"$error":"#DIV/0!"},{"$f":"V11+'Ti2'!AH12-'Ti2'!AL12","v":0},{"$f":"W11+'Ti2'!AI12-'Ti2'!AM12","v":0},{"$f":"X11+'Ti2'!AJ12-'Ti2'!AN12","v":0},{"$f":"Y11+'Ti2'!AK12-'Ti2'!AO12","v":0},{"$error":"#DIV/0!"},{"$error":"#DIV/0!"},{"$f":"AB11+'Ti2'!AR12-'Ti2'!AT12","v":0},{"$f":"AC11+'Ti2'!AS12-'Ti2'!AU12","v":0},null,{"$f":"AE11+'Ti2'!AW12-'Ti2'!AX12","v":0},null,{"$f":"AG11+'Ti2'!AZ12-'Ti2'!BA12","v":0}]
[{"$f":"'Ti1'!A13","v":6},{"$f":"'Ti1'!B13","v":"h"},{"$f":"'Ti1'!C13","v":0},{"$f":"D12+'Ti2'!D13-'Ti2'!H13","v":0},{"$f":"E12+'Ti2'!E13-'Ti2'!I13","v":0},{"$f":"F12+'Ti2'!F13-'Ti2'!J13","v":0},{"$f":"G12+'Ti2'!G13-'Ti2'!K13","v":0},{"$error":"#DIV/0!"},{"$error":"#DIV/0!"},{"$f":"J12+'Ti2'!N13-'Ti2'!R13","v":0},{"$f":"K12+'Ti2'!O13-'Ti2'!S13","v":0},{"$f":"L12+'Ti2'!P13-'Ti2'!T13","v":0},{"$f":"M12+'Ti2'!Q13-'Ti2'!U13","v":0},{"$error":"#DIV/0!"},{"$error":"#DIV/0!"},{"$f":"P12+'Ti2'!X13-'Ti2'!AB13","v":0},{"$f":"Q12+'Ti2'!Y13-'Ti2'!AC13","v":0},{"$f":"R12+'Ti2'!Z13-'Ti2'!AD13","v":0},{"$f":"S12+'Ti2'!AA13-'Ti2'!AE13","v":0},{"$error":"#DIV/0!"},{"$error":"#DIV/0!"},{"$f":"V12+'Ti2'!AH13-'Ti2'!AL13","v":0},{"$f":"W12+'Ti2'!AI13-'Ti2'!AM13","v":0},{"$f":"X12+'Ti2'!AJ13-'Ti2'!AN13","v":0},{"$f":"Y12+'Ti2'!AK13-'Ti2'!AO13","v":0},{"$error":"#DIV/0!"},{"$error":"#DIV/0!"},{"$f":"AB12+'Ti2'!AR13-'Ti2'!AT13","v":0},{"$f":"AC12+'Ti2'!AS13-'Ti2'!AU13","v":0},null,{"$f":"AE12+'Ti2'!AW13-'Ti2'!AX13","v":0},null,{"$f":"AG12+'Ti2'!AZ13-'Ti2'!BA13","v":0}]
[{"$f":"'Ti1'!A14","v":7},{"$f":"'Ti1'!B14","v":"h"},{"$f":"'Ti1'!C14","v":0},{"$f":"D13+'Ti2'!D14-'Ti2'!H14","v":0},{"$f":"E13+'Ti2'!E14-'Ti2'!I14","v":0},{"$f":"F13+'Ti2'!F14-'Ti2'!J14","v":0},{"$f":"G13+'Ti2'!G14-'Ti2'!K14","v":0},{"$error":"#DIV/0!"},{"$error":"#DIV/0!"},{"$f":"J13+'Ti2'!N14-'Ti2'!R14","v":0},{"$f":"K13+'Ti2'!O14-'Ti2'!S14","v":0},{"$f":"L13+'Ti2'!P14-'Ti2'!T14","v":0},{"$f":"M13+'Ti2'!Q14-'Ti2'!U14","v":0},{"$error":"#DIV/0!"},{"$error":"#DIV/0!"},{"$f":"P13+'Ti2'!X14-'Ti2'!AB14","v":0},{"$f":"Q13+'Ti2'!Y14-'Ti2'!AC14","v":0},{"$f":"R13+'Ti2'!Z14-'Ti2'!AD14","v":0},{"$f":"S13+'Ti2'!AA14-'Ti2'!AE14","v":0},{"$error":"#DIV/0!"},{"$error":"#DIV/0!"},{"$f":"V13+'Ti2'!AH14-'Ti2'!AL14","v":0},{"$f":"W13+'Ti2'!AI14-'Ti2'!AM14","v":0},{"$f":"X13+'Ti2'!AJ14-'Ti2'!AN14","v":0},{"$f":"Y13+'Ti2'!AK14-'Ti2'!AO14","v":0},{"$error":"#DIV/0!"},{"$error":"#DIV/0!"},{"$f":"AB13+'Ti2'!AR14-'Ti2'!AT14","v":0},{"$f":"AC13+'Ti2'!AS14-'Ti2'!AU14","v":0},null,{"$f":"AE13+'Ti2'!AW14-'Ti2'!AX14","v":0},null,{"$f":"AG13+'Ti2'!AZ14-'Ti2'!BA14","v":0}]
[{"$f":"'Ti1'!A15","v":8},{"$f":"'Ti1'!B15","v":"kt"},{"$f":"'Ti1'!C15","v":0},{"$f":"D14+'Ti2'!D15-'Ti2'!H15","v":0},{"$f":"E14+'Ti2'!E15-'Ti2'!I15","v":0},{"$f":"F14+'Ti2'!F15-'Ti2'!J15","v":0},{"$f":"G14+'Ti2'!G15-'Ti2'!K15","v":0},{"$error":"#DIV/0!"},{"$error":"#DIV/0!"},{"$f":"J14+'Ti2'!N15-'Ti2'!R15","v":0},{"$f":"K14+'Ti2'!O15-'Ti2'!S15","v":0},{"$f":"L14+'Ti2'!P15-'Ti2'!T15","v":0},{"$f":"M14+'Ti2'!Q15-'Ti2'!U15","v":0},{"$error":"#DIV/0!"},{"$error":"#DIV/0!"},{"$f":"P14+'Ti2'!X15-'Ti2'!AB15","v":0},{"$f":"Q14+'Ti2'!Y15-'Ti2'!AC15","v":0},{"$f":"R14+'Ti2'!Z15-'Ti2'!AD15","v":0},{"$f":"S14+'Ti2'!AA15-'Ti2'!AE15","v":0},{"$error":"#DIV/0!"},{"$error":"#DIV/0!"},{"$f":"V14+'Ti2'!AH15-'Ti2'!AL15","v":0},{"$f":"W14+'Ti2'!AI15-'Ti2'!AM15","v":0},{"$f":"X14+'Ti2'!AJ15-'Ti2'!AN15","v":0},{"$f":"Y14+'Ti2'!AK15-'Ti2'!AO15","v":0},{"$error":"#DIV/0!"},{"$error":"#DIV/0!"},{"$f":"AB14+'Ti2'!AR15-'Ti2'!AT15","v":0},{"$f":"AC14+'Ti2'!AS15-'Ti2'!AU15","v":0},null,{"$f":"AE14+'Ti2'!AW15-'Ti2'!AX15","v":0},null,{"$f":"AG14+'Ti2'!AZ15-'Ti2'!BA15","v":0}]
[{"$f":"'Ti1'!A16","v":9},{"$f":"'Ti1'!B16","v":"kt"},{"$f":"'Ti1'!C16","v":0},{"$f":"D15+'Ti2'!D16-'Ti2'!H16","v":0},{"$f":"E15+'Ti2'!E16-'Ti2'!I16","v":0},{"$f":"F15+'Ti2'!F16-'Ti2'!J16","v":0},{"$f":"G15+'Ti2'!G16-'Ti2'!K16","v":0},{"$error":"#DIV/0!"},{"$error":"#DIV/0!"},{"$f":"J15+'Ti2'!N16-'Ti2'!R16","v":0},{"$f":"K15+'Ti2'!O16-'Ti2'!S16","v":0},{"$f":"L15+'Ti2'!P16-'Ti2'!T16","v":0},{"$f":"M15+'Ti2'!Q16-'Ti2'!U16","v":0},{"$error":"#DIV/0!"},{"$error":"#DIV/0!"},{"$f":"P15+'Ti2'!X16-'Ti2'!AB16","v":0},{"$f":"Q15+'Ti2'!Y16-'Ti2'!AC16","v":0},{"$f":"R15+'Ti2'!Z16-'Ti2'!AD16","v":0},{"$f":"S15+'Ti2'!AA16-'Ti2'!AE16","v":0},{"$error":"#DIV/0!"},{"$error":"#DIV/0!"},{"$f":"V15+'Ti2'!AH16-'Ti2'!AL16","v":0},{"$f":"W15+'Ti2'!AI16-'Ti2'!AM16","v":0},{"$f":"X15+'Ti2'!AJ16-'Ti2'!AN16","v":0},{"$f":"Y15+'Ti2'!AK16-'Ti2'!AO16","v":0},{"$error":"#DIV/0!"},{"$error":"#DIV/0!"},{"$f":"AB15+'Ti2'!AR16-'Ti2'!AT16","v":0},{"$f":"AC15+'Ti2'!AS16-'Ti2'!AU16","v":0},null,{"$f":"AE15+'Ti2'!AW16-'Ti2'!AX16","v":0},null,{"$f":"AG15+'Ti2'!AZ16-'Ti2'!BA16","v":0}]
[{"$f":"'Ti1'!A17","v":10},{"$f":"'Ti1'!B17","v":"kt"},{"$f":"'Ti1'!C17","v":0},{"$f":"D16+'Ti2'!D17-'Ti2'!H17","v":0},{"$f":"E16+'Ti2'!E17-'Ti2'!I17","v":0},{"$f":"F16+'Ti2'!F17-'Ti2'!J17","v":0},{"$f":"G16+'Ti2'!G17-'Ti2'!K17","v":0},{"$error":"#DIV/0!"},{"$error":"#DIV/0!"},{"$f":"J16+'Ti2'!N17-'Ti2'!R17","v":0},{"$f":"K16+'Ti2'!O17-'Ti2'!S17","v":0},{"$f":"L16+'Ti2'!P17-'Ti2'!T17","v":0},{"$f":"M16+'Ti2'!Q17-'Ti2'!U17","v":0},{"$error":"#DIV/0!"},{"$error":"#DIV/0!"},{"$f":"P16+'Ti2'!X17-'Ti2'!AB17","v":0},{"$f":"Q16+'Ti2'!Y17-'Ti2'!AC17","v":0},{"$f":"R16+'Ti2'!Z17-'Ti2'!AD17","v":0},{"$f":"S16+'Ti2'!AA17-'Ti2'!AE17","v":0},{"$error":"#DIV/0!"},{"$error":"#DIV/0!"},{"$f":"V16+'Ti2'!AH17-'Ti2'!AL17","v":0},{"$f":"W16+'Ti2'!AI17-'Ti2'!AM17","v":0},{"$f":"X16+'Ti2'!AJ17-'Ti2'!AN17","v":0},{"$f":"Y16+'Ti2'!AK17-'Ti2'!AO17","v":0},{"$error":"#DIV/0!"},{"$error":"#DIV/0!"},{"$f":"AB16+'Ti2'!AR17-'Ti2'!AT17","v":0},{"$f":"AC16+'Ti2'!AS17-'Ti2'!AU17","v":0},null,{"$f":"AE16+'Ti2'!AW17-'Ti2'!AX17","v":0},null,{"$f":"AG16+'Ti2'!AZ17-'Ti2'!BA17","v":0}]
[{"$f":"'Ti1'!A18","v":11},{"$f":"'Ti1'!B18","v":"p"},{"$f":"'Ti1'!C18","v":0},{"$f":"D17+'Ti2'!D18-'Ti2'!H18","v":0},{"$f":"E17+'Ti2'!E18-'Ti2'!I18","v":0},{"$f":"F17+'Ti2'!F18-'Ti2'!J18","v":0},{"$f":"G17+'Ti2'!G18-'Ti2'!K18","v":0},{"$error":"#DIV/0!"},{"$error":"#DIV/0!"},{"$f":"J17+'Ti2'!N18-'Ti2'!R18","v":0},{"$f":"K17+'Ti2'!O18-'Ti2'!S18","v":0},{"$f":"L17+'Ti2'!P18-'Ti2'!T18","v":0},{"$f":"M17+'Ti2'!Q18-'Ti2'!U18","v":0},{"$error":"#DIV/0!"},{"$error":"#DIV/0!"},{"$f":"P17+'Ti2'!X18-'Ti2'!AB18","v":0},{"$f":"Q17+'Ti2'!Y18-'Ti2'!AC18","v":0},{"$f":"R17+'Ti2'!Z18-'Ti2'!AD18","v":0},{"$f":"S17+'Ti2'!AA18-'Ti2'!AE18","v":0},{"$error":"#DIV/0!"},{"$error":"#DIV/0!"},{"$f":"V17+'Ti2'!AH18-'Ti2'!AL18","v":0},{"$f":"W17+'Ti2'!AI18-'Ti2'!AM18","v":0},{"$f":"X17+'Ti2'!AJ18-'Ti2'!AN18","v":0},{"$f":"Y17+'Ti2'!AK18-'Ti2'!AO18","v":0},{"$error":"#DIV/0!"},{"$error":"#DIV/0!"},{"$f":"AB17+'Ti2'!AR18-'Ti2'!AT18","v":0},{"$f":"AC17+'Ti2'!AS18-'Ti2'!AU18","v":0},null,{"$f":"AE17+'Ti2'!AW18-'Ti2'!AX18","v":0},null,{"$f":"AG17+'Ti2'!AZ18-'Ti2'!BA18","v":0}]
[{"$f":"'Ti1'!A19","v":12},{"$f":"'Ti1'!B19","v":"p"},{"$f":"'Ti1'!C19","v":0},{"$f":"D18+'Ti2'!D19-'Ti2'!H19","v":0},{"$f":"E18+'Ti2'!E19-'Ti2'!I19","v":0},{"$f":"F18+'Ti2'!F19-'Ti2'!J19","v":0},{"$f":"G18+'Ti2'!G19-'Ti2'!K19","v":0},{"$error":"#DIV/0!"},{"$error":"#DIV/0!"},{"$f":"J18+'Ti2'!N19-'Ti2'!R19","v":0},{"$f":"K18+'Ti2'!O19-'Ti2'!S19","v":0},{"$f":"L18+'Ti2'!P19-'Ti2'!T19","v":0},{"$f":"M18+'Ti2'!Q19-'Ti2'!U19","v":0},{"$error":"#DIV/0!"},{"$error":"#DIV/0!"},{"$f":"P18+'Ti2'!X19-'Ti2'!AB19","v":0},{"$f":"Q18+'Ti2'!Y19-'Ti2'!AC19","v":0},{"$f":"R18+'Ti2'!Z19-'Ti2'!AD19","v":0},{"$f":"S18+'Ti2'!AA19-'Ti2'!AE19","v":0},{"$error":"#DIV/0!"},{"$error":"#DIV/0!"},{"$f":"V18+'Ti2'!AH19-'Ti2'!AL19","v":0},{"$f":"W18+'Ti2'!AI19-'Ti2'!AM19","v":0},{"$f":"X18+'Ti2'!AJ19-'Ti2'!AN19","v":0},{"$f":"Y18+'Ti2'!AK19-'Ti2'!AO19","v":0},{"$error":"#DIV/0!"},{"$error":"#DIV/0!"},{"$f":"AB18+'Ti2'!AR19-'Ti2'!AT19","v":0},{"$f":"AC18+'Ti2'!AS19-'Ti2'!AU19","v":0},null,{"$f":"AE18+'Ti2'!AW19-'Ti2'!AX19","v":0},null,{"$f":"AG18+'Ti2'!AZ19-'Ti2'!BA19","v":0}]
[{"$f":"'Ti1'!A20","v":0},{"$f":"'Ti1'!B20","v":0},{"$f":"'Ti1'!C20","v":0},{"$f":"D19+'Ti2'!D20-'Ti2'!H20","v":0},{"$f":"E19+'Ti2'!E20-'Ti2'!I20","v":0},{"$f":"F19+'Ti2'!F20-'Ti2'!J20","v":0},{"$f":"G19+'Ti2'!G20-'Ti2'!K20","v":0},{"$error":"#DIV/0!"},{"$error":"#DIV/0!"},{"$f":"J19+'Ti2'!N20-'Ti2'!R20","v":0},{"$f":"K19+'Ti2'!O20-'Ti2'!S20","v":0},{"$f":"L19+'Ti2'!P20-'Ti2'!T20","v":0},{"$f":"M19+'Ti2'!Q20-'Ti2'!U20","v":0},{"$error":"#DIV/0!"},{"$error":"#DIV/0!"},{"$f":"P19+'Ti2'!X20-'Ti2'!AB20","v":0},{"$f":"Q19+'Ti2'!Y20-'Ti2'!AC20","v":0},{"$f":"R19+'Ti2'!Z20-'Ti2'!AD20","v":0},{"$f":"S19+'Ti2'!AA20-'Ti2'!AE20","v":0},{"$error":"#DIV/0!"},{"$error":"#DIV/0!"},{"$f":"V19+'Ti2'!AH20-'Ti2'!AL20","v":0},{"$f":"W19+'Ti2'!AI20-'Ti2'!AM20","v":0},{"$f":"X19+'Ti2'!AJ20-'Ti2'!AN20","v":0},{"$f":"Y19+'Ti2'!AK20-'Ti2'!AO20","v":0},{"$error":"#DIV/0!"},{"$error":"#DIV/0!"},{"$f":"AB19+'Ti2'!AR20-'Ti2'!AT20","v":0},{"$f":"AC19+'Ti2'!AS20-'Ti2'!AU20","v":0},null,{"$f":"AE19+'Ti2'!AW20-'Ti2'!AX20","v":0},null,{"$f":"AG19+'Ti2'!AZ20-'Ti2'!BA20","v":0}]
[{"$f":"'Ti1'!A21","v":0},{"$f":"'Ti1'!B21","v":0},{"$f":"'Ti1'!C21","v":0},{"$f":"D20+'Ti2'!D21-'Ti2'!H21","v":0},{"$f":"E20+'Ti2'!E21-'Ti2'!I21","v":0},{"$f":"F20+'Ti2'!F21-'Ti2'!J21","v":0},{"$f":"G20+'Ti2'!G21-'Ti2'!K21","v":0},{"$error":"#DIV/0!"},{"$error":"#DIV/0!"},{"$f":"J20+'Ti2'!N21-'Ti2'!R21","v":0},{"$f":"K20+'Ti2'!O21-'Ti2'!S21","v":0},{"$f":"L20+'Ti2'!P21-'Ti2'!T21","v":0},{"$f":"M20+'Ti2'!Q21-'Ti2'!U21","v":0},{"$error":"#DIV/0!"},{"$error":"#DIV/0!"},{"$f":"P20+'Ti2'!X21-'Ti2'!AB21","v":0},{"$f":"Q20+'Ti2'!Y21-'Ti2'!AC21","v":0},{"$f":"R20+'Ti2'!Z21-'Ti2'!AD21","v":0},{"$f":"S20+'Ti2'!AA21-'Ti2'!AE21","v":0},{"$error":"#DIV/0!"},{"$error":"#DIV/0!"},{"$f":"V20+'Ti2'!AH21-'Ti2'!AL21","v":0},{"$f":"W20+'Ti2'!AI21-'Ti2'!AM21","v":0},{"$f":"X20+'Ti2'!AJ21-'Ti2'!AN21","v":0},{"$f":"Y20+'Ti2'!AK21-'Ti2'!AO21","v":0},{"$error":"#DIV/0!"},{"$error":"#DIV/0!"},{"$f":"AB20+'Ti2'!AR21-'Ti2'!AT21","v":0},{"$f":"AC20+'Ti2'!AS21-'Ti2'!AU21","v":0},null,{"$f":"AE20+'Ti2'!AW21-'Ti2'!AX21","v":0},null,{"$f":"AG20+'Ti2'!AZ21-'Ti2'!BA21","v":0}]
[null,"Joukkue","Yhteen",{"$f":"SUM(D7:D20)","v":0},{"$f":"SUM(E7:E20)","v":0},{"$f":"SUM(F7:F20)","v":0},{"$f":"SUM(G7:G20)","v":0},{"$f":"(D21+E21)/(D21+E21+F21+G21)*100","v":{"$error":"#DIV/0!"}},{"$f":"G21/(D21+E21+F21+G21)*100","v":{"$error":"#DIV/0!"}},{"$f":"SUM(J7:J20)","v":0},{"$f":"SUM(K7:K20)","v":0},{"$f":"SUM(L7:L20)","v":0},{"$f":"SUM(M7:M20)","v":0},{"$error":"#DIV/0!"},{"$error":"#DIV/0!"},{"$f":"SUM(P7:P20)","v":0},{"$f":"SUM(Q7:Q20)","v":0},{"$f":"SUM(R7:R20)","v":0},{"$f":"SUM(S7:S20)","v":0},{"$error":"#DIV/0!"},{"$error":"#DIV/0!"},{"$f":"SUM(V7:V20)","v":0},{"$f":"SUM(W7:W20)","v":0},{"$f":"SUM(X7:X20)","v":0},{"$f":"SUM(Y7:Y20)","v":0},{"$f":"(V21+W21)/(V21+W21+X21+Y21)*100","v":{"$error":"#DIV/0!"}},{"$f":"Y21/(V21+W21+X21+Y21)*100","v":{"$error":"#DIV/0!"}},{"$f":"SUM(AB7:AB20)","v":0},{"$f":"SUM(AC7:AC20)","v":0},null,{"$f":"SUM(AE7:AE20)","v":0},null,{"$f":"SUM(AG7:AG20)","v":0}]
[]
[null,"Joukkuetilasto","ottelussa",{"$f":"omayhte!D21","v":0},{"$f":"omayhte!E21","v":0},{"$f":"omayhte!F21","v":0},{"$f":"omayhte!G21","v":0},{"$f":"omayhte!H21","v":{"$error":"#DIV/0!"}},{"$f":"omayhte!I21","v":{"$error":"#DIV/0!"}},{"$f":"omayhte!J21","v":0},{"$f":"omayhte!K21","v":0},{"$f":"omayhte!L21","v":0},{"$f":"omayhte!M21","v":0},{"$f":"omayhte!N21","v":{"$error":"#DIV/0!"}},{"$f":"omayhte!O21","v":{"$error":"#DIV/0!"}},{"$f":"omayhte!P21","v":0},{"$f":"omayhte!Q21","v":0},{"$f":"omayhte!R21","v":0},{"$f":"omayhte!S21","v":0},{"$f":"omayhte!T21","v":{"$error":"#DIV/0!"}},{"$f":"omayhte!U21","v":{"$error":"#DIV/0!"}},{"$f":"omayhte!V21","v":0},{"$f":"omayhte!W21","v":0},{"$f":"omayhte!X21","v":0},{"$f":"omayhte!Y21","v":0},{"$f":"omayhte!Z21","v":{"$error":"#DIV/0!"}},{"$f":"omayhte!AA21","v":{"$error":"#DIV/0!"}},{"$f":"omayhte!AB21","v":0},{"$f":"omayhte!AC21","v":0},{"$f":"omayhte!AD21","v":0},{"$f":"omayhte!AE21","v":0},{"$f":"omayhte!AF26","v":0},{"$f":"omayhte!AG26","v":0}]
[]
[null,"Joukkue","Yhteen",{"$f":"SUM(D27:D40)","v":0},{"$f":"SUM(E27:E40)","v":0},0,0,0,0,{"$f":"SUM(J27:J40)","v":0},{"$f":"SUM(K27:K40)","v":0},0]
["Nro","Sukunimi","Etunimi","V","H","S","T","Hä","VO","H","Al","Tv","PM",null,{"$f":"SUM(J21:M21)","v":0},"VO-hyökkäystä joista…",null,null,null,null,{"$f":"SUM(P21:S21)","v":0},"Jatko-hyökkäystä joista…",null,null,null,null,"Vastaanoton jakautuminen"]
[{"$f":"'Ti1'!A8","v":1},{"$f":"'Ti1'!B8","v":"libero"},{"$f":"'Ti1'!C8","v":0},{"$f":"J7+V7+AB7+P7","v":0},{"$f":"J7+P7","v":0},{"$f":"V7","v":0},{"$f":"AB7","v":0},{"$f":"G7+M7+Y7+S7+L7+R7+AG7","v":0},{"$f":"G7","v":0},{"$f":"M7+S7+R7+L7","v":0},{"$f":"Y7","v":0},{"$f":"AG7","v":0},{"$f":"D27-H27","v":0},null,{"$f":"(SUM(J14:M16)/O26)*100","v":{"$error":"#DIV/0!"}},"%:ia ykköshyök.",null,null,{"$f":"(SUM(J14:J16)/SUM(J14:M16)*100)","v":{"$error":"#DIV/0!"}},null,{"$f":"(SUM(P14:S16)/U26)*100","v":{"$error":"#DIV/0!"}},"%:ia ykköshyök.",null,null,{"$f":"(SUM(P14:P16)/SUM(P14:S16)*100)","v":{"$error":"#DIV/0!"}},null,{"$f":"(E7+F7+G7+D7)/(E21+F21+G21+D21)*100","v":{"$error":"#DIV/0!"}},"%:ia liberolle",null,"+","+",{"$f":"AVERAGE(H8)","v":{"$error":"#DIV/0!"}},{"$f":"AVERAGE(H7)","v":{"$error":"#DIV/0!"}}]
[{"$f":"'Ti1'!A9","v":2},{"$f":"'Ti1'!B9","v":"yp"},{"$f":"'Ti1'!C9","v":0},{"$f":"J8+V8+AB8+P8","v":0},{"$f":"J8+P8","v":0},{"$f":"V8","v":0},{"$f":"AB8","v":0},{"$f":"G8+M8+Y8+S8+L8+R8+AG8","v":0},{"$f":"G8","v":0},{"$f":"M8+S8+R8+L8","v":0},{"$f":"Y8","v":0},{"$f":"AG8","v":0},{"$f":"D28-H28","v":0},null,{"$f":"(SUM(J12:M13)/O26)*100","v":{"$error":"#DIV/0!"}},"%:ia hakkurille",null,null,{"$f":"(SUM(J12:J13)/SUM(J12:M13)*100)","v":{"$error":"#DIV/0!"}},null,{"$f":"(SUM(P12:S13)/U26)*100","v":{"$error":"#DIV/0!"}},"%:ia hakkurille",null,null,{"$f":"(SUM(P12:P13)/SUM(P12:S13)*100)","v":{"$error":"#DIV/0!"}},null,{"$f":"100-AA27","v":{"$error":"#DIV/0!"}},"%:ia muille",null,"+","+",{"$f":"(SUM(D9:E18)/SUM(D9:G18))*100","v":{"$error":"#DIV/0!"}},{"$f":"(SUM(D8:E18)/SUM(D8:G18))*100","v":{"$error":"#DIV/0!"}}]
[{"$f":"'Ti1'!A10","v":3},{"$f":"'Ti1'!B10","v":"yp"},{"$f":"'Ti1'!C10","v":0},0,0,0,0,0,0,0,0,0,0,null,{"$f":"(SUM(J8:M11)/O26)*100","v":{"$error":"#DIV/0!"}},"%:ia laitureille",null,null,{"$f":"(SUM(J8:J11)/SUM(J8:M11)*100)","v":{"$error":"#DIV/0!"}},null,{"$f":"(SUM(P8:S11)/U26)*100","v":{"$error":"#DIV/0!"}},"%:ia laitureille",null,null,{"$f":"(SUM(P8:P11)/SUM(P8:S11)*100)","v":{"$error":"#DIV/0!"}}]
[{"$f":"'Ti1'!A11","v":4},{"$f":"'Ti1'!B11","v":"yp"},{"$f":"'Ti1'!C11","v":0},0,0,0,0,0,0,0,0,0,0,null,{"$f":"(SUM(J17:M18)/O26)*100","v":{"$error":"#DIV/0!"}},"%:ia passari",null,null,{"$f":"(SUM(J17:J18)/SUM(J17:M18)*100)","v":{"$error":"#DIV/0!"}},null,{"$f":"(SUM(P17:S18)/U26)*100","v":{"$error":"#DIV/0!"}},"%:ia passari",null,null,{"$f":"(SUM(P17:P18)/SUM(P17:S18)*100)","v":{"$error":"#DIV/0!"}}]
[{"$f":"'Ti1'!A12","v":5},{"$f":"'Ti1'!B12","v":"yp"},{"$f":"'Ti1'!C12","v":0},0,0,0,0,0,0,0,0,0,0,null,null,null,null,null,null,null,null,null,null,null,null,null,{"$f":"L21+R21","v":0},"Vastustajan torjunta"]
[{"$f":"'Ti1'!A13","v":6},{"$f":"'Ti1'!B13","v":"h"},{"$f":"'Ti1'!C13","v":0},0,0,0,0,0,0,0,0,0,0]
[{"$f":"'Ti1'!A14","v":7},{"$f":"'Ti1'!B14","v":"h"},{"$f":"'Ti1'!C14","v":0},0,0,0,0,0,0,0,0,0,0,null,{"$f":"M21+S21+Y21+G21+AG21+L21+R21","v":0},"pistettä olemme antaneet omilla virheillä"]
[{"$f":"'Ti1'!A15","v":8},{"$f":"'Ti1'!B15","v":"kt"},{"$f":"'Ti1'!C15","v":0},0,0,0,0,0,0,0,0,0,0,null,null,"Vastustajalta olemme saaneet pisteitä:"]
[{"$f":"'Ti1'!A16","v":9},{"$f":"'Ti1'!B16","v":"kt"},{"$f":"'Ti1'!C16","v":0},0,0,0,0,0,0,0,0,0,0,null,{"$f":"'Ti2'!AI1+Erä2!O35","v":0},"pistettä syöttövirheillä"]
[{"$f":"'Ti1'!A17","v":10},{"$f":"'Ti1'!B17","v":"kt"},{"$f":"'Ti1'!C17","v":0},0,0,0,0,0,0,0,0,0,0,null,{"$f":"'Ti2'!AI2+Erä2!O36","v":0},"pistettä suorilla hyökkäysvirheillä"]
[{"$f":"'Ti1'!A18","v":11},{"$f":"'Ti1'!B18","v":"p"},{"$f":"'Ti1'!C18","v":0},0,0,0,0,0,0,0,0,0,0,null,{"$f":"'Ti2'!AI3+Erä2!O37","v":0},"pistettä teknisillä virheillä"]
[{"$f":"'Ti1'!A19","v":12},{"$f":"'Ti1'!B19","v":"p"},{"$f":"'Ti1'!C19","v":0},0,0,0,0,0,0,0,0,0,0,null,{"$f":"SUM(O35:O37)","v":0},"pistettä yhteensä vastustajan virheillä"]
[{"$f":"'Ti1'!A20","v":0},{"$f":"'Ti1'!B20","v":0},{"$f":"'Ti1'!C20","v":0},0,0,0,0,0,0,0,0,0,0,null,{"$f":"O38-O33","v":0},"pistettä nettovaikutus"]
[{"$f":"'Ti1'!A21","v":0},{"$f":"'Ti1'!B21","v":0},{"$f":"'Ti1'!C21","v":0},0,0,0,0,0,0,0,0,0,0]

{"sheet":"Ti3","index":4,"n_rows":21,"n_cols":53,"rows_kept":21,"cut":false,"hidden":false,"merged":[[5,7,5,10],[5,17,5,20],[5,27,5,30],[5,37,5,40],[5,45,5,46]]}
[null,"Joukkueet","Erä 3","Pisteet",null,null,null,null,null,null,null,null,null,null,null,null,"Vastustajan antamat pisteet:",null,null,null,null,null,null,null,null,null,null,null,null,null,null,null,null,null,null,"Syöttö"]
[null,{"$f":"'Ti1'!B2","v":"Omajoukkue"},{"$f":"IF(D2>24,IF(D2-D3>1,1,0),0)","v":0},{"$f":"D2+E2","v":0},null,null,null,null,null,null,null,null,null,null,null,null,null,null,null,null,null,null,null,null,null,null,null,null,null,null,null,null,null,null,null,"Hyökkäys"]
[null,{"$f":"'Ti1'!B3","v":"Vierasjoukkue"},{"$f":"IF(D3>24,IF(D3-D2>1,1,0),0)","v":0},{"$f":"D3+E3","v":0},null,null,null,null,null,null,null,null,null,null,null,null,null,null,null,null,null,null,null,null,null,null,null,null,null,null,null,null,null,null,null,"Tekn.virhe"]
[null,null,null,null,null,null,null,null,null,null,null,null,null,null,null,"Ei hyök",null,null,null,null,null,null,null,null,null,"Ei hyök"]
[null,null,null,"Vast.otto",null,null,null,null,null,null,null,null,null,"VO-hyök",null,null,null,null,null,null,null,null,null,"Jatko-hyök",null,null,null,null,null,null,null,null,null,"Aloitus",null,null,null,null,null,null,null,null,null,"Torj.",null,null,null,null,"Puol",null,null,"Tv"]
[null,null,"Jouk.tilastot",{"$f":"Erä3!$D$21","v":0},{"$f":"Erä3!$H$21","v":{"$error":"#DIV/0!"}},{"$f":"Erä3!$G$21","v":0},{"$f":"Erä3!$I$21","v":{"$error":"#DIV/0!"}},"Korjaus",null,null,null,null,null,{"$f":"Erä3!$J$21","v":0},{"$f":"Erä3!$N$21","v":{"$error":"#DIV/0!"}},{"$f":"SUM(Erä3!L21+Erä3!M21)","v":0},{"$f":"Erä3!$O$21","v":{"$error":"#DIV/0!"}},"Korjaus",null,null,null,null,null,{"$f":"Erä3!$P$21","v":0},{"$f":"Erä3!$T$21","v":{"$error":"#DIV/0!"}},{"$f":"SUM(Erä3!R21+Erä3!S21)","v":0},{"$f":"Erä3!$U$21","v":{"$error":"#DIV/0!"}},"Korjaus",null,null,null,null,null,{"$f":"Erä3!$V$21","v":0},{"$f":"Erä3!$Z$21","v":{"$error":"#DIV/0!"}},{"$f":"Erä3!$Y$21","v":0},{"$f":"Erä3!$AA$21","v":{"$error":"#DIV/0!"}},"Korjaus",null,null,null,null,null,{"$f":"Erä3!AB21","v":0},{"$f":"Erä3!AC21","v":0},"Kor",null,null,{"$f":"Erä3!$AE$21","v":0},"Kor",null,{"$f":"Erä3!$AG$21","v":0},"Kor"]
["N:o","Sukunimi","Etunimi",1,2,3,4,1,2,3,4,null,null,1,2,"To",3,1,2,"To",3,null,null,1,2,"To",3,1,2,"To",3,null,null,1,2,3,4,1,2,3,4,null,null,1,2,1,2,null,1,1,null,1,1]
[{"$f":"'Ti1'!A8","v":1},{"$f":"'Ti1'!B8","v":"libero"},{"$f":"'Ti1'!C8","v":0}]
[{"$f":"'Ti1'!A9","v":2},{"$f":"'Ti1'!B9","v":"yp"},{"$f":"'Ti1'!C9","v":0}]
[{"$f":"'Ti1'!A10","v":3},{"$f":"'Ti1'!B10","v":"yp"},{"$f":"'Ti1'!C10","v":0}]
[{"$f":"'Ti1'!A11","v":4},{"$f":"'Ti1'!B11","v":"yp"},{"$f":"'Ti1'!C11","v":0}]
[{"$f":"'Ti1'!A12","v":5},{"$f":"'Ti1'!B12","v":"yp"},{"$f":"'Ti1'!C12","v":0}]
[{"$f":"'Ti1'!A13","v":6},{"$f":"'Ti1'!B13","v":"h"},{"$f":"'Ti1'!C13","v":0}]
[{"$f":"'Ti1'!A14","v":7},{"$f":"'Ti1'!B14","v":"h"},{"$f":"'Ti1'!C14","v":0}]
[{"$f":"'Ti1'!A15","v":8},{"$f":"'Ti1'!B15","v":"kt"},{"$f":"'Ti1'!C15","v":0}]
[{"$f":"'Ti1'!A16","v":9},{"$f":"'Ti1'!B16","v":"kt"},{"$f":"'Ti1'!C16","v":0}]
[{"$f":"'Ti1'!A17","v":10},{"$f":"'Ti1'!B17","v":"kt"},{"$f":"'Ti1'!C17","v":0}]
[{"$f":"'Ti1'!A18","v":11},{"$f":"'Ti1'!B18","v":"p"},{"$f":"'Ti1'!C18","v":0}]
[{"$f":"'Ti1'!A19","v":12},{"$f":"'Ti1'!B19","v":"p"},{"$f":"'Ti1'!C19","v":0}]
[{"$f":"'Ti1'!A20","v":0},{"$f":"'Ti1'!B20","v":0},{"$f":"'Ti1'!C20","v":0}]
[{"$f":"'Ti1'!A21","v":0},{"$f":"'Ti1'!B21","v":0},{"$f":"'Ti1'!C21","v":0}]

{"sheet":"Erä3","index":5,"n_rows":40,"n_cols":33,"rows_kept":40,"cut":false,"hidden":false,"merged":[]}
[null,"Joukkueet","Erä 3","Pisteet",null,null,null,null,null,"Vastustajan antamat pisteet:",null,null,null,null,null,null,{"$f":"O38","v":0}]
[null,{"$f":"'Ti1'!B2","v":"Omajoukkue"},{"$f":"'Ti3'!C2","v":0},{"$f":"'Ti3'!D2","v":0}]
[null,{"$f":"'Ti1'!B3","v":"Vierasjoukkue"},{"$f":"'Ti3'!C3","v":0},{"$f":"'Ti3'!D3","v":0}]
[null,null,null,null,null,null,null,null,null,null,{"$f":"K4+'Ti3'!O4","v":0},"Ei hyökkäystä",null,null,null,null,{"$f":"Q4+'Ti3'!Y4","v":0},"Ei hyökkäystä"]
[null,null,null,"Vast.otto",null,null,null,null,null,"Vast.otto-hyökkäys",null,null,null,null,null,"Jatko-hyökkäys",null,null,null,null,null,"Aloitus",null,null,null,null,null,"Torjunta",null,null,"Puol",null,"Tv"]
["Nro","Sukunimi","Etunimi",1,2,3,4,"P","M",1,2,"To",3,"P","M",1,2,"To",3,"P","M",1,2,3,4,"P","M",1,2,null,1,null,1]
[{"$f":"'Ti1'!A8","v":1},{"$f":"'Ti1'!B8","v":"libero"},{"$f":"'Ti1'!C8","v":0},{"$f":"D7+'Ti3'!D8-'Ti3'!H8","v":0},{"$f":"E7+'Ti3'!E8-'Ti3'!I8","v":0},{"$f":"F7+'Ti3'!F8-'Ti3'!J8","v":0},{"$f":"G7+'Ti3'!G8-'Ti3'!K8","v":0},{"$f":"(D7+E7)/(D7+E7+F7+G7)*100","v":{"$error":"#DIV/0!"}},{"$f":"G7/(D7+E7+F7+G7)*100","v":{"$error":"#DIV/0!"}},{"$f":"J7+'Ti3'!N8-'Ti3'!R8","v":0},{"$f":"K7+'Ti3'!O8-'Ti3'!S8","v":0},{"$f":"L7+'Ti3'!P8-'Ti3'!T8","v":0},{"$f":"M7+'Ti3'!Q8-'Ti3'!U8","v":0},{"$f":"J7/(J7+K7+L7+M7)*100","v":{"$error":"#DIV/0!"}},{"$f":"(L7+M7)/(J7+K7+L7+M7)*100","v":{"$error":"#DIV/0!"}},{"$f":"P7+'Ti3'!X8-'Ti3'!AB8","v":0},{"$f":"Q7+'Ti3'!Y8-'Ti3'!AC8","v":0},{"$f":"R7+'Ti3'!Z8-'Ti3'!AD8","v":0},{"$f":"S7+'Ti3'!AA8-'Ti3'!AE8","v":0},{"$f":"P7/(P7+Q7+R7+S7)*100","v":{"$error":"#DIV/0!"}},{"$f":"(R7+S7)/(P7+Q7+S7)*100","v":{"$error":"#DIV/0!"}},{"$f":"V7+'Ti3'!AH8-'Ti3'!AL8","v":0},{"$f":"W7+'Ti3'!AI8-'Ti3'!AM8","v":0},{"$f":"X7+'Ti3'!AJ8-'Ti3'!AN8","v":0},{"$f":"Y7+'Ti3'!AK8-'Ti3'!AO8","v":0},{"$f":"(V7+W7)/(V7+W7+X7+Y7)*100","v":{"$error":"#DIV/0!"}},{"$f":"Y7/(V7+W7+X7+Y7)*100","v":{"$error":"#DIV/0!"}},{"$f":"AB7+'Ti3'!AR8-'Ti3'!AT8","v":0},{"$f":"AC7+'Ti3'!AS8-'Ti3'!AU8","v":0},null,{"$f":"AE7+'Ti3'!AW8-'Ti3'!AX8","v":0},null,{"$f":"AG7+'Ti3'!AZ8-'Ti3'!BA8","v":0}]
[{"$f":"'Ti1'!A9","v":2},{"$f":"'Ti1'!B9","v":"yp"},{"$f":"'Ti1'!C9","v":0},{"$f":"D8+'Ti3'!D9-'Ti3'!H9","v":0},{"$f":"E8+'Ti3'!E9-'Ti3'!I9","v":0},{"$f":"F8+'Ti3'!F9-'Ti3'!J9","v":0},{"$f":"G8+'Ti3'!G9-'Ti3'!K9","v":0},{"$f":"(D8+E8)/(D8+E8+F8+G8)*100","v":{"$error":"#DIV/0!"}},{"$f":"G8/(D8+E8+F8+G8)*100","v":{"$error":"#DIV/0!"}},{"$f":"J8+'Ti3'!N9","v":0},{"$f":"K8+'Ti3'!O9","v":0},{"$f":"L8+'Ti3'!P9","v":0},{"$f":"M8+'Ti3'!Q9","v":0},{"$f":"J8/(J8+K8+L8+M8)*100","v":{"$error":"#DIV/0!"}},{"$f":"(L8+M8)/(J8+K8+L8+M8)*100","v":{"$error":"#DIV/0!"}},{"$f":"P8+'Ti3'!X9-'Ti3'!AB9","v":0},{"$f":"Q8+'Ti3'!Y9-'Ti3'!AC9","v":0},{"$f":"R8+'Ti3'!Z9-'Ti3'!AD9","v":0},{"$f":"S8+'Ti3'!AA9-'Ti3'!AE9","v":0},{"$f":"P8/(P8+Q8+R8+S8)*100","v":{"$error":"#DIV/0!"}},{"$f":"(R8+S8)/(P8+Q8+S8)*100","v":{"$error":"#DIV/0!"}},{"$f":"V8+'Ti3'!AH9-'Ti3'!AL9","v":0},{"$f":"W8+'Ti3'!AI9-'Ti3'!AM9","v":0},{"$f":"X8+'Ti3'!AJ9-'Ti3'!AN9","v":0},{"$f":"Y8+'Ti3'!AK9-'Ti3'!AO9","v":0},{"$f":"(V8+W8)/(V8+W8+X8+Y8)*100","v":{"$error":"#DIV/0!"}},{"$f":"Y8/(V8+W8+X8+Y8)*100","v":{"$error":"#DIV/0!"}},{"$f":"AB8+'Ti3'!AR9-'Ti3'!AT9","v":0},{"$f":"AC8+'Ti3'!AS9-'Ti3'!AU9","v":0},null,{"$f":"AE8+'Ti3'!AW9-'Ti3'!AX9","v":0},null,{"$f":"AG8+'Ti3'!AZ9-'Ti3'!BA9","v":0}]
[{"$f":"'Ti1'!A10","v":3},{"$f":"'Ti1'!B10","v":"yp"},{"$f":"'Ti1'!C10","v":0},{"$f":"D9+'Ti3'!D10-'Ti3'!H10","v":0},{"$f":"E9+'Ti3'!E10-'Ti3'!I10","v":0},{"$f":"F9+'Ti3'!F10-'Ti3'!J10","v":0},{"$f":"G9+'Ti3'!G10-'Ti3'!K10","v":0},{"$f":"(D9+E9)/(D9+E9+F9+G9)*100","v":{"$error":"#DIV/0!"}},{"$f":"G9/(D9+E9+F9+G9)*100","v":{"$error":"#DIV/0!"}},{"$f":"J9+'Ti3'!N10","v":0},{"$f":"K9+'Ti3'!O10","v":0},{"$f":"L9+'Ti3'!P10","v":0},{"$f":"M9+'Ti3'!Q10","v":0},{"$error":"#DIV/0!"},{"$error":"#DIV/0!"},{"$f":"P9+'Ti3'!X10-'Ti3'!AB10","v":0},{"$f":"Q9+'Ti3'!Y10-'Ti3'!AC10","v":0},{"$f":"R9+'Ti3'!Z10-'Ti3'!AD10","v":0},{"$f":"S9+'Ti3'!AA10-'Ti3'!AE10","v":0},{"$error":"#DIV/0!"},{"$error":"#DIV/0!"},{"$f":"V9+'Ti3'!AH10-'Ti3'!AL10","v":0},{"$f":"W9+'Ti3'!AI10-'Ti3'!AM10","v":0},{"$f":"X9+'Ti3'!AJ10-'Ti3'!AN10","v":0},{"$f":"Y9+'Ti3'!AK10-'Ti3'!AO10","v":0},{"$f":"(V9+W9)/(V9+W9+X9+Y9)*100","v":{"$error":"#DIV/0!"}},{"$f":"Y9/(V9+W9+X9+Y9)*100","v":{"$error":"#DIV/0!"}},{"$f":"AB9+'Ti3'!AR10-'Ti3'!AT10","v":0},{"$f":"AC9+'Ti3'!AS10-'Ti3'!AU10","v":0},null,{"$f":"AE9+'Ti3'!AW10-'Ti3'!AX10","v":0},null,{"$f":"AG9+'Ti3'!AZ10-'Ti3'!BA10","v":0}]
[{"$f":"'Ti1'!A11","v":4},{"$f":"'Ti1'!B11","v":"yp"},{"$f":"'Ti1'!C11","v":0},{"$f":"D10+'Ti3'!D11-'Ti3'!H11","v":0},{"$f":"E10+'Ti3'!E11-'Ti3'!I11","v":0},{"$f":"F10+'Ti3'!F11-'Ti3'!J11","v":0},{"$f":"G10+'Ti3'!G11-'Ti3'!K11","v":0},{"$error":"#DIV/0!"},{"$error":"#DIV/0!"},{"$f":"J10+'Ti3'!N11","v":0},{"$f":"K10+'Ti3'!O11","v":0},{"$f":"L10+'Ti3'!P11","v":0},{"$f":"M10+'Ti3'!Q11","v":0},{"$error":"#DIV/0!"},{"$error":"#DIV/0!"},{"$f":"P10+'Ti3'!X11-'Ti3'!AB11","v":0},{"$f":"Q10+'Ti3'!Y11-'Ti3'!AC11","v":0},{"$f":"R10+'Ti3'!Z11-'Ti3'!AD11","v":0},{"$f":"S10+'Ti3'!AA11-'Ti3'!AE11","v":0},{"$error":"#DIV/0!"},{"$error":"#DIV/0!"},{"$f":"V10+'Ti3'!AH11-'Ti3'!AL11","v":0},{"$f":"W10+'Ti3'!AI11-'Ti3'!AM11","v":0},{"$f":"X10+'Ti3'!AJ11-'Ti3'!AN11","v":0},{"$f":"Y10+'Ti3'!AK11-'Ti3'!AO11","v":0},{"$error":"#DIV/0!"},{"$error":"#DIV/0!"},{"$f":"AB10+'Ti3'!AR11-'Ti3'!AT11","v":0},{"$f":"AC10+'Ti3'!AS11-'Ti3'!AU11","v":0},null,{"$f":"AE10+'Ti3'!AW11-'Ti3'!AX11","v":0},null,{"$f":"AG10+'Ti3'!AZ11-'Ti3'!BA11","v":0}]
[{"$f":"'Ti1'!A12","v":5},{"$f":"'Ti1'!B12","v":"yp"},{"$f":"'Ti1'!C12","v":0},{"$f":"D11+'Ti3'!D12-'Ti3'!H12","v":0},{"$f":"E11+'Ti3'!E12-'Ti3'!I12","v":0},{"$f":"F11+'Ti3'!F12-'Ti3'!J12","v":0},{"$f":"G11+'Ti3'!G12-'Ti3'!K12","v":0},{"$error":"#DIV/0!"},{"$error":"#DIV/0!"},{"$f":"J11+'Ti3'!N12","v":0},{"$f":"K11+'Ti3'!O12","v":0},{"$f":"L11+'Ti3'!P12","v":0},{"$f":"M11+'Ti3'!Q12","v":0},{"$error":"#DIV/0!"},{"$error":"#DIV/0!"},{"$f":"P11+'Ti3'!X12-'Ti3'!AB12","v":0},{"$f":"Q11+'Ti3'!Y12-'Ti3'!AC12","v":0},{"$f":"R11+'Ti3'!Z12-'Ti3'!AD12","v":0},{"$f":"S11+'Ti3'!AA12-'Ti3'!AE12","v":0},{"$error":"#DIV/0!"},{"$error":"#DIV/0!"},{"$f":"V11+'Ti3'!AH12-'Ti3'!AL12","v":0},{"$f":"W11+'Ti3'!AI12-'Ti3'!AM12","v":0},{"$f":"X11+'Ti3'!AJ12-'Ti3'!AN12","v":0},{"$f":"Y11+'Ti3'!AK12-'Ti3'!AO12","v":0},{"$error":"#DIV/0!"},{"$error":"#DIV/0!"},{"$f":"AB11+'Ti3'!AR12-'Ti3'!AT12","v":0},{"$f":"AC11+'Ti3'!AS12-'Ti3'!AU12","v":0},null,{"$f":"AE11+'Ti3'!AW12-'Ti3'!AX12","v":0},null,{"$f":"AG11+'Ti3'!AZ12-'Ti3'!BA12","v":0}]
[{"$f":"'Ti1'!A13","v":6},{"$f":"'Ti1'!B13","v":"h"},{"$f":"'Ti1'!C13","v":0},{"$f":"D12+'Ti3'!D13-'Ti3'!H13","v":0},{"$f":"E12+'Ti3'!E13-'Ti3'!I13","v":0},{"$f":"F12+'Ti3'!F13-'Ti3'!J13","v":0},{"$f":"G12+'Ti3'!G13-'Ti3'!K13","v":0},{"$error":"#DIV/0!"},{"$error":"#DIV/0!"},{"$f":"J12+'Ti3'!N13","v":0},{"$f":"K12+'Ti3'!O13","v":0},{"$f":"L12+'Ti3'!P13","v":0},{"$f":"M12+'Ti3'!Q13","v":0},{"$error":"#DIV/0!"},{"$error":"#DIV/0!"},{"$f":"P12+'Ti3'!X13-'Ti3'!AB13","v":0},{"$f":"Q12+'Ti3'!Y13-'Ti3'!AC13","v":0},{"$f":"R12+'Ti3'!Z13-'Ti3'!AD13","v":0},{"$f":"S12+'Ti3'!AA13-'Ti3'!AE13","v":0},{"$error":"#DIV/0!"},{"$error":"#DIV/0!"},{"$f":"V12+'Ti3'!AH13-'Ti3'!AL13","v":0},{"$f":"W12+'Ti3'!AI13-'Ti3'!AM13","v":0},{"$f":"X12+'Ti3'!AJ13-'Ti3'!AN13","v":0},{"$f":"Y12+'Ti3'!AK13-'Ti3'!AO13","v":0},{"$error":"#DIV/0!"},{"$error":"#DIV/0!"},{"$f":"AB12+'Ti3'!AR13-'Ti3'!AT13","v":0},{"$f":"AC12+'Ti3'!AS13-'Ti3'!AU13","v":0},null,{"$f":"AE12+'Ti3'!AW13-'Ti3'!AX13","v":0},null,{"$f":"AG12+'Ti3'!AZ13-'Ti3'!BA13","v":0}]
[{"$f":"'Ti1'!A14","v":7},{"$f":"'Ti1'!B14","v":"h"},{"$f":"'Ti1'!C14","v":0},{"$f":"D13+'Ti3'!D14-'Ti3'!H14","v":0},{"$f":"E13+'Ti3'!E14-'Ti3'!I14","v":0},{"$f":"F13+'Ti3'!F14-'Ti3'!J14","v":0},{"$f":"G13+'Ti3'!G14-'Ti3'!K14","v":0},{"$error":"#DIV/0!"},{"$error":"#DIV/0!"},{"$f":"J13+'Ti3'!N14","v":0},{"$f":"K13+'Ti3'!O14","v":0},{"$f":"L13+'Ti3'!P14","v":0},{"$f":"M13+'Ti3'!Q14","v":0},{"$error":"#DIV/0!"},{"$error":"#DIV/0!"},{"$f":"P13+'Ti3'!X14-'Ti3'!AB14","v":0},{"$f":"Q13+'Ti3'!Y14-'Ti3'!AC14","v":0},{"$f":"R13+'Ti3'!Z14-'Ti3'!AD14","v":0},{"$f":"S13+'Ti3'!AA14-'Ti3'!AE14","v":0},{"$error":"#DIV/0!"},{"$error":"#DIV/0!"},{"$f":"V13+'Ti3'!AH14-'Ti3'!AL14","v":0},{"$f":"W13+'Ti3'!AI14-'Ti3'!AM14","v":0},{"$f":"X13+'Ti3'!AJ14-'Ti3'!AN14","v":0},{"$f":"Y13+'Ti3'!AK14-'Ti3'!AO14","v":0},{"$error":"#DIV/0!"},{"$error":"#DIV/0!"},{"$f":"AB13+'Ti3'!AR14-'Ti3'!AT14","v":0},{"$f":"AC13+'Ti3'!AS14-'Ti3'!AU14","v":0},null,{"$f":"AE13+'Ti3'!AW14-'Ti3'!AX14","v":0},null,{"$f":"AG13+'Ti3'!AZ14-'Ti3'!BA14","v":0}]
[{"$f":"'Ti1'!A15","v":8},{"$f":"'Ti1'!B15","v":"kt"},{"$f":"'Ti1'!C15","v":0},{"$f":"D14+'Ti3'!D15-'Ti3'!H15","v":0},{"$f":"E14+'Ti3'!E15-'Ti3'!I15","v":0},{"$f":"F14+'Ti3'!F15-'Ti3'!J15","v":0},{"$f":"G14+'Ti3'!G15-'Ti3'!K15","v":0},{"$error":"#DIV/0!"},{"$error":"#DIV/0!"},{"$f":"J14+'Ti3'!N15","v":0},{"$f":"K14+'Ti3'!O15","v":0},{"$f":"L14+'Ti3'!P15","v":0},{"$f":"M14+'Ti3'!Q15","v":0},{"$error":"#DIV/0!"},{"$error":"#DIV/0!"},{"$f":"P14+'Ti3'!X15-'Ti3'!AB15","v":0},{"$f":"Q14+'Ti3'!Y15-'Ti3'!AC15","v":0},{"$f":"R14+'Ti3'!Z15-'Ti3'!AD15","v":0},{"$f":"S14+'Ti3'!AA15-'Ti3'!AE15","v":0},{"$error":"#DIV/0!"},{"$error":"#DIV/0!"},{"$f":"V14+'Ti3'!AH15-'Ti3'!AL15","v":0},{"$f":"W14+'Ti3'!AI15-'Ti3'!AM15","v":0},{"$f":"X14+'Ti3'!AJ15-'Ti3'!AN15","v":0},{"$f":"Y14+'Ti3'!AK15-'Ti3'!AO15","v":0},{"$error":"#DIV/0!"},{"$error":"#DIV/0!"},{"$f":"AB14+'Ti3'!AR15-'Ti3'!AT15","v":0},{"$f":"AC14+'Ti3'!AS15-'Ti3'!AU15","v":0},null,{"$f":"AE14+'Ti3'!AW15-'Ti3'!AX15","v":0},null,{"$f":"AG14+'Ti3'!AZ15-'Ti3'!BA15","v":0}]
[{"$f":"'Ti1'!A16","v":9},{"$f":"'Ti1'!B16","v":"kt"},{"$f":"'Ti1'!C16","v":0},{"$f":"D15+'Ti3'!D16-'Ti3'!H16","v":0},{"$f":"E15+'Ti3'!E16-'Ti3'!I16","v":0},{"$f":"F15+'Ti3'!F16-'Ti3'!J16","v":0},{"$f":"G15+'Ti3'!G16-'Ti3'!K16","v":0},{"$error":"#DIV/0!"},{"$error":"#DIV/0!"},{"$f":"J15+'Ti3'!N16","v":0},{"$f":"K15+'Ti3'!O16","v":0},{"$f":"L15+'Ti3'!P16","v":0},{"$f":"M15+'Ti3'!Q16","v":0},{"$error":"#DIV/0!"},{"$error":"#DIV/0!"},{"$f":"P15+'Ti3'!X16-'Ti3'!AB16","v":0},{"$f":"Q15+'Ti3'!Y16-'Ti3'!AC16","v":0},{"$f":"R15+'Ti3'!Z16-'Ti3'!AD16","v":0},{"$f":"S15+'Ti3'!AA16-'Ti3'!AE16","v":0},{"$error":"#DIV/0!"},{"$error":"#DIV/0!"},{"$f":"V15+'Ti3'!AH16-'Ti3'!AL16","v":0},{"$f":"W15+'Ti3'!AI16-'Ti3'!AM16","v":0},{"$f":"X15+'Ti3'!AJ16-'Ti3'!AN16","v":0},{"$f":"Y15+'Ti3'!AK16-'Ti3'!AO16","v":0},{"$error":"#DIV/0!"},{"$error":"#DIV/0!"},{"$f":"AB15+'Ti3'!AR16-'Ti3'!AT16","v":0},{"$f":"AC15+'Ti3'!AS16-'Ti3'!AU16","v":0},null,{"$f":"AE15+'Ti3'!AW16-'Ti3'!AX16","v":0},null,{"$f":"AG15+'Ti3'!AZ16-'Ti3'!BA16","v":0}]
[{"$f":"'Ti1'!A17","v":10},{"$f":"'Ti1'!B17","v":"kt"},{"$f":"'Ti1'!C17","v":0},{"$f":"D16+'Ti3'!D17-'Ti3'!H17","v":0},{"$f":"E16+'Ti3'!E17-'Ti3'!I17","v":0},{"$f":"F16+'Ti3'!F17-'Ti3'!J17","v":0},{"$f":"G16+'Ti3'!G17-'Ti3'!K17","v":0},{"$error":"#DIV/0!"},{"$error":"#DIV/0!"},{"$f":"J16+'Ti3'!N17","v":0},{"$f":"K16+'Ti3'!O17","v":0},{"$f":"L16+'Ti3'!P17","v":0},{"$f":"M16+'Ti3'!Q17","v":0},{"$error":"#DIV/0!"},{"$error":"#DIV/0!"},{"$f":"P16+'Ti3'!X17-'Ti3'!AB17","v":0},{"$f":"Q16+'Ti3'!Y17-'Ti3'!AC17","v":0},{"$f":"R16+'Ti3'!Z17-'Ti3'!AD17","v":0},{"$f":"S16+'Ti3'!AA17-'Ti3'!AE17","v":0},{"$error":"#DIV/0!"},{"$error":"#DIV/0!"},{"$f":"V16+'Ti3'!AH17-'Ti3'!AL17","v":0},{"$f":"W16+'Ti3'!AI17-'Ti3'!AM17","v":0},{"$f":"X16+'Ti3'!AJ17-'Ti3'!AN17","v":0},{"$f":"Y16+'Ti3'!AK17-'Ti3'!AO17","v":0},{"$error":"#DIV/0!"},{"$error":"#DIV/0!"},{"$f":"AB16+'Ti3'!AR17-'Ti3'!AT17","v":0},{"$f":"AC16+'Ti3'!AS17-'Ti3'!AU17","v":0},null,{"$f":"AE16+'Ti3'!AW17-'Ti3'!AX17","v":0},null,{"$f":"AG16+'Ti3'!AZ17-'Ti3'!BA17","v":0}]
[{"$f":"'Ti1'!A18","v":11},{"$f":"'Ti1'!B18","v":"p"},{"$f":"'Ti1'!C18","v":0},{"$f":"D17+'Ti3'!D18-'Ti3'!H18","v":0},{"$f":"E17+'Ti3'!E18-'Ti3'!I18","v":0},{"$f":"F17+'Ti3'!F18-'Ti3'!J18","v":0},{"$f":"G17+'Ti3'!G18-'Ti3'!K18","v":0},{"$error":"#DIV/0!"},{"$error":"#DIV/0!"},{"$f":"J17+'Ti3'!N18","v":0},{"$f":"K17+'Ti3'!O18","v":0},{"$f":"L17+'Ti3'!P18","v":0},{"$f":"M17+'Ti3'!Q18","v":0},{"$error":"#DIV/0!"},{"$error":"#DIV/0!"},{"$f":"P17+'Ti3'!X18-'Ti3'!AB18","v":0},{"$f":"Q17+'Ti3'!Y18-'Ti3'!AC18","v":0},{"$f":"R17+'Ti3'!Z18-'Ti3'!AD18","v":0},{"$f":"S17+'Ti3'!AA18-'Ti3'!AE18","v":0},{"$error":"#DIV/0!"},{"$error":"#DIV/0!"},{"$f":"V17+'Ti3'!AH18-'Ti3'!AL18","v":0},{"$f":"W17+'Ti3'!AI18-'Ti3'!AM18","v":0},{"$f":"X17+'Ti3'!AJ18-'Ti3'!AN18","v":0},{"$f":"Y17+'Ti3'!AK18-'Ti3'!AO18","v":0},{"$error":"#DIV/0!"},{"$error":"#DIV/0!"},{"$f":"AB17+'Ti3'!AR18-'Ti3'!AT18","v":0},{"$f":"AC17+'Ti3'!AS18-'Ti3'!AU18","v":0},null,{"$f":"AE17+'Ti3'!AW18-'Ti3'!AX18","v":0},null,{"$f":"AG17+'Ti3'!AZ18-'Ti3'!BA18","v":0}]
[{"$f":"'Ti1'!A19","v":12},{"$f":"'Ti1'!B19","v":"p"},{"$f":"'Ti1'!C19","v":0},{"$f":"D18+'Ti3'!D19-'Ti3'!H19","v":0},{"$f":"E18+'Ti3'!E19-'Ti3'!I19","v":0},{"$f":"F18+'Ti3'!F19-'Ti3'!J19","v":0},{"$f":"G18+'Ti3'!G19-'Ti3'!K19","v":0},{"$error":"#DIV/0!"},{"$error":"#DIV/0!"},{"$f":"J18+'Ti3'!N19","v":0},{"$f":"K18+'Ti3'!O19","v":0},{"$f":"L18+'Ti3'!P19","v":0},{"$f":"M18+'Ti3'!Q19","v":0},{"$error":"#DIV/0!"},{"$error":"#DIV/0!"},{"$f":"P18+'Ti3'!X19-'Ti3'!AB19","v":0},{"$f":"Q18+'Ti3'!Y19-'Ti3'!AC19","v":0},{"$f":"R18+'Ti3'!Z19-'Ti3'!AD19","v":0},{"$f":"S18+'Ti3'!AA19-'Ti3'!AE19","v":0},{"$error":"#DIV/0!"},{"$error":"#DIV/0!"},{"$f":"V18+'Ti3'!AH19-'Ti3'!AL19","v":0},{"$f":"W18+'Ti3'!AI19-'Ti3'!AM19","v":0},{"$f":"X18+'Ti3'!AJ19-'Ti3'!AN19","v":0},{"$f":"Y18+'Ti3'!AK19-'Ti3'!AO19","v":0},{"$error":"#DIV/0!"},{"$error":"#DIV/0!"},{"$f":"AB18+'Ti3'!AR19-'Ti3'!AT19","v":0},{"$f":"AC18+'Ti3'!AS19-'Ti3'!AU19","v":0},null,{"$f":"AE18+'Ti3'!AW19-'Ti3'!AX19","v":0},null,{"$f":"AG18+'Ti3'!AZ19-'Ti3'!BA19","v":0}]
[{"$f":"'Ti1'!A20","v":0},{"$f":"'Ti1'!B20","v":0},{"$f":"'Ti1'!C20","v":0},{"$f":"D19+'Ti3'!D20-'Ti3'!H20","v":0},{"$f":"E19+'Ti3'!E20-'Ti3'!I20","v":0},{"$f":"F19+'Ti3'!F20-'Ti3'!J20","v":0},{"$f":"G19+'Ti3'!G20-'Ti3'!K20","v":0},{"$error":"#DIV/0!"},{"$error":"#DIV/0!"},{"$f":"J19+'Ti3'!N20","v":0},{"$f":"K19+'Ti3'!O20","v":0},{"$f":"L19+'Ti3'!P20","v":0},{"$f":"M19+'Ti3'!Q20","v":0},{"$error":"#DIV/0!"},{"$error":"#DIV/0!"},{"$f":"P19+'Ti3'!X20-'Ti3'!AB20","v":0},{"$f":"Q19+'Ti3'!Y20-'Ti3'!AC20","v":0},{"$f":"R19+'Ti3'!Z20-'Ti3'!AD20","v":0},{"$f":"S19+'Ti3'!AA20-'Ti3'!AE20","v":0},{"$error":"#DIV/0!"},{"$error":"#DIV/0!"},{"$f":"V19+'Ti3'!AH20-'Ti3'!AL20","v":0},{"$f":"W19+'Ti3'!AI20-'Ti3'!AM20","v":0},{"$f":"X19+'Ti3'!AJ20-'Ti3'!AN20","v":0},{"$f":"Y19+'Ti3'!AK20-'Ti3'!AO20","v":0},{"$error":"#DIV/0!"},{"$error":"#DIV/0!"},{"$f":"AB19+'Ti3'!AR20-'Ti3'!AT20","v":0},{"$f":"AC19+'Ti3'!AS20-'Ti3'!AU20","v":0},null,{"$f":"AE19+'Ti3'!AW20-'Ti3'!AX20","v":0},null,{"$f":"AG19+'Ti3'!AZ20-'Ti3'!BA20","v":0}]
[{"$f":"'Ti1'!A21","v":0},{"$f":"'Ti1'!B21","v":0},{"$f":"'Ti1'!C21","v":0},{"$f":"D20+'Ti3'!D21-'Ti3'!H21","v":0},{"$f":"E20+'Ti3'!E21-'Ti3'!I21","v":0},{"$f":"F20+'Ti3'!F21-'Ti3'!J21","v":0},{"$f":"G20+'Ti3'!G21-'Ti3'!K21","v":0},{"$error":"#DIV/0!"},{"$error":"#DIV/0!"},{"$f":"J20+'Ti3'!N21","v":0},{"$f":"K20+'Ti3'!O21","v":0},{"$f":"L20+'Ti3'!P21","v":0},{"$f":"M20+'Ti3'!Q21","v":0},{"$error":"#DIV/0!"},{"$error":"#DIV/0!"},{"$f":"P20+'Ti3'!X21-'Ti3'!AB21","v":0},{"$f":"Q20+'Ti3'!Y21-'Ti3'!AC21","v":0},{"$f":"R20+'Ti3'!Z21-'Ti3'!AD21","v":0},{"$f":"S20+'Ti3'!AA21-'Ti3'!AE21","v":0},{"$error":"#DIV/0!"},{"$error":"#DIV/0!"},{"$f":"V20+'Ti3'!AH21-'Ti3'!AL21","v":0},{"$f":"W20+'Ti3'!AI21-'Ti3'!AM21","v":0},{"$f":"X20+'Ti3'!AJ21-'Ti3'!AN21","v":0},{"$f":"Y20+'Ti3'!AK21-'Ti3'!AO21","v":0},{"$error":"#DIV/0!"},{"$error":"#DIV/0!"},{"$f":"AB20+'Ti3'!AR21-'Ti3'!AT21","v":0},{"$f":"AC20+'Ti3'!AS21-'Ti3'!AU21","v":0},null,{"$f":"AE20+'Ti3'!AW21-'Ti3'!AX21","v":0},null,{"$f":"AG20+'Ti3'!AZ21-'Ti3'!BA21","v":0}]
[null,"Joukkue","Yhteen",{"$f":"SUM(D7:D20)","v":0},{"$f":"SUM(E7:E20)","v":0},{"$f":"SUM(F7:F20)","v":0},{"$f":"SUM(G7:G20)","v":0},{"$f":"(D21+E21)/(D21+E21+F21+G21)*100","v":{"$error":"#DIV/0!"}},{"$f":"G21/(D21+E21+F21+G21)*100","v":{"$error":"#DIV/0!"}},{"$f":"SUM(J7:J20)","v":0},{"$f":"SUM(K7:K20)","v":0},{"$f":"SUM(L7:L20)","v":0},{"$f":"SUM(M7:M20)","v":0},{"$error":"#DIV/0!"},{"$error":"#DIV/0!"},{"$f":"SUM(P7:P20)","v":0},{"$f":"SUM(Q7:Q20)","v":0},{"$f":"SUM(R7:R20)","v":0},{"$f":"SUM(S7:S20)","v":0},{"$error":"#DIV/0!"},{"$error":"#DIV/0!"},{"$f":"SUM(V7:V20)","v":0},{"$f":"SUM(W7:W20)","v":0},{"$f":"SUM(X7:X20)","v":0},{"$f":"SUM(Y7:Y20)","v":0},{"$f":"(V21+W21)/(V21+W21+X21+Y21)*100","v":{"$error":"#DIV/0!"}},{"$f":"Y21/(V21+W21+X21+Y21)*100","v":{"$error":"#DIV/0!"}},{"$f":"SUM(AB7:AB20)","v":0},{"$f":"SUM(AC7:AC20)","v":0},null,{"$f":"SUM(AE7:AE20)","v":0},null,{"$f":"SUM(AG7:AG20)","v":0}]
[]
[null,"Joukkuetilasto","ottelussa",{"$f":"omayhte!D21","v":0},{"$f":"omayhte!E21","v":0},{"$f":"omayhte!F21","v":0},{"$f":"omayhte!G21","v":0},{"$f":"omayhte!H21","v":{"$error":"#DIV/0!"}},{"$f":"omayhte!I21","v":{"$error":"#DIV/0!"}},{"$f":"omayhte!J21","v":0},{"$f":"omayhte!K21","v":0},{"$f":"omayhte!L21","v":0},{"$f":"omayhte!M21","v":0},{"$f":"omayhte!N21","v":{"$error":"#DIV/0!"}},{"$f":"omayhte!O21","v":{"$error":"#DIV/0!"}},{"$f":"omayhte!P21","v":0},{"$f":"omayhte!Q21","v":0},{"$f":"omayhte!R21","v":0},{"$f":"omayhte!S21","v":0},{"$f":"omayhte!T21","v":{"$error":"#DIV/0!"}},{"$f":"omayhte!U21","v":{"$error":"#DIV/0!"}},{"$f":"omayhte!V21","v":0},{"$f":"omayhte!W21","v":0},{"$f":"omayhte!X21","v":0},{"$f":"omayhte!Y21","v":0},{"$f":"omayhte!Z21","v":{"$error":"#DIV/0!"}},{"$f":"omayhte!AA21","v":{"$error":"#DIV/0!"}},{"$f":"omayhte!AB21","v":0},{"$f":"omayhte!AC21","v":0},{"$f":"omayhte!AD21","v":0},{"$f":"omayhte!AE21","v":0},{"$f":"omayhte!AF26","v":0},{"$f":"omayhte!AG26","v":0}]
[]
[null,"Joukkue","Yhteen",{"$f":"SUM(D27:D40)","v":0},0,0,0,0,{"$f":"SUM(I27:I40)","v":0},0,0,0]
["Nro","Sukunimi","Etunimi","V","H","S","T","Hä","VO","H","Al","Tv","PM",null,{"$f":"SUM(J21:M21)","v":0},"VO-hyökkäystä joista…",null,null,null,null,{"$f":"SUM(P21:S21)","v":0},"Jatko-hyökkäystä joista…",null,null,null,null,"Vastaanoton jakautuminen"]
[{"$f":"'Ti1'!A8","v":1},{"$f":"'Ti1'!B8","v":"libero"},{"$f":"'Ti1'!C8","v":0},{"$f":"J7+V7+AB7+P7","v":0},{"$f":"J7+P7","v":0},{"$f":"V7","v":0},{"$f":"AB7","v":0},{"$f":"G7+M7+Y7+S7+L7+R7+AG7","v":0},{"$f":"G7","v":0},{"$f":"M7+S7+R7+L7","v":0},{"$f":"Y7","v":0},{"$f":"AG7","v":0},{"$f":"D27-H27","v":0},null,{"$f":"(SUM(J14:M16)/O26)*100","v":{"$error":"#DIV/0!"}},"%:ia ykköshyök.",null,null,{"$f":"(SUM(J14:J16)/SUM(J14:M16)*100)","v":{"$error":"#DIV/0!"}},null,{"$f":"(SUM(P14:S16)/U26)*100","v":{"$error":"#DIV/0!"}},"%:ia ykköshyök.",null,null,{"$f":"(SUM(P14:P16)/SUM(P14:S16)*100)","v":{"$error":"#DIV/0!"}},null,{"$f":"(E7+F7+G7+D7)/(E21+F21+G21+D21)*100","v":{"$error":"#DIV/0!"}},"%:ia liberolle",null,"+","+",{"$f":"AVERAGE(H8)","v":{"$error":"#DIV/0!"}},{"$f":"AVERAGE(H7)","v":{"$error":"#DIV/0!"}}]
[{"$f":"'Ti1'!A9","v":2},{"$f":"'Ti1'!B9","v":"yp"},{"$f":"'Ti1'!C9","v":0},{"$f":"J8+V8+AB8+P8","v":0},{"$f":"J8+P8","v":0},{"$f":"V8","v":0},{"$f":"AB8","v":0},{"$f":"G8+M8+Y8+S8+L8+R8+AG8","v":0},{"$f":"G8","v":0},{"$f":"M8+S8+R8+L8","v":0},{"$f":"Y8","v":0},{"$f":"AG8","v":0},{"$f":"D28-H28","v":0},null,{"$f":"(SUM(J12:M13)/O26)*100","v":{"$error":"#DIV/0!"}},"%:ia hakkurille",null,null,{"$f":"(SUM(J12:J13)/SUM(J12:M13)*100)","v":{"$error":"#DIV/0!"}},null,{"$f":"(SUM(P12:S13)/U26)*100","v":{"$error":"#DIV/0!"}},"%:ia hakkurille",null,null,{"$f":"(SUM(P12:P13)/SUM(P12:S13)*100)","v":{"$error":"#DIV/0!"}},null,{"$f":"100-AA27","v":{"$error":"#DIV/0!"}},"%:ia muille",null,"+","+",{"$f":"(SUM(D9:E18)/SUM(D9:G18))*100","v":{"$error":"#DIV/0!"}},{"$f":"(SUM(D8:E18)/SUM(D8:G18))*100","v":{"$error":"#DIV/0!"}}]
[{"$f":"'Ti1'!A10","v":3},{"$f":"'Ti1'!B10","v":"yp"},{"$f":"'Ti1'!C10","v":0},0,0,0,0,0,0,0,0,0,0,null,{"$f":"(SUM(J8:M11)/O26)*100","v":{"$error":"#DIV/0!"}},"%:ia laitureille",null,null,{"$f":"(SUM(J8:J11)/SUM(J8:M11)*100)","v":{"$error":"#DIV/0!"}},null,{"$f":"(SUM(P8:S11)/U26)*100","v":{"$error":"#DIV/0!"}},"%:ia laitureille",null,null,{"$f":"(SUM(P8:P11)/SUM(P8:S11)*100)","v":{"$error":"#DIV/0!"}}]
[{"$f":"'Ti1'!A11","v":4},{"$f":"'Ti1'!B11","v":"yp"},{"$f":"'Ti1'!C11","v":0},0,0,0,0,0,0,0,0,0,0,null,{"$f":"(SUM(J17:M18)/O26)*100","v":{"$error":"#DIV/0!"}},"%:ia passari",null,null,{"$f":"(SUM(J17:J18)/SUM(J17:M18)*100)","v":{"$error":"#DIV/0!"}},null,{"$f":"(SUM(P17:S18)/U26)*100","v":{"$error":"#DIV/0!"}},"%:ia passari",null,null,{"$f":"(SUM(P17:P18)/SUM(P17:S18)*100)","v":{"$error":"#DIV/0!"}}]
[{"$f":"'Ti1'!A12","v":5},{"$f":"'Ti1'!B12","v":"yp"},{"$f":"'Ti1'!C12","v":0},0,0,0,0,0,0,0,0,0,0,null,null,null,null,null,null,null,null,null,null,null,null,null,{"$f":"L21+R21","v":0},"Vastustajan torjunta"]
[{"$f":"'Ti1'!A13","v":6},{"$f":"'Ti1'!B13","v":"h"},{"$f":"'Ti1'!C13","v":0},0,0,0,0,0,0,0,0,0,0]
[{"$f":"'Ti1'!A14","v":7},{"$f":"'Ti1'!B14","v":"h"},{"$f":"'Ti1'!C14","v":0},0,0,0,0,0,0,0,0,0,0,null,{"$f":"M21+S21+Y21+G21+AG21+L21+R21","v":0},"pistettä olemme antaneet omilla virheillä"]
[{"$f":"'Ti1'!A15","v":8},{"$f":"'Ti1'!B15","v":"kt"},{"$f":"'Ti1'!C15","v":0},0,0,0,0,0,0,0,0,0,0,null,null,"Vastustajalta olemme saaneet pisteitä:"]
[{"$f":"'Ti1'!A16","v":9},{"$f":"'Ti1'!B16","v":"kt"},{"$f":"'Ti1'!C16","v":0},0,0,0,0,0,0,0,0,0,0,null,{"$f":"'Ti3'!AI1+Erä3!O35","v":0},"pistettä syöttövirheillä"]
[{"$f":"'Ti1'!A17","v":10},{"$f":"'Ti1'!B17","v":"kt"},{"$f":"'Ti1'!C17","v":0},0,0,0,0,0,0,0,0,0,0,null,{"$f":"'Ti3'!AI2+Erä3!O36","v":0},"pistettä suorilla hyökkäysvirheillä"]
[{"$f":"'Ti1'!A18","v":11},{"$f":"'Ti1'!B18","v":"p"},{"$f":"'Ti1'!C18","v":0},0,0,0,0,0,0,0,0,0,0,null,{"$f":"'Ti3'!AI3+Erä3!O37","v":0},"pistettä teknisillä virheillä"]
[{"$f":"'Ti1'!A19","v":12},{"$f":"'Ti1'!B19","v":"p"},{"$f":"'Ti1'!C19","v":0},0,0,0,0,0,0,0,0,0,0,null,{"$f":"SUM(O35:O37)","v":0},"pistettä yhteensä vastustajan virheillä"]
[{"$f":"'Ti1'!A20","v":0},{"$f":"'Ti1'!B20","v":0},{"$f":"'Ti1'!C20","v":0},0,0,0,0,0,0,0,0,0,0,null,{"$f":"O38-O33","v":0},"pistettä nettovaikutus"]
[{"$f":"'Ti1'!A21","v":0},{"$f":"'Ti1'!B21","v":0},{"$f":"'Ti1'!C21","v":0},0,0,0,0,0,0,0,0,0,0]

{"sheet":"Ti4","index":6,"n_rows":21,"n_cols":53,"rows_kept":21,"cut":false,"hidden":false,"merged":[[5,7,5,10],[5,17,5,20],[5,27,5,30],[5,37,5,40],[5,45,5,46]]}
[null,"Joukkueet","Erä 4","Pisteet",null,null,null,null,null,null,null,null,null,null,null,null,"Vastustajan antamat pisteet:",null,null,null,null,null,null,null,null,null,null,null,null,null,null,null,null,null,null,"Syöttö"]
[null,{"$f":"'Ti1'!B2","v":"Omajoukkue"},{"$f":"IF(D2>24,IF(D2-D3>1,1,0),0)","v":0},{"$f":"D2+E2","v":0},null,null,null,null,null,null,null,null,null,null,null,null,null,null,null,null,null,null,null,null,null,null,null,null,null,null,null,null,null,null,null,"Hyökkäys"]
[null,{"$f":"'Ti1'!B3","v":"Vierasjoukkue"},{"$f":"IF(D3>24,IF(D3-D2>1,1,0),0)","v":0},{"$f":"D3+E3","v":0},null,null,null,null,null,null,null,null,null,null,null,null,null,null,null,null,null,null,null,null,null,null,null,null,null,null,null,null,null,null,null,"Tekn.virhe"]
[null,null,null,null,null,null,null,null,null,null,null,null,null,null,null,"Ei hyök",null,null,null,null,null,null,null,null,null,"Ei hyök"]
[null,null,null,"Vast.otto",null,null,null,null,null,null,null,null,null,"VO-hyök",null,null,null,null,null,null,null,null,null,"Jatko-hyök",null,null,null,null,null,null,null,null,null,"Aloitus",null,null,null,null,null,null,null,null,null,"Torj.",null,null,null,null,"Puol",null,null,"Tv"]
[null,null,"Jouk.tilastot",{"$f":"Erä4!$D$21","v":0},{"$f":"Erä4!$H$21","v":{"$error":"#DIV/0!"}},{"$f":"Erä4!$G$21","v":0},{"$f":"Erä4!$I$21","v":{"$error":"#DIV/0!"}},"Korjaus",null,null,null,null,null,{"$f":"Erä4!$J$21","v":0},{"$f":"Erä4!$N$21","v":{"$error":"#DIV/0!"}},{"$f":"SUM(Erä4!L21+Erä4!M21)","v":0},{"$f":"Erä4!$O$21","v":{"$error":"#DIV/0!"}},"Korjaus",null,null,null,null,null,{"$f":"Erä4!$P$21","v":0},{"$f":"Erä4!$T$21","v":{"$error":"#DIV/0!"}},{"$f":"SUM(Erä4!R21+Erä4!S21)","v":0},{"$f":"Erä4!$U$21","v":{"$error":"#DIV/0!"}},"Korjaus",null,null,null,null,null,{"$f":"Erä4!$V$21","v":0},{"$f":"Erä4!$Z$21","v":{"$error":"#DIV/0!"}},{"$f":"Erä4!$Y$21","v":0},{"$f":"Erä4!$AA$21","v":{"$error":"#DIV/0!"}},"Korjaus",null,null,null,null,null,{"$f":"Erä4!AB21","v":0},{"$f":"Erä4!AC21","v":0},"Kor",null,null,{"$f":"Erä4!$AE$21","v":0},"Kor",null,{"$f":"Erä4!$AG$21","v":0},"Kor"]
["N:o","Sukunimi","Etunimi",1,2,3,4,1,2,3,4,null,null,1,2,"To",3,1,2,"To",3,null,null,1,2,"To",3,1,2,"To",3,null,null,1,2,3,4,1,2,3,4,null,null,1,2,1,2,null,1,1,null,1,1]
[{"$f":"'Ti1'!A8","v":1},{"$f":"'Ti1'!B8","v":"libero"},{"$f":"'Ti1'!C8","v":0}]
[{"$f":"'Ti1'!A9","v":2},{"$f":"'Ti1'!B9","v":"yp"},{"$f":"'Ti1'!C9","v":0}]
[{"$f":"'Ti1'!A10","v":3},{"$f":"'Ti1'!B10","v":"yp"},{"$f":"'Ti1'!C10","v":0}]
[{"$f":"'Ti1'!A11","v":4},{"$f":"'Ti1'!B11","v":"yp"},{"$f":"'Ti1'!C11","v":0}]
[{"$f":"'Ti1'!A12","v":5},{"$f":"'Ti1'!B12","v":"yp"},{"$f":"'Ti1'!C12","v":0}]
[{"$f":"'Ti1'!A13","v":6},{"$f":"'Ti1'!B13","v":"h"},{"$f":"'Ti1'!C13","v":0}]
[{"$f":"'Ti1'!A14","v":7},{"$f":"'Ti1'!B14","v":"h"},{"$f":"'Ti1'!C14","v":0}]
[{"$f":"'Ti1'!A15","v":8},{"$f":"'Ti1'!B15","v":"kt"},{"$f":"'Ti1'!C15","v":0}]
[{"$f":"'Ti1'!A16","v":9},{"$f":"'Ti1'!B16","v":"kt"},{"$f":"'Ti1'!C16","v":0}]
[{"$f":"'Ti1'!A17","v":10},{"$f":"'Ti1'!B17","v":"kt"},{"$f":"'Ti1'!C17","v":0}]
[{"$f":"'Ti1'!A18","v":11},{"$f":"'Ti1'!B18","v":"p"},{"$f":"'Ti1'!C18","v":0}]
[{"$f":"'Ti1'!A19","v":12},{"$f":"'Ti1'!B19","v":"p"},{"$f":"'Ti1'!C19","v":0}]
[{"$f":"'Ti1'!A20","v":0},{"$f":"'Ti1'!B20","v":0},{"$f":"'Ti1'!C20","v":0}]
[{"$f":"'Ti1'!A21","v":0},{"$f":"'Ti1'!B21","v":0},{"$f":"'Ti1'!C21","v":0}]

{"sheet":"Erä4","index":7,"n_rows":40,"n_cols":33,"rows_kept":40,"cut":false,"hidden":false,"merged":[]}
[null,"Joukkueet","Erä 4","Pisteet",null,null,null,null,null,"Vastustajan antamat pisteet:",null,null,null,null,null,null,{"$f":"O38","v":0}]
[null,{"$f":"'Ti1'!B2","v":"Omajoukkue"},{"$f":"'Ti4'!C2","v":0},{"$f":"'Ti4'!D2","v":0}]
[null,{"$f":"'Ti1'!B3","v":"Vierasjoukkue"},{"$f":"'Ti4'!C3","v":0},{"$f":"'Ti4'!D3","v":0}]
[null,null,null,null,null,null,null,null,null,null,{"$f":"K4+'Ti4'!O4","v":0},"Ei hyökkäystä",null,null,null,null,{"$f":"Q4+'Ti4'!Y4","v":0},"Ei hyökkäystä"]
[null,null,null,"Vast.otto",null,null,null,null,null,"Vast.otto-hyökkäys",null,null,null,null,null,"Jatko-hyökkäys",null,null,null,null,null,"Aloitus",null,null,null,null,null,"Torjunta",null,null,"Puol",null,"Tv"]
["Nro","Sukunimi","Etunimi",1,2,3,4,"P","M",1,2,"To",3,"P","M",1,2,"To",3,"P","M",1,2,3,4,"P","M",1,2,null,1,null,1]
[{"$f":"'Ti1'!A8","v":1},{"$f":"'Ti1'!B8","v":"libero"},{"$f":"'Ti1'!C8","v":0},{"$f":"D7+'Ti4'!D8-'Ti4'!H8","v":0},{"$f":"E7+'Ti4'!E8-'Ti4'!I8","v":0},{"$f":"F7+'Ti4'!F8-'Ti4'!J8","v":0},{"$f":"G7+'Ti4'!G8-'Ti4'!K8","v":0},{"$f":"(D7+E7)/(D7+E7+F7+G7)*100","v":{"$error":"#DIV/0!"}},{"$f":"G7/(D7+E7+F7+G7)*100","v":{"$error":"#DIV/0!"}},{"$f":"J7+'Ti4'!N8-'Ti4'!R8","v":0},{"$f":"K7+'Ti4'!O8-'Ti4'!S8","v":0},{"$f":"L7+'Ti4'!P8-'Ti4'!T8","v":0},{"$f":"M7+'Ti4'!Q8-'Ti4'!U8","v":0},{"$f":"J7/(J7+K7+L7+M7)*100","v":{"$error":"#DIV/0!"}},{"$f":"(L7+M7)/(J7+K7+L7+M7)*100","v":{"$error":"#DIV/0!"}},{"$f":"P7+'Ti4'!X8-'Ti4'!AB8","v":0},{"$f":"Q7+'Ti4'!Y8-'Ti4'!AC8","v":0},{"$f":"R7+'Ti4'!Z8-'Ti4'!AD8","v":0},{"$f":"S7+'Ti4'!AA8-'Ti4'!AE8","v":0},{"$f":"P7/(P7+Q7+R7+S7)*100","v":{"$error":"#DIV/0!"}},{"$f":"(R7+S7)/(P7+Q7+S7)*100","v":{"$error":"#DIV/0!"}},{"$f":"V7+'Ti4'!AH8-'Ti4'!AL8","v":0},{"$f":"W7+'Ti4'!AI8-'Ti4'!AM8","v":0},{"$f":"X7+'Ti4'!AJ8-'Ti4'!AN8","v":0},{"$f":"Y7+'Ti4'!AK8-'Ti4'!AO8","v":0},{"$f":"(V7+W7)/(V7+W7+X7+Y7)*100","v":{"$error":"#DIV/0!"}},{"$f":"Y7/(V7+W7+X7+Y7)*100","v":{"$error":"#DIV/0!"}},{"$f":"AB7+'Ti4'!AR8-'Ti4'!AT8","v":0},{"$f":"AC7+'Ti4'!AS8-'Ti4'!AU8","v":0},null,{"$f":"AE7+'Ti4'!AW8-'Ti4'!AX8","v":0},null,{"$f":"AG7+'Ti4'!AZ8-'Ti4'!BA8","v":0}]
[{"$f":"'Ti1'!A9","v":2},{"$f":"'Ti1'!B9","v":"yp"},{"$f":"'Ti1'!C9","v":0},{"$f":"D8+'Ti4'!D9-'Ti4'!H9","v":0},{"$f":"E8+'Ti4'!E9-'Ti4'!I9","v":0},{"$f":"F8+'Ti4'!F9-'Ti4'!J9","v":0},{"$f":"G8+'Ti4'!G9-'Ti4'!K9","v":0},{"$f":"(D8+E8)/(D8+E8+F8+G8)*100","v":{"$error":"#DIV/0!"}},{"$f":"G8/(D8+E8+F8+G8)*100","v":{"$error":"#DIV/0!"}},{"$f":"J8+'Ti4'!N9","v":0},{"$f":"K8+'Ti4'!O9","v":0},{"$f":"L8+'Ti4'!P9","v":0},{"$f":"M8+'Ti4'!Q9","v":0},{"$f":"J8/(J8+K8+L8+M8)*100","v":{"$error":"#DIV/0!"}},{"$f":"(L8+M8)/(J8+K8+L8+M8)*100","v":{"$error":"#DIV/0!"}},{"$f":"P8+'Ti4'!X9-'Ti4'!AB9","v":0},{"$f":"Q8+'Ti4'!Y9-'Ti4'!AC9","v":0},{"$f":"R8+'Ti4'!Z9-'Ti4'!AD9","v":0},{"$f":"S8+'Ti4'!AA9-'Ti4'!AE9","v":0},{"$f":"P8/(P8+Q8+R8+S8)*100","v":{"$error":"#DIV/0!"}},{"$f":"(R8+S8)/(P8+Q8+S8)*100","v":{"$error":"#DIV/0!"}},{"$f":"V8+'Ti4'!AH9-'Ti4'!AL9","v":0},{"$f":"W8+'Ti4'!AI9-'Ti4'!AM9","v":0},{"$f":"X8+'Ti4'!AJ9-'Ti4'!AN9","v":0},{"$f":"Y8+'Ti4'!AK9-'Ti4'!AO9","v":0},{"$f":"(V8+W8)/(V8+W8+X8+Y8)*100","v":{"$error":"#DIV/0!"}},{"$f":"Y8/(V8+W8+X8+Y8)*100","v":{"$error":"#DIV/0!"}},{"$f":"AB8+'Ti4'!AR9-'Ti4'!AT9","v":0},{"$f":"AC8+'Ti4'!AS9-'Ti4'!AU9","v":0},null,{"$f":"AE8+'Ti4'!AW9-'Ti4'!AX9","v":0},null,{"$f":"AG8+'Ti4'!AZ9-'Ti4'!BA9","v":0}]
[{"$f":"'Ti1'!A10","v":3},{"$f":"'Ti1'!B10","v":"yp"},{"$f":"'Ti1'!C10","v":0},{"$f":"D9+'Ti4'!D10-'Ti4'!H10","v":0},{"$f":"E9+'Ti4'!E10-'Ti4'!I10","v":0},{"$f":"F9+'Ti4'!F10-'Ti4'!J10","v":0},{"$f":"G9+'Ti4'!G10-'Ti4'!K10","v":0},{"$f":"(D9+E9)/(D9+E9+F9+G9)*100","v":{"$error":"#DIV/0!"}},{"$f":"G9/(D9+E9+F9+G9)*100","v":{"$error":"#DIV/0!"}},{"$f":"J9+'Ti4'!N10","v":0},{"$f":"K9+'Ti4'!O10","v":0},{"$f":"L9+'Ti4'!P10","v":0},{"$f":"M9+'Ti4'!Q10","v":0},{"$error":"#DIV/0!"},{"$error":"#DIV/0!"},{"$f":"P9+'Ti4'!X10-'Ti4'!AB10","v":0},{"$f":"Q9+'Ti4'!Y10-'Ti4'!AC10","v":0},{"$f":"R9+'Ti4'!Z10-'Ti4'!AD10","v":0},{"$f":"S9+'Ti4'!AA10-'Ti4'!AE10","v":0},{"$error":"#DIV/0!"},{"$error":"#DIV/0!"},{"$f":"V9+'Ti4'!AH10-'Ti4'!AL10","v":0},{"$f":"W9+'Ti4'!AI10-'Ti4'!AM10","v":0},{"$f":"X9+'Ti4'!AJ10-'Ti4'!AN10","v":0},{"$f":"Y9+'Ti4'!AK10-'Ti4'!AO10","v":0},{"$f":"(V9+W9)/(V9+W9+X9+Y9)*100","v":{"$error":"#DIV/0!"}},{"$f":"Y9/(V9+W9+X9+Y9)*100","v":{"$error":"#DIV/0!"}},{"$f":"AB9+'Ti4'!AR10-'Ti4'!AT10","v":0},{"$f":"AC9+'Ti4'!AS10-'Ti4'!AU10","v":0},null,{"$f":"AE9+'Ti4'!AW10-'Ti4'!AX10","v":0},null,{"$f":"AG9+'Ti4'!AZ10-'Ti4'!BA10","v":0}]
[{"$f":"'Ti1'!A11","v":4},{"$f":"'Ti1'!B11","v":"yp"},{"$f":"'Ti1'!C11","v":0},{"$f":"D10+'Ti4'!D11-'Ti4'!H11","v":0},{"$f":"E10+'Ti4'!E11-'Ti4'!I11","v":0},{"$f":"F10+'Ti4'!F11-'Ti4'!J11","v":0},{"$f":"G10+'Ti4'!G11-'Ti4'!K11","v":0},{"$error":"#DIV/0!"},{"$error":"#DIV/0!"},{"$f":"J10+'Ti4'!N11","v":0},{"$f":"K10+'Ti4'!O11","v":0},{"$f":"L10+'Ti4'!P11","v":0},{"$f":"M10+'Ti4'!Q11","v":0},{"$error":"#DIV/0!"},{"$error":"#DIV/0!"},{"$f":"P10+'Ti4'!X11-'Ti4'!AB11","v":0},{"$f":"Q10+'Ti4'!Y11-'Ti4'!AC11","v":0},{"$f":"R10+'Ti4'!Z11-'Ti4'!AD11","v":0},{"$f":"S10+'Ti4'!AA11-'Ti4'!AE11","v":0},{"$error":"#DIV/0!"},{"$error":"#DIV/0!"},{"$f":"V10+'Ti4'!AH11-'Ti4'!AL11","v":0},{"$f":"W10+'Ti4'!AI11-'Ti4'!AM11","v":0},{"$f":"X10+'Ti4'!AJ11-'Ti4'!AN11","v":0},{"$f":"Y10+'Ti4'!AK11-'Ti4'!AO11","v":0},{"$error":"#DIV/0!"},{"$error":"#DIV/0!"},{"$f":"AB10+'Ti4'!AR11-'Ti4'!AT11","v":0},{"$f":"AC10+'Ti4'!AS11-'Ti4'!AU11","v":0},null,{"$f":"AE10+'Ti4'!AW11-'Ti4'!AX11","v":0},null,{"$f":"AG10+'Ti4'!AZ11-'Ti4'!BA11","v":0}]
[{"$f":"'Ti1'!A12","v":5},{"$f":"'Ti1'!B12","v":"yp"},{"$f":"'Ti1'!C12","v":0},{"$f":"D11+'Ti4'!D12-'Ti4'!H12","v":0},{"$f":"E11+'Ti4'!E12-'Ti4'!I12","v":0},{"$f":"F11+'Ti4'!F12-'Ti4'!J12","v":0},{"$f":"G11+'Ti4'!G12-'Ti4'!K12","v":0},{"$error":"#DIV/0!"},{"$error":"#DIV/0!"},{"$f":"J11+'Ti4'!N12","v":0},{"$f":"K11+'Ti4'!O12","v":0},{"$f":"L11+'Ti4'!P12","v":0},{"$f":"M11+'Ti4'!Q12","v":0},{"$error":"#DIV/0!"},{"$error":"#DIV/0!"},{"$f":"P11+'Ti4'!X12-'Ti4'!AB12","v":0},{"$f":"Q11+'Ti4'!Y12-'Ti4'!AC12","v":0},{"$f":"R11+'Ti4'!Z12-'Ti4'!AD12","v":0},{"$f":"S11+'Ti4'!AA12-'Ti4'!AE12","v":0},{"$error":"#DIV/0!"},{"$error":"#DIV/0!"},{"$f":"V11+'Ti4'!AH12-'Ti4'!AL12","v":0},{"$f":"W11+'Ti4'!AI12-'Ti4'!AM12","v":0},{"$f":"X11+'Ti4'!AJ12-'Ti4'!AN12","v":0},{"$f":"Y11+'Ti4'!AK12-'Ti4'!AO12","v":0},{"$error":"#DIV/0!"},{"$error":"#DIV/0!"},{"$f":"AB11+'Ti4'!AR12-'Ti4'!AT12","v":0},{"$f":"AC11+'Ti4'!AS12-'Ti4'!AU12","v":0},null,{"$f":"AE11+'Ti4'!AW12-'Ti4'!AX12","v":0},null,{"$f":"AG11+'Ti4'!AZ12-'Ti4'!BA12","v":0}]
[{"$f":"'Ti1'!A13","v":6},{"$f":"'Ti1'!B13","v":"h"},{"$f":"'Ti1'!C13","v":0},{"$f":"D12+'Ti4'!D13-'Ti4'!H13","v":0},{"$f":"E12+'Ti4'!E13-'Ti4'!I13","v":0},{"$f":"F12+'Ti4'!F13-'Ti4'!J13","v":0},{"$f":"G12+'Ti4'!G13-'Ti4'!K13","v":0},{"$error":"#DIV/0!"},{"$error":"#DIV/0!"},{"$f":"J12+'Ti4'!N13","v":0},{"$f":"K12+'Ti4'!O13","v":0},{"$f":"L12+'Ti4'!P13","v":0},{"$f":"M12+'Ti4'!Q13","v":0},{"$error":"#DIV/0!"},{"$error":"#DIV/0!"},{"$f":"P12+'Ti4'!X13-'Ti4'!AB13","v":0},{"$f":"Q12+'Ti4'!Y13-'Ti4'!AC13","v":0},{"$f":"R12+'Ti4'!Z13-'Ti4'!AD13","v":0},{"$f":"S12+'Ti4'!AA13-'Ti4'!AE13","v":0},{"$error":"#DIV/0!"},{"$error":"#DIV/0!"},{"$f":"V12+'Ti4'!AH13-'Ti4'!AL13","v":0},{"$f":"W12+'Ti4'!AI13-'Ti4'!AM13","v":0},{"$f":"X12+'Ti4'!AJ13-'Ti4'!AN13","v":0},{"$f":"Y12+'Ti4'!AK13-'Ti4'!AO13","v":0},{"$error":"#DIV/0!"},{"$error":"#DIV/0!"},{"$f":"AB12+'Ti4'!AR13-'Ti4'!AT13","v":0},{"$f":"AC12+'Ti4'!AS13-'Ti4'!AU13","v":0},null,{"$f":"AE12+'Ti4'!AW13-'Ti4'!AX13","v":0},null,{"$f":"AG12+'Ti4'!AZ13-'Ti4'!BA13","v":0}]
[{"$f":"'Ti1'!A14","v":7},{"$f":"'Ti1'!B14","v":"h"},{"$f":"'Ti1'!C14","v":0},{"$f":"D13+'Ti4'!D14-'Ti4'!H14","v":0},{"$f":"E13+'Ti4'!E14-'Ti4'!I14","v":0},{"$f":"F13+'Ti4'!F14-'Ti4'!J14","v":0},{"$f":"G13+'Ti4'!G14-'Ti4'!K14","v":0},{"$error":"#DIV/0!"},{"$error":"#DIV/0!"},{"$f":"J13+'Ti4'!N14","v":0},{"$f":"K13+'Ti4'!O14","v":0},{"$f":"L13+'Ti4'!P14","v":0},{"$f":"M13+'Ti4'!Q14","v":0},{"$error":"#DIV/0!"},{"$error":"#DIV/0!"},{"$f":"P13+'Ti4'!X14-'Ti4'!AB14","v":0},{"$f":"Q13+'Ti4'!Y14-'Ti4'!AC14","v":0},{"$f":"R13+'Ti4'!Z14-'Ti4'!AD14","v":0},{"$f":"S13+'Ti4'!AA14-'Ti4'!AE14","v":0},{"$error":"#DIV/0!"},{"$error":"#DIV/0!"},{"$f":"V13+'Ti4'!AH14-'Ti4'!AL14","v":0},{"$f":"W13+'Ti4'!AI14-'Ti4'!AM14","v":0},{"$f":"X13+'Ti4'!AJ14-'Ti4'!AN14","v":0},{"$f":"Y13+'Ti4'!AK14-'Ti4'!AO14","v":0},{"$error":"#DIV/0!"},{"$error":"#DIV/0!"},{"$f":"AB13+'Ti4'!AR14-'Ti4'!AT14","v":0},{"$f":"AC13+'Ti4'!AS14-'Ti4'!AU14","v":0},null,{"$f":"AE13+'Ti4'!AW14-'Ti4'!AX14","v":0},null,{"$f":"AG13+'Ti4'!AZ14-'Ti4'!BA14","v":0}]
[{"$f":"'Ti1'!A15","v":8},{"$f":"'Ti1'!B15","v":"kt"},{"$f":"'Ti1'!C15","v":0},{"$f":"D14+'Ti4'!D15-'Ti4'!H15","v":0},{"$f":"E14+'Ti4'!E15-'Ti4'!I15","v":0},{"$f":"F14+'Ti4'!F15-'Ti4'!J15","v":0},{"$f":"G14+'Ti4'!G15-'Ti4'!K15","v":0},{"$error":"#DIV/0!"},{"$error":"#DIV/0!"},{"$f":"J14+'Ti4'!N15","v":0},{"$f":"K14+'Ti4'!O15","v":0},{"$f":"L14+'Ti4'!P15","v":0},{"$f":"M14+'Ti4'!Q15","v":0},{"$error":"#DIV/0!"},{"$error":"#DIV/0!"},{"$f":"P14+'Ti4'!X15-'Ti4'!AB15","v":0},{"$f":"Q14+'Ti4'!Y15-'Ti4'!AC15","v":0},{"$f":"R14+'Ti4'!Z15-'Ti4'!AD15","v":0},{"$f":"S14+'Ti4'!AA15-'Ti4'!AE15","v":0},{"$error":"#DIV/0!"},{"$error":"#DIV/0!"},{"$f":"V14+'Ti4'!AH15-'Ti4'!AL15","v":0},{"$f":"W14+'Ti4'!AI15-'Ti4'!AM15","v":0},{"$f":"X14+'Ti4'!AJ15-'Ti4'!AN15","v":0},{"$f":"Y14+'Ti4'!AK15-'Ti4'!AO15","v":0},{"$error":"#DIV/0!"},{"$error":"#DIV/0!"},{"$f":"AB14+'Ti4'!AR15-'Ti4'!AT15","v":0},{"$f":"AC14+'Ti4'!AS15-'Ti4'!AU15","v":0},null,{"$f":"AE14+'Ti4'!AW15-'Ti4'!AX15","v":0},null,{"$f":"AG14+'Ti4'!AZ15-'Ti4'!BA15","v":0}]
[{"$f":"'Ti1'!A16","v":9},{"$f":"'Ti1'!B16","v":"kt"},{"$f":"'Ti1'!C16","v":0},{"$f":"D15+'Ti4'!D16-'Ti4'!H16","v":0},{"$f":"E15+'Ti4'!E16-'Ti4'!I16","v":0},{"$f":"F15+'Ti4'!F16-'Ti4'!J16","v":0},{"$f":"G15+'Ti4'!G16-'Ti4'!K16","v":0},{"$error":"#DIV/0!"},{"$error":"#DIV/0!"},{"$f":"J15+'Ti4'!N16","v":0},{"$f":"K15+'Ti4'!O16","v":0},{"$f":"L15+'Ti4'!P16","v":0},{"$f":"M15+'Ti4'!Q16","v":0},{"$error":"#DIV/0!"},{"$error":"#DIV/0!"},{"$f":"P15+'Ti4'!X16-'Ti4'!AB16","v":0},{"$f":"Q15+'Ti4'!Y16-'Ti4'!AC16","v":0},{"$f":"R15+'Ti4'!Z16-'Ti4'!AD16","v":0},{"$f":"S15+'Ti4'!AA16-'Ti4'!AE16","v":0},{"$error":"#DIV/0!"},{"$error":"#DIV/0!"},{"$f":"V15+'Ti4'!AH16-'Ti4'!AL16","v":0},{"$f":"W15+'Ti4'!AI16-'Ti4'!AM16","v":0},{"$f":"X15+'Ti4'!AJ16-'Ti4'!AN16","v":0},{"$f":"Y15+'Ti4'!AK16-'Ti4'!AO16","v":0},{"$error":"#DIV/0!"},{"$error":"#DIV/0!"},{"$f":"AB15+'Ti4'!AR16-'Ti4'!AT16","v":0},{"$f":"AC15+'Ti4'!AS16-'Ti4'!AU16","v":0},null,{"$f":"AE15+'Ti4'!AW16-'Ti4'!AX16","v":0},null,{"$f":"AG15+'Ti4'!AZ16-'Ti4'!BA16","v":0}]
[{"$f":"'Ti1'!A17","v":10},{"$f":"'Ti1'!B17","v":"kt"},{"$f":"'Ti1'!C17","v":0},{"$f":"D16+'Ti4'!D17-'Ti4'!H17","v":0},{"$f":"E16+'Ti4'!E17-'Ti4'!I17","v":0},{"$f":"F16+'Ti4'!F17-'Ti4'!J17","v":0},{"$f":"G16+'Ti4'!G17-'Ti4'!K17","v":0},{"$error":"#DIV/0!"},{"$error":"#DIV/0!"},{"$f":"J16+'Ti4'!N17","v":0},{"$f":"K16+'Ti4'!O17","v":0},{"$f":"L16+'Ti4'!P17","v":0},{"$f":"M16+'Ti4'!Q17","v":0},{"$error":"#DIV/0!"},{"$error":"#DIV/0!"},{"$f":"P16+'Ti4'!X17-'Ti4'!AB17","v":0},{"$f":"Q16+'Ti4'!Y17-'Ti4'!AC17","v":0},{"$f":"R16+'Ti4'!Z17-'Ti4'!AD17","v":0},{"$f":"S16+'Ti4'!AA17-'Ti4'!AE17","v":0},{"$error":"#DIV/0!"},{"$error":"#DIV/0!"},{"$f":"V16+'Ti4'!AH17-'Ti4'!AL17","v":0},{"$f":"W16+'Ti4'!AI17-'Ti4'!AM17","v":0},{"$f":"X16+'Ti4'!AJ17-'Ti4'!AN17","v":0},{"$f":"Y16+'Ti4'!AK17-'Ti4'!AO17","v":0},{"$error":"#DIV/0!"},{"$error":"#DIV/0!"},{"$f":"AB16+'Ti4'!AR17-'Ti4'!AT17","v":0},{"$f":"AC16+'Ti4'!AS17-'Ti4'!AU17","v":0},null,{"$f":"AE16+'Ti4'!AW17-'Ti4'!AX17","v":0},null,{"$f":"AG16+'Ti4'!AZ17-'Ti4'!BA17","v":0}]
[{"$f":"'Ti1'!A18","v":11},{"$f":"'Ti1'!B18","v":"p"},{"$f":"'Ti1'!C18","v":0},{"$f":"D17+'Ti4'!D18-'Ti4'!H18","v":0},{"$f":"E17+'Ti4'!E18-'Ti4'!I18","v":0},{"$f":"F17+'Ti4'!F18-'Ti4'!J18","v":0},{"$f":"G17+'Ti4'!G18-'Ti4'!K18","v":0},{"$error":"#DIV/0!"},{"$error":"#DIV/0!"},{"$f":"J17+'Ti4'!N18","v":0},{"$f":"K17+'Ti4'!O18","v":0},{"$f":"L17+'Ti4'!P18","v":0},{"$f":"M17+'Ti4'!Q18","v":0},{"$error":"#DIV/0!"},{"$error":"#DIV/0!"},{"$f":"P17+'Ti4'!X18-'Ti4'!AB18","v":0},{"$f":"Q17+'Ti4'!Y18-'Ti4'!AC18","v":0},{"$f":"R17+'Ti4'!Z18-'Ti4'!AD18","v":0},{"$f":"S17+'Ti4'!AA18-'Ti4'!AE18","v":0},{"$error":"#DIV/0!"},{"$error":"#DIV/0!"},{"$f":"V17+'Ti4'!AH18-'Ti4'!AL18","v":0},{"$f":"W17+'Ti4'!AI18-'Ti4'!AM18","v":0},{"$f":"X17+'Ti4'!AJ18-'Ti4'!AN18","v":0},{"$f":"Y17+'Ti4'!AK18-'Ti4'!AO18","v":0},{"$error":"#DIV/0!"},{"$error":"#DIV/0!"},{"$f":"AB17+'Ti4'!AR18-'Ti4'!AT18","v":0},{"$f":"AC17+'Ti4'!AS18-'Ti4'!AU18","v":0},null,{"$f":"AE17+'Ti4'!AW18-'Ti4'!AX18","v":0},null,{"$f":"AG17+'Ti4'!AZ18-'Ti4'!BA18","v":0}]
[{"$f":"'Ti1'!A19","v":12},{"$f":"'Ti1'!B19","v":"p"},{"$f":"'Ti1'!C19","v":0},{"$f":"D18+'Ti4'!D19-'Ti4'!H19","v":0},{"$f":"E18+'Ti4'!E19-'Ti4'!I19","v":0},{"$f":"F18+'Ti4'!F19-'Ti4'!J19","v":0},{"$f":"G18+'Ti4'!G19-'Ti4'!K19","v":0},{"$error":"#DIV/0!"},{"$error":"#DIV/0!"},{"$f":"J18+'Ti4'!N19","v":0},{"$f":"K18+'Ti4'!O19","v":0},{"$f":"L18+'Ti4'!P19","v":0},{"$f":"M18+'Ti4'!Q19","v":0},{"$error":"#DIV/0!"},{"$error":"#DIV/0!"},{"$f":"P18+'Ti4'!X19-'Ti4'!AB19","v":0},{"$f":"Q18+'Ti4'!Y19-'Ti4'!AC19","v":0},{"$f":"R18+'Ti4'!Z19-'Ti4'!AD19","v":0},{"$f":"S18+'Ti4'!AA19-'Ti4'!AE19","v":0},{"$error":"#DIV/0!"},{"$error":"#DIV/0!"},{"$f":"V18+'Ti4'!AH19-'Ti4'!AL19","v":0},{"$f":"W18+'Ti4'!AI19-'Ti4'!AM19","v":0},{"$f":"X18+'Ti4'!AJ19-'Ti4'!AN19","v":0},{"$f":"Y18+'Ti4'!AK19-'Ti4'!AO19","v":0},{"$error":"#DIV/0!"},{"$error":"#DIV/0!"},{"$f":"AB18+'Ti4'!AR19-'Ti4'!AT19","v":0},{"$f":"AC18+'Ti4'!AS19-'Ti4'!AU19","v":0},null,{"$f":"AE18+'Ti4'!AW19-'Ti4'!AX19","v":0},null,{"$f":"AG18+'Ti4'!AZ19-'Ti4'!BA19","v":0}]
[{"$f":"'Ti1'!A20","v":0},{"$f":"'Ti1'!B20","v":0},{"$f":"'Ti1'!C20","v":0},{"$f":"D19+'Ti4'!D20-'Ti4'!H20","v":0},{"$f":"E19+'Ti4'!E20-'Ti4'!I20","v":0},{"$f":"F19+'Ti4'!F20-'Ti4'!J20","v":0},{"$f":"G19+'Ti4'!G20-'Ti4'!K20","v":0},{"$error":"#DIV/0!"},{"$error":"#DIV/0!"},{"$f":"J19+'Ti4'!N20","v":0},{"$f":"K19+'Ti4'!O20","v":0},{"$f":"L19+'Ti4'!P20","v":0},{"$f":"M19+'Ti4'!Q20","v":0},{"$error":"#DIV/0!"},{"$error":"#DIV/0!"},{"$f":"P19+'Ti4'!X20-'Ti4'!AB20","v":0},{"$f":"Q19+'Ti4'!Y20-'Ti4'!AC20","v":0},{"$f":"R19+'Ti4'!Z20-'Ti4'!AD20","v":0},{"$f":"S19+'Ti4'!AA20-'Ti4'!AE20","v":0},{"$error":"#DIV/0!"},{"$error":"#DIV/0!"},{"$f":"V19+'Ti4'!AH20-'Ti4'!AL20","v":0},{"$f":"W19+'Ti4'!AI20-'Ti4'!AM20","v":0},{"$f":"X19+'Ti4'!AJ20-'Ti4'!AN20","v":0},{"$f":"Y19+'Ti4'!AK20-'Ti4'!AO20","v":0},{"$error":"#DIV/0!"},{"$error":"#DIV/0!"},{"$f":"AB19+'Ti4'!AR20-'Ti4'!AT20","v":0},{"$f":"AC19+'Ti4'!AS20-'Ti4'!AU20","v":0},null,{"$f":"AE19+'Ti4'!AW20-'Ti4'!AX20","v":0},null,{"$f":"AG19+'Ti4'!AZ20-'Ti4'!BA20","v":0}]
[{"$f":"'Ti1'!A21","v":0},{"$f":"'Ti1'!B21","v":0},{"$f":"'Ti1'!C21","v":0},{"$f":"D20+'Ti4'!D21-'Ti4'!H21","v":0},{"$f":"E20+'Ti4'!E21-'Ti4'!I21","v":0},{"$f":"F20+'Ti4'!F21-'Ti4'!J21","v":0},{"$f":"G20+'Ti4'!G21-'Ti4'!K21","v":0},{"$error":"#DIV/0!"},{"$error":"#DIV/0!"},{"$f":"J20+'Ti4'!N21","v":0},{"$f":"K20+'Ti4'!O21","v":0},{"$f":"L20+'Ti4'!P21","v":0},{"$f":"M20+'Ti4'!Q21","v":0},{"$error":"#DIV/0!"},{"$error":"#DIV/0!"},{"$f":"P20+'Ti4'!X21-'Ti4'!AB21","v":0},{"$f":"Q20+'Ti4'!Y21-'Ti4'!AC21","v":0},{"$f":"R20+'Ti4'!Z21-'Ti4'!AD21","v":0},{"$f":"S20+'Ti4'!AA21-'Ti4'!AE21","v":0},{"$error":"#DIV/0!"},{"$error":"#DIV/0!"},{"$f":"V20+'Ti4'!AH21-'Ti4'!AL21","v":0},{"$f":"W20+'Ti4'!AI21-'Ti4'!AM21","v":0},{"$f":"X20+'Ti4'!AJ21-'Ti4'!AN21","v":0},{"$f":"Y20+'Ti4'!AK21-'Ti4'!AO21","v":0},{"$error":"#DIV/0!"},{"$error":"#DIV/0!"},{"$f":"AB20+'Ti4'!AR21-'Ti4'!AT21","v":0},{"$f":"AC20+'Ti4'!AS21-'Ti4'!AU21","v":0},null,{"$f":"AE20+'Ti4'!AW21-'Ti4'!AX21","v":0},null,{"$f":"AG20+'Ti4'!AZ21-'Ti4'!BA21","v":0}]
[null,"Joukkue","Yhteen",{"$f":"SUM(D7:D20)","v":0},{"$f":"SUM(E7:E20)","v":0},{"$f":"SUM(F7:F20)","v":0},{"$f":"SUM(G7:G20)","v":0},{"$f":"(D21+E21)/(D21+E21+F21+G21)*100","v":{"$error":"#DIV/0!"}},{"$f":"G21/(D21+E21+F21+G21)*100","v":{"$error":"#DIV/0!"}},{"$f":"SUM(J7:J20)","v":0},{"$f":"SUM(K7:K20)","v":0},{"$f":"SUM(L7:L20)","v":0},{"$f":"SUM(M7:M20)","v":0},{"$error":"#DIV/0!"},{"$error":"#DIV/0!"},{"$f":"SUM(P7:P20)","v":0},{"$f":"SUM(Q7:Q20)","v":0},{"$f":"SUM(R7:R20)","v":0},{"$f":"SUM(S7:S20)","v":0},{"$error":"#DIV/0!"},{"$error":"#DIV/0!"},{"$f":"SUM(V7:V20)","v":0},{"$f":"SUM(W7:W20)","v":0},{"$f":"SUM(X7:X20)","v":0},{"$f":"SUM(Y7:Y20)","v":0},{"$f":"(V21+W21)/(V21+W21+X21+Y21)*100","v":{"$error":"#DIV/0!"}},{"$f":"Y21/(V21+W21+X21+Y21)*100","v":{"$error":"#DIV/0!"}},{"$f":"SUM(AB7:AB20)","v":0},{"$f":"SUM(AC7:AC20)","v":0},null,{"$f":"SUM(AE7:AE20)","v":0},null,{"$f":"SUM(AG7:AG20)","v":0}]
[]
[null,"Joukkuetilasto","ottelussa",{"$f":"omayhte!D21","v":0},{"$f":"omayhte!E21","v":0},{"$f":"omayhte!F21","v":0},{"$f":"omayhte!G21","v":0},{"$f":"omayhte!H21","v":{"$error":"#DIV/0!"}},{"$f":"omayhte!I21","v":{"$error":"#DIV/0!"}},{"$f":"omayhte!J21","v":0},{"$f":"omayhte!K21","v":0},{"$f":"omayhte!L21","v":0},{"$f":"omayhte!M21","v":0},{"$f":"omayhte!N21","v":{"$error":"#DIV/0!"}},{"$f":"omayhte!O21","v":{"$error":"#DIV/0!"}},{"$f":"omayhte!P21","v":0},{"$f":"omayhte!Q21","v":0},{"$f":"omayhte!R21","v":0},{"$f":"omayhte!S21","v":0},{"$f":"omayhte!T21","v":{"$error":"#DIV/0!"}},{"$f":"omayhte!U21","v":{"$error":"#DIV/0!"}},{"$f":"omayhte!V21","v":0},{"$f":"omayhte!W21","v":0},{"$f":"omayhte!X21","v":0},{"$f":"omayhte!Y21","v":0},{"$f":"omayhte!Z21","v":{"$error":"#DIV/0!"}},{"$f":"omayhte!AA21","v":{"$error":"#DIV/0!"}},{"$f":"omayhte!AB21","v":0},{"$f":"omayhte!AC21","v":0},{"$f":"omayhte!AD21","v":0},{"$f":"omayhte!AE21","v":0},{"$f":"omayhte!AF26","v":0},{"$f":"omayhte!AG26","v":0}]
[]
[null,"Joukkue","Yhteen",{"$f":"SUM(D27:D40)","v":0},0,0,0,0,0,{"$f":"SUM(J27:J40)","v":0},0,0]
["Nro","Sukunimi","Etunimi","V","H","S","T","Hä","VO","H","Al","Tv","PM",null,{"$f":"SUM(J21:M21)","v":0},"VO-hyökkäystä joista…",null,null,null,null,{"$f":"SUM(P21:S21)","v":0},"Jatko-hyökkäystä joista…",null,null,null,null,"Vastaanoton jakautuminen"]
[{"$f":"'Ti1'!A8","v":1},{"$f":"'Ti1'!B8","v":"libero"},{"$f":"'Ti1'!C8","v":0},{"$f":"J7+V7+AB7+P7","v":0},{"$f":"J7+P7","v":0},{"$f":"V7","v":0},{"$f":"AB7","v":0},{"$f":"G7+M7+Y7+S7+L7+R7+AG7","v":0},{"$f":"G7","v":0},{"$f":"M7+S7+R7+L7","v":0},{"$f":"Y7","v":0},{"$f":"AG7","v":0},{"$f":"D27-H27","v":0},null,{"$f":"(SUM(J14:M16)/O26)*100","v":{"$error":"#DIV/0!"}},"%:ia ykköshyök.",null,null,{"$f":"(SUM(J14:J16)/SUM(J14:M16)*100)","v":{"$error":"#DIV/0!"}},null,{"$f":"(SUM(P14:S16)/U26)*100","v":{"$error":"#DIV/0!"}},"%:ia ykköshyök.",null,null,{"$f":"(SUM(P14:P16)/SUM(P14:S16)*100)","v":{"$error":"#DIV/0!"}},null,{"$f":"(E7+F7+G7+D7)/(E21+F21+G21+D21)*100","v":{"$error":"#DIV/0!"}},"%:ia liberolle",null,"+","+",{"$f":"AVERAGE(H8)","v":{"$error":"#DIV/0!"}},{"$f":"AVERAGE(H7)","v":{"$error":"#DIV/0!"}}]
[{"$f":"'Ti1'!A9","v":2},{"$f":"'Ti1'!B9","v":"yp"},{"$f":"'Ti1'!C9","v":0},{"$f":"J8+V8+AB8+P8","v":0},{"$f":"J8+P8","v":0},{"$f":"V8","v":0},{"$f":"AB8","v":0},{"$f":"G8+M8+Y8+S8+L8+R8+AG8","v":0},{"$f":"G8","v":0},{"$f":"M8+S8+R8+L8","v":0},{"$f":"Y8","v":0},{"$f":"AG8","v":0},{"$f":"D28-H28","v":0},null,{"$f":"(SUM(J12:M13)/O26)*100","v":{"$error":"#DIV/0!"}},"%:ia hakkurille",null,null,{"$f":"(SUM(J12:J13)/SUM(J12:M13)*100)","v":{"$error":"#DIV/0!"}},null,{"$f":"(SUM(P12:S13)/U26)*100","v":{"$error":"#DIV/0!"}},"%:ia hakkurille",null,null,{"$f":"(SUM(P12:P13)/SUM(P12:S13)*100)","v":{"$error":"#DIV/0!"}},null,{"$f":"100-AA27","v":{"$error":"#DIV/0!"}},"%:ia muille",null,"+","+",{"$f":"(SUM(D9:E18)/SUM(D9:G18))*100","v":{"$error":"#DIV/0!"}},{"$f":"(SUM(D8:E18)/SUM(D8:G18))*100","v":{"$error":"#DIV/0!"}}]
[{"$f":"'Ti1'!A10","v":3},{"$f":"'Ti1'!B10","v":"yp"},{"$f":"'Ti1'!C10","v":0},0,0,0,0,0,0,0,0,0,0,null,{"$f":"(SUM(J8:M11)/O26)*100","v":{"$error":"#DIV/0!"}},"%:ia laitureille",null,null,{"$f":"(SUM(J8:J11)/SUM(J8:M11)*100)","v":{"$error":"#DIV/0!"}},null,{"$f":"(SUM(P8:S11)/U26)*100","v":{"$error":"#DIV/0!"}},"%:ia laitureille",null,null,{"$f":"(SUM(P8:P11)/SUM(P8:S11)*100)","v":{"$error":"#DIV/0!"}}]
[{"$f":"'Ti1'!A11","v":4},{"$f":"'Ti1'!B11","v":"yp"},{"$f":"'Ti1'!C11","v":0},0,0,0,0,0,0,0,0,0,0,null,{"$f":"(SUM(J17:M18)/O26)*100","v":{"$error":"#DIV/0!"}},"%:ia passari",null,null,{"$f":"(SUM(J17:J18)/SUM(J17:M18)*100)","v":{"$error":"#DIV/0!"}},null,{"$f":"(SUM(P17:S18)/U26)*100","v":{"$error":"#DIV/0!"}},"%:ia passari",null,null,{"$f":"(SUM(P17:P18)/SUM(P17:S18)*100)","v":{"$error":"#DIV/0!"}}]
[{"$f":"'Ti1'!A12","v":5},{"$f":"'Ti1'!B12","v":"yp"},{"$f":"'Ti1'!C12","v":0},0,0,0,0,0,0,0,0,0,0,null,null,null,null,null,null,null,null,null,null,null,null,null,{"$f":"L21+R21","v":0},"Vastustajan torjunta"]
[{"$f":"'Ti1'!A13","v":6},{"$f":"'Ti1'!B13","v":"h"},{"$f":"'Ti1'!C13","v":0},0,0,0,0,0,0,0,0,0,0]
[{"$f":"'Ti1'!A14","v":7},{"$f":"'Ti1'!B14","v":"h"},{"$f":"'Ti1'!C14","v":0},0,0,0,0,0,0,0,0,0,0,null,{"$f":"M21+S21+Y21+G21+AG21+L21+R21","v":0},"pistettä olemme antaneet omilla virheillä"]
[{"$f":"'Ti1'!A15","v":8},{"$f":"'Ti1'!B15","v":"kt"},{"$f":"'Ti1'!C15","v":0},0,0,0,0,0,0,0,0,0,0,null,null,"Vastustajalta olemme saaneet pisteitä:"]
[{"$f":"'Ti1'!A16","v":9},{"$f":"'Ti1'!B16","v":"kt"},{"$f":"'Ti1'!C16","v":0},0,0,0,0,0,0,0,0,0,0,null,{"$f":"'Ti4'!AI1+Erä4!O35","v":0},"pistettä syöttövirheillä"]
[{"$f":"'Ti1'!A17","v":10},{"$f":"'Ti1'!B17","v":"kt"},{"$f":"'Ti1'!C17","v":0},0,0,0,0,0,0,0,0,0,0,null,{"$f":"'Ti4'!AI2+Erä4!O36","v":0},"pistettä suorilla hyökkäysvirheillä"]
[{"$f":"'Ti1'!A18","v":11},{"$f":"'Ti1'!B18","v":"p"},{"$f":"'Ti1'!C18","v":0},0,0,0,0,0,0,0,0,0,0,null,{"$f":"'Ti4'!AI3+Erä4!O37","v":0},"pistettä teknisillä virheillä"]
[{"$f":"'Ti1'!A19","v":12},{"$f":"'Ti1'!B19","v":"p"},{"$f":"'Ti1'!C19","v":0},0,0,0,0,0,0,0,0,0,0,null,{"$f":"SUM(O35:O37)","v":0},"pistettä yhteensä vastustajan virheillä"]
[{"$f":"'Ti1'!A20","v":0},{"$f":"'Ti1'!B20","v":0},{"$f":"'Ti1'!C20","v":0},0,0,0,0,0,0,0,0,0,0,null,{"$f":"O38-O33","v":0},"pistettä nettovaikutus"]
[{"$f":"'Ti1'!A21","v":0},{"$f":"'Ti1'!B21","v":0},{"$f":"'Ti1'!C21","v":0},0,0,0,0,0,0,0,0,0,0]

{"sheet":"Ti5","index":8,"n_rows":21,"n_cols":53,"rows_kept":21,"cut":false,"hidden":false,"merged":[[5,7,5,10],[5,17,5,20],[5,27,5,30],[5,37,5,40],[5,45,5,46]]}
[null,"Joukkueet","Erä 5","Pisteet",null,null,null,null,null,null,null,null,null,null,null,null,"Vastustajan antamat pisteet:",null,null,null,null,null,null,null,null,null,null,null,null,null,null,null,null,null,null,"Syöttö"]
[null,{"$f":"'Ti1'!B2","v":"Omajoukkue"},{"$f":"IF(D2>24,IF(D2-D3>1,1,0),0)","v":0},{"$f":"D2+E2","v":0},null,null,null,null,null,null,null,null,null,null,null,null,null,null,null,null,null,null,null,null,null,null,null,null,null,null,null,null,null,null,null,"Hyökkäys"]
[null,{"$f":"'Ti1'!B3","v":"Vierasjoukkue"},{"$f":"IF(D3>24,IF(D3-D2>1,1,0),0)","v":0},{"$f":"D3+E3","v":0},null,null,null,null,null,null,null,null,null,null,null,null,null,null,null,null,null,null,null,null,null,null,null,null,null,null,null,null,null,null,null,"Tekn.virhe"]
[null,null,null,null,null,null,null,null,null,null,null,null,null,null,null,"Ei hyök",null,null,null,null,null,null,null,null,null,"Ei hyök"]
[null,null,null,"Vast.otto",null,null,null,null,null,null,null,null,null,"VO-hyök",null,null,null,null,null,null,null,null,null,"Jatko-hyök",null,null,null,null,null,null,null,null,null,"Aloitus",null,null,null,null,null,null,null,null,null,"Torj.",null,null,null,null,"Puol",null,null,"Tv"]
[null,null,"Jouk.tilastot",{"$f":"Erä5!$D$21","v":0},{"$f":"Erä5!$H$21","v":{"$error":"#DIV/0!"}},{"$f":"Erä5!$G$21","v":0},{"$f":"Erä5!$I$21","v":{"$error":"#DIV/0!"}},"Korjaus",null,null,null,null,null,{"$f":"Erä5!$J$21","v":0},{"$f":"Erä5!$N$21","v":{"$error":"#DIV/0!"}},{"$f":"SUM(Erä5!L21+Erä5!M21)","v":0},{"$f":"Erä5!$O$21","v":{"$error":"#DIV/0!"}},"Korjaus",null,null,null,null,null,{"$f":"Erä5!$P$21","v":0},{"$f":"Erä5!$T$21","v":{"$error":"#DIV/0!"}},{"$f":"SUM(Erä5!R21+Erä5!S21)","v":0},{"$f":"Erä5!$U$21","v":{"$error":"#DIV/0!"}},"Korjaus",null,null,null,null,null,{"$f":"Erä5!$V$21","v":0},{"$f":"Erä5!$Z$21","v":{"$error":"#DIV/0!"}},{"$f":"Erä5!$Y$21","v":0},{"$f":"Erä5!$AA$21","v":{"$error":"#DIV/0!"}},"Korjaus",null,null,null,null,null,{"$f":"Erä5!AB21","v":0},{"$f":"Erä5!AC21","v":0},"Kor",null,null,{"$f":"Erä5!$AE$21","v":0},"Kor",null,{"$f":"Erä5!$AG$21","v":0},"Kor"]
["N:o","Sukunimi","Etunimi",1,2,3,4,1,2,3,4,null,null,1,2,"To",3,1,2,"To",3,null,null,1,2,"To",3,1,2,"To",3,null,null,1,2,3,4,1,2,3,4,null,null,1,2,1,2,null,1,1,null,1,1]
[{"$f":"'Ti1'!A8","v":1},{"$f":"'Ti1'!B8","v":"libero"},{"$f":"'Ti1'!C8","v":0}]
[{"$f":"'Ti1'!A9","v":2},{"$f":"'Ti1'!B9","v":"yp"},{"$f":"'Ti1'!C9","v":0}]
[{"$f":"'Ti1'!A10","v":3},{"$f":"'Ti1'!B10","v":"yp"},{"$f":"'Ti1'!C10","v":0}]
[{"$f":"'Ti1'!A11","v":4},{"$f":"'Ti1'!B11","v":"yp"},{"$f":"'Ti1'!C11","v":0}]
[{"$f":"'Ti1'!A12","v":5},{"$f":"'Ti1'!B12","v":"yp"},{"$f":"'Ti1'!C12","v":0}]
[{"$f":"'Ti1'!A13","v":6},{"$f":"'Ti1'!B13","v":"h"},{"$f":"'Ti1'!C13","v":0}]
[{"$f":"'Ti1'!A14","v":7},{"$f":"'Ti1'!B14","v":"h"},{"$f":"'Ti1'!C14","v":0}]
[{"$f":"'Ti1'!A15","v":8},{"$f":"'Ti1'!B15","v":"kt"},{"$f":"'Ti1'!C15","v":0}]
[{"$f":"'Ti1'!A16","v":9},{"$f":"'Ti1'!B16","v":"kt"},{"$f":"'Ti1'!C16","v":0}]
[{"$f":"'Ti1'!A17","v":10},{"$f":"'Ti1'!B17","v":"kt"},{"$f":"'Ti1'!C17","v":0}]
[{"$f":"'Ti1'!A18","v":11},{"$f":"'Ti1'!B18","v":"p"},{"$f":"'Ti1'!C18","v":0}]
[{"$f":"'Ti1'!A19","v":12},{"$f":"'Ti1'!B19","v":"p"},{"$f":"'Ti1'!C19","v":0}]
[{"$f":"'Ti1'!A20","v":0},{"$f":"'Ti1'!B20","v":0},{"$f":"'Ti1'!C20","v":0}]
[{"$f":"'Ti1'!A21","v":0},{"$f":"'Ti1'!B21","v":0},{"$f":"'Ti1'!C21","v":0}]

{"sheet":"Erä5","index":9,"n_rows":40,"n_cols":33,"rows_kept":40,"cut":false,"hidden":false,"merged":[]}
[null,"Joukkueet","Erä 5","Pisteet",null,null,null,null,null,"Vastustajan antamat pisteet:",null,null,null,null,null,null,{"$f":"O38","v":0}]
[null,{"$f":"'Ti1'!B2","v":"Omajoukkue"},{"$f":"'Ti5'!C2","v":0},{"$f":"'Ti5'!D2","v":0}]
[null,{"$f":"'Ti1'!B3","v":"Vierasjoukkue"},{"$f":"'Ti5'!C3","v":0},{"$f":"'Ti5'!D3","v":0}]
[null,null,null,null,null,null,null,null,null,null,{"$f":"K4+'Ti5'!O4","v":0},"Ei hyökkäystä",null,null,null,null,{"$f":"Q4+'Ti5'!Y4","v":0},"Ei hyökkäystä"]
[null,null,null,"Vast.otto",null,null,null,null,null,"Vast.otto-hyökkäys",null,null,null,null,null,"Jatko-hyökkäys",null,null,null,null,null,"Aloitus",null,null,null,null,null,"Torjunta",null,null,"Puol",null,"Tv"]
["Nro","Sukunimi","Etunimi",1,2,3,4,"P","M",1,2,"To",3,"P","M",1,2,"To",3,"P","M",1,2,3,4,"P","M",1,2,null,1,null,1]
[{"$f":"'Ti1'!A8","v":1},{"$f":"'Ti1'!B8","v":"libero"},{"$f":"'Ti1'!C8","v":0},{"$f":"D7+'Ti5'!D8-'Ti5'!H8","v":0},{"$f":"E7+'Ti5'!E8-'Ti5'!I8","v":0},{"$f":"F7+'Ti5'!F8-'Ti5'!J8","v":0},{"$f":"G7+'Ti5'!G8-'Ti5'!K8","v":0},{"$f":"(D7+E7)/(D7+E7+F7+G7)*100","v":{"$error":"#DIV/0!"}},{"$f":"G7/(D7+E7+F7+G7)*100","v":{"$error":"#DIV/0!"}},{"$f":"J7+'Ti5'!N8-'Ti5'!R8","v":0},{"$f":"K7+'Ti5'!O8-'Ti5'!S8","v":0},{"$f":"L7+'Ti5'!P8-'Ti5'!T8","v":0},{"$f":"M7+'Ti5'!Q8-'Ti5'!U8","v":0},{"$f":"J7/(J7+K7+L7+M7)*100","v":{"$error":"#DIV/0!"}},{"$f":"(L7+M7)/(J7+K7+L7+M7)*100","v":{"$error":"#DIV/0!"}},{"$f":"P7+'Ti5'!X8-'Ti5'!AB8","v":0},{"$f":"Q7+'Ti5'!Y8-'Ti5'!AC8","v":0},{"$f":"R7+'Ti5'!Z8-'Ti5'!AD8","v":0},{"$f":"S7+'Ti5'!AA8-'Ti5'!AE8","v":0},{"$f":"P7/(P7+Q7+R7+S7)*100","v":{"$error":"#DIV/0!"}},{"$f":"(R7+S7)/(P7+Q7+S7)*100","v":{"$error":"#DIV/0!"}},{"$f":"V7+'Ti5'!AH8-'Ti5'!AL8","v":0},{"$f":"W7+'Ti5'!AI8-'Ti5'!AM8","v":0},{"$f":"X7+'Ti5'!AJ8-'Ti5'!AN8","v":0},{"$f":"Y7+'Ti5'!AK8-'Ti5'!AO8","v":0},{"$f":"(V7+W7)/(V7+W7+X7+Y7)*100","v":{"$error":"#DIV/0!"}},{"$f":"Y7/(V7+W7+X7+Y7)*100","v":{"$error":"#DIV/0!"}},{"$f":"AB7+'Ti5'!AR8-'Ti5'!AT8","v":0},{"$f":"AC7+'Ti5'!AS8-'Ti5'!AU8","v":0},null,{"$f":"AE7+'Ti5'!AW8-'Ti5'!AX8","v":0},null,{"$f":"AG7+'Ti5'!AZ8-'Ti5'!BA8","v":0}]
[{"$f":"'Ti1'!A9","v":2},{"$f":"'Ti1'!B9","v":"yp"},{"$f":"'Ti1'!C9","v":0},{"$f":"D8+'Ti5'!D9-'Ti5'!H9","v":0},{"$f":"E8+'Ti5'!E9-'Ti5'!I9","v":0},{"$f":"F8+'Ti5'!F9-'Ti5'!J9","v":0},{"$f":"G8+'Ti5'!G9-'Ti5'!K9","v":0},{"$f":"(D8+E8)/(D8+E8+F8+G8)*100","v":{"$error":"#DIV/0!"}},{"$f":"G8/(D8+E8+F8+G8)*100","v":{"$error":"#DIV/0!"}},{"$f":"J8+'Ti5'!N9","v":0},{"$f":"K8+'Ti5'!O9","v":0},{"$f":"L8+'Ti5'!P9","v":0},{"$f":"M8+'Ti5'!Q9","v":0},{"$f":"J8/(J8+K8+L8+M8)*100","v":{"$error":"#DIV/0!"}},{"$f":"(L8+M8)/(J8+K8+L8+M8)*100","v":{"$error":"#DIV/0!"}},{"$f":"P8+'Ti5'!X9-'Ti5'!AB9","v":0},{"$f":"Q8+'Ti5'!Y9-'Ti5'!AC9","v":0},{"$f":"R8+'Ti5'!Z9-'Ti5'!AD9","v":0},{"$f":"S8+'Ti5'!AA9-'Ti5'!AE9","v":0},{"$f":"P8/(P8+Q8+R8+S8)*100","v":{"$error":"#DIV/0!"}},{"$f":"(R8+S8)/(P8+Q8+S8)*100","v":{"$error":"#DIV/0!"}},{"$f":"V8+'Ti5'!AH9-'Ti5'!AL9","v":0},{"$f":"W8+'Ti5'!AI9-'Ti5'!AM9","v":0},{"$f":"X8+'Ti5'!AJ9-'Ti5'!AN9","v":0},{"$f":"Y8+'Ti5'!AK9-'Ti5'!AO9","v":0},{"$f":"(V8+W8)/(V8+W8+X8+Y8)*100","v":{"$error":"#DIV/0!"}},{"$f":"Y8/(V8+W8+X8+Y8)*100","v":{"$error":"#DIV/0!"}},{"$f":"AB8+'Ti5'!AR9-'Ti5'!AT9","v":0},{"$f":"AC8+'Ti5'!AS9-'Ti5'!AU9","v":0},null,{"$f":"AE8+'Ti5'!AW9-'Ti5'!AX9","v":0},null,{"$f":"AG8+'Ti5'!AZ9-'Ti5'!BA9","v":0}]
[{"$f":"'Ti1'!A10","v":3},{"$f":"'Ti1'!B10","v":"yp"},{"$f":"'Ti1'!C10","v":0},{"$f":"D9+'Ti5'!D10-'Ti5'!H10","v":0},{"$f":"E9+'Ti5'!E10-'Ti5'!I10","v":0},{"$f":"F9+'Ti5'!F10-'Ti5'!J10","v":0},{"$f":"G9+'Ti5'!G10-'Ti5'!K10","v":0},{"$error":"#DIV/0!"},{"$error":"#DIV/0!"},{"$f":"J9+'Ti5'!N10","v":0},{"$f":"K9+'Ti5'!O10","v":0},{"$f":"L9+'Ti5'!P10","v":0},{"$f":"M9+'Ti5'!Q10","v":0},{"$error":"#DIV/0!"},{"$error":"#DIV/0!"},{"$f":"P9+'Ti5'!X10-'Ti5'!AB10","v":0},{"$f":"Q9+'Ti5'!Y10-'Ti5'!AC10","v":0},{"$f":"R9+'Ti5'!Z10-'Ti5'!AD10","v":0},{"$f":"S9+'Ti5'!AA10-'Ti5'!AE10","v":0},{"$error":"#DIV/0!"},{"$error":"#DIV/0!"},{"$f":"V9+'Ti5'!AH10-'Ti5'!AL10","v":0},{"$f":"W9+'Ti5'!AI10-'Ti5'!AM10","v":0},{"$f":"X9+'Ti5'!AJ10-'Ti5'!AN10","v":0},{"$f":"Y9+'Ti5'!AK10-'Ti5'!AO10","v":0},{"$error":"#DIV/0!"},{"$error":"#DIV/0!"},{"$f":"AB9+'Ti5'!AR10-'Ti5'!AT10","v":0},{"$f":"AC9+'Ti5'!AS10-'Ti5'!AU10","v":0},null,{"$f":"AE9+'Ti5'!AW10-'Ti5'!AX10","v":0},null,{"$f":"AG9+'Ti5'!AZ10-'Ti5'!BA10","v":0}]
[{"$f":"'Ti1'!A11","v":4},{"$f":"'Ti1'!B11","v":"yp"},{"$f":"'Ti1'!C11","v":0},{"$f":"D10+'Ti5'!D11-'Ti5'!H11","v":0},{"$f":"E10+'Ti5'!E11-'Ti5'!I11","v":0},{"$f":"F10+'Ti5'!F11-'Ti5'!J11","v":0},{"$f":"G10+'Ti5'!G11-'Ti5'!K11","v":0},{"$error":"#DIV/0!"},{"$error":"#DIV/0!"},{"$f":"J10+'Ti5'!N11","v":0},{"$f":"K10+'Ti5'!O11","v":0},{"$f":"L10+'Ti5'!P11","v":0},{"$f":"M10+'Ti5'!Q11","v":0},{"$error":"#DIV/0!"},{"$error":"#DIV/0!"},{"$f":"P10+'Ti5'!X11-'Ti5'!AB11","v":0},{"$f":"Q10+'Ti5'!Y11-'Ti5'!AC11","v":0},{"$f":"R10+'Ti5'!Z11-'Ti5'!AD11","v":0},{"$f":"S10+'Ti5'!AA11-'Ti5'!AE11","v":0},{"$error":"#DIV/0!"},{"$error":"#DIV/0!"},{"$f":"V10+'Ti5'!AH11-'Ti5'!AL11","v":0},{"$f":"W10+'Ti5'!AI11-'Ti5'!AM11","v":0},{"$f":"X10+'Ti5'!AJ11-'Ti5'!AN11","v":0},{"$f":"Y10+'Ti5'!AK11-'Ti5'!AO11","v":0},{"$error":"#DIV/0!"},{"$error":"#DIV/0!"},{"$f":"AB10+'Ti5'!AR11-'Ti5'!AT11","v":0},{"$f":"AC10+'Ti5'!AS11-'Ti5'!AU11","v":0},null,{"$f":"AE10+'Ti5'!AW11-'Ti5'!AX11","v":0},null,{"$f":"AG10+'Ti5'!AZ11-'Ti5'!BA11","v":0}]
[{"$f":"'Ti1'!A12","v":5},{"$f":"'Ti1'!B12","v":"yp"},{"$f":"'Ti1'!C12","v":0},{"$f":"D11+'Ti5'!D12-'Ti5'!H12","v":0},{"$f":"E11+'Ti5'!E12-'Ti5'!I12","v":0},{"$f":"F11+'Ti5'!F12-'Ti5'!J12","v":0},{"$f":"G11+'Ti5'!G12-'Ti5'!K12","v":0},{"$error":"#DIV/0!"},{"$error":"#DIV/0!"},{"$f":"J11+'Ti5'!N12","v":0},{"$f":"K11+'Ti5'!O12","v":0},{"$f":"L11+'Ti5'!P12","v":0},{"$f":"M11+'Ti5'!Q12","v":0},{"$error":"#DIV/0!"},{"$error":"#DIV/0!"},{"$f":"P11+'Ti5'!X12-'Ti5'!AB12","v":0},{"$f":"Q11+'Ti5'!Y12-'Ti5'!AC12","v":0},{"$f":"R11+'Ti5'!Z12-'Ti5'!AD12","v":0},{"$f":"S11+'Ti5'!AA12-'Ti5'!AE12","v":0},{"$error":"#DIV/0!"},{"$error":"#DIV/0!"},{"$f":"V11+'Ti5'!AH12-'Ti5'!AL12","v":0},{"$f":"W11+'Ti5'!AI12-'Ti5'!AM12","v":0},{"$f":"X11+'Ti5'!AJ12-'Ti5'!AN12","v":0},{"$f":"Y11+'Ti5'!AK12-'Ti5'!AO12","v":0},{"$error":"#DIV/0!"},{"$error":"#DIV/0!"},{"$f":"AB11+'Ti5'!AR12-'Ti5'!AT12","v":0},{"$f":"AC11+'Ti5'!AS12-'Ti5'!AU12","v":0},null,{"$f":"AE11+'Ti5'!AW12-'Ti5'!AX12","v":0},null,{"$f":"AG11+'Ti5'!AZ12-'Ti5'!BA12","v":0}]
[{"$f":"'Ti1'!A13","v":6},{"$f":"'Ti1'!B13","v":"h"},{"$f":"'Ti1'!C13","v":0},{"$f":"D12+'Ti5'!D13-'Ti5'!H13","v":0},{"$f":"E12+'Ti5'!E13-'Ti5'!I13","v":0},{"$f":"F12+'Ti5'!F13-'Ti5'!J13","v":0},{"$f":"G12+'Ti5'!G13-'Ti5'!K13","v":0},{"$error":"#DIV/0!"},{"$error":"#DIV/0!"},{"$f":"J12+'Ti5'!N13","v":0},{"$f":"K12+'Ti5'!O13","v":0},{"$f":"L12+'Ti5'!P13","v":0},{"$f":"M12+'Ti5'!Q13","v":0},{"$error":"#DIV/0!"},{"$error":"#DIV/0!"},{"$f":"P12+'Ti5'!X13-'Ti5'!AB13","v":0},{"$f":"Q12+'Ti5'!Y13-'Ti5'!AC13","v":0},{"$f":"R12+'Ti5'!Z13-'Ti5'!AD13","v":0},{"$f":"S12+'Ti5'!AA13-'Ti5'!AE13","v":0},{"$error":"#DIV/0!"},{"$error":"#DIV/0!"},{"$f":"V12+'Ti5'!AH13-'Ti5'!AL13","v":0},{"$f":"W12+'Ti5'!AI13-'Ti5'!AM13","v":0},{"$f":"X12+'Ti5'!AJ13-'Ti5'!AN13","v":0},{"$f":"Y12+'Ti5'!AK13-'Ti5'!AO13","v":0},{"$error":"#DIV/0!"},{"$error":"#DIV/0!"},{"$f":"AB12+'Ti5'!AR13-'Ti5'!AT13","v":0},{"$f":"AC12+'Ti5'!AS13-'Ti5'!AU13","v":0},null,{"$f":"AE12+'Ti5'!AW13-'Ti5'!AX13","v":0},null,{"$f":"AG12+'Ti5'!AZ13-'Ti5'!BA13","v":0}]
[{"$f":"'Ti1'!A14","v":7},{"$f":"'Ti1'!B14","v":"h"},{"$f":"'Ti1'!C14","v":0},{"$f":"D13+'Ti5'!D14-'Ti5'!H14","v":0},{"$f":"E13+'Ti5'!E14-'Ti5'!I14","v":0},{"$f":"F13+'Ti5'!F14-'Ti5'!J14","v":0},{"$f":"G13+'Ti5'!G14-'Ti5'!K14","v":0},{"$error":"#DIV/0!"},{"$error":"#DIV/0!"},{"$f":"J13+'Ti5'!N14","v":0},{"$f":"K13+'Ti5'!O14","v":0},{"$f":"L13+'Ti5'!P14","v":0},{"$f":"M13+'Ti5'!Q14","v":0},{"$error":"#DIV/0!"},{"$error":"#DIV/0!"},{"$f":"P13+'Ti5'!X14-'Ti5'!AB14","v":0},{"$f":"Q13+'Ti5'!Y14-'Ti5'!AC14","v":0},{"$f":"R13+'Ti5'!Z14-'Ti5'!AD14","v":0},{"$f":"S13+'Ti5'!AA14-'Ti5'!AE14","v":0},{"$error":"#DIV/0!"},{"$error":"#DIV/0!"},{"$f":"V13+'Ti5'!AH14-'Ti5'!AL14","v":0},{"$f":"W13+'Ti5'!AI14-'Ti5'!AM14","v":0},{"$f":"X13+'Ti5'!AJ14-'Ti5'!AN14","v":0},{"$f":"Y13+'Ti5'!AK14-'Ti5'!AO14","v":0},{"$error":"#DIV/0!"},{"$error":"#DIV/0!"},{"$f":"AB13+'Ti5'!AR14-'Ti5'!AT14","v":0},{"$f":"AC13+'Ti5'!AS14-'Ti5'!AU14","v":0},null,{"$f":"AE13+'Ti5'!AW14-'Ti5'!AX14","v":0},null,{"$f":"AG13+'Ti5'!AZ14-'Ti5'!BA14","v":0}]
[{"$f":"'Ti1'!A15","v":8},{"$f":"'Ti1'!B15","v":"kt"},{"$f":"'Ti1'!C15","v":0},{"$f":"D14+'Ti5'!D15-'Ti5'!H15","v":0},{"$f":"E14+'Ti5'!E15-'Ti5'!I15","v":0},{"$f":"F14+'Ti5'!F15-'Ti5'!J15","v":0},{"$f":"G14+'Ti5'!G15-'Ti5'!K15","v":0},{"$error":"#DIV/0!"},{"$error":"#DIV/0!"},{"$f":"J14+'Ti5'!N15","v":0},{"$f":"K14+'Ti5'!O15","v":0},{"$f":"L14+'Ti5'!P15","v":0},{"$f":"M14+'Ti5'!Q15","v":0},{"$error":"#DIV/0!"},{"$error":"#DIV/0!"},{"$f":"P14+'Ti5'!X15-'Ti5'!AB15","v":0},{"$f":"Q14+'Ti5'!Y15-'Ti5'!AC15","v":0},{"$f":"R14+'Ti5'!Z15-'Ti5'!AD15","v":0},{"$f":"S14+'Ti5'!AA15-'Ti5'!AE15","v":0},{"$error":"#DIV/0!"},{"$error":"#DIV/0!"},{"$f":"V14+'Ti5'!AH15-'Ti5'!AL15","v":0},{"$f":"W14+'Ti5'!AI15-'Ti5'!AM15","v":0},{"$f":"X14+'Ti5'!AJ15-'Ti5'!AN15","v":0},{"$f":"Y14+'Ti5'!AK15-'Ti5'!AO15","v":0},{"$error":"#DIV/0!"},{"$error":"#DIV/0!"},{"$f":"AB14+'Ti5'!AR15-'Ti5'!AT15","v":0},{"$f":"AC14+'Ti5'!AS15-'Ti5'!AU15","v":0},null,{"$f":"AE14+'Ti5'!AW15-'Ti5'!AX15","v":0},null,{"$f":"AG14+'Ti5'!AZ15-'Ti5'!BA15","v":0}]
[{"$f":"'Ti1'!A16","v":9},{"$f":"'Ti1'!B16","v":"kt"},{"$f":"'Ti1'!C16","v":0},{"$f":"D15+'Ti5'!D16-'Ti5'!H16","v":0},{"$f":"E15+'Ti5'!E16-'Ti5'!I16","v":0},{"$f":"F15+'Ti5'!F16-'Ti5'!J16","v":0},{"$f":"G15+'Ti5'!G16-'Ti5'!K16","v":0},{"$error":"#DIV/0!"},{"$error":"#DIV/0!"},{"$f":"J15+'Ti5'!N16","v":0},{"$f":"K15+'Ti5'!O16","v":0},{"$f":"L15+'Ti5'!P16","v":0},{"$f":"M15+'Ti5'!Q16","v":0},{"$error":"#DIV/0!"},{"$error":"#DIV/0!"},{"$f":"P15+'Ti5'!X16-'Ti5'!AB16","v":0},{"$f":"Q15+'Ti5'!Y16-'Ti5'!AC16","v":0},{"$f":"R15+'Ti5'!Z16-'Ti5'!AD16","v":0},{"$f":"S15+'Ti5'!AA16-'Ti5'!AE16","v":0},{"$error":"#DIV/0!"},{"$error":"#DIV/0!"},{"$f":"V15+'Ti5'!AH16-'Ti5'!AL16","v":0},{"$f":"W15+'Ti5'!AI16-'Ti5'!AM16","v":0},{"$f":"X15+'Ti5'!AJ16-'Ti5'!AN16","v":0},{"$f":"Y15+'Ti5'!AK16-'Ti5'!AO16","v":0},{"$error":"#DIV/0!"},{"$error":"#DIV/0!"},{"$f":"AB15+'Ti5'!AR16-'Ti5'!AT16","v":0},{"$f":"AC15+'Ti5'!AS16-'Ti5'!AU16","v":0},null,{"$f":"AE15+'Ti5'!AW16-'Ti5'!AX16","v":0},null,{"$f":"AG15+'Ti5'!AZ16-'Ti5'!BA16","v":0}]
[{"$f":"'Ti1'!A17","v":10},{"$f":"'Ti1'!B17","v":"kt"},{"$f":"'Ti1'!C17","v":0},{"$f":"D16+'Ti5'!D17-'Ti5'!H17","v":0},{"$f":"E16+'Ti5'!E17-'Ti5'!I17","v":0},{"$f":"F16+'Ti5'!F17-'Ti5'!J17","v":0},{"$f":"G16+'Ti5'!G17-'Ti5'!K17","v":0},{"$error":"#DIV/0!"},{"$error":"#DIV/0!"},{"$f":"J16+'Ti5'!N17","v":0},{"$f":"K16+'Ti5'!O17","v":0},{"$f":"L16+'Ti5'!P17","v":0},{"$f":"M16+'Ti5'!Q17","v":0},{"$error":"#DIV/0!"},{"$error":"#DIV/0!"},{"$f":"P16+'Ti5'!X17-'Ti5'!AB17","v":0},{"$f":"Q16+'Ti5'!Y17-'Ti5'!AC17","v":0},{"$f":"R16+'Ti5'!Z17-'Ti5'!AD17","v":0},{"$f":"S16+'Ti5'!AA17-'Ti5'!AE17","v":0},{"$error":"#DIV/0!"},{"$error":"#DIV/0!"},{"$f":"V16+'Ti5'!AH17-'Ti5'!AL17","v":0},{"$f":"W16+'Ti5'!AI17-'Ti5'!AM17","v":0},{"$f":"X16+'Ti5'!AJ17-'Ti5'!AN17","v":0},{"$f":"Y16+'Ti5'!AK17-'Ti5'!AO17","v":0},{"$error":"#DIV/0!"},{"$error":"#DIV/0!"},{"$f":"AB16+'Ti5'!AR17-'Ti5'!AT17","v":0},{"$f":"AC16+'Ti5'!AS17-'Ti5'!AU17","v":0},null,{"$f":"AE16+'Ti5'!AW17-'Ti5'!AX17","v":0},null,{"$f":"AG16+'Ti5'!AZ17-'Ti5'!BA17","v":0}]
[{"$f":"'Ti1'!A18","v":11},{"$f":"'Ti1'!B18","v":"p"},{"$f":"'Ti1'!C18","v":0},{"$f":"D17+'Ti5'!D18-'Ti5'!H18","v":0},{"$f":"E17+'Ti5'!E18-'Ti5'!I18","v":0},{"$f":"F17+'Ti5'!F18-'Ti5'!J18","v":0},{"$f":"G17+'Ti5'!G18-'Ti5'!K18","v":0},{"$error":"#DIV/0!"},{"$error":"#DIV/0!"},{"$f":"J17+'Ti5'!N18","v":0},{"$f":"K17+'Ti5'!O18","v":0},{"$f":"L17+'Ti5'!P18","v":0},{"$f":"M17+'Ti5'!Q18","v":0},{"$error":"#DIV/0!"},{"$error":"#DIV/0!"},{"$f":"P17+'Ti5'!X18-'Ti5'!AB18","v":0},{"$f":"Q17+'Ti5'!Y18-'Ti5'!AC18","v":0},{"$f":"R17+'Ti5'!Z18-'Ti5'!AD18","v":0},{"$f":"S17+'Ti5'!AA18-'Ti5'!AE18","v":0},{"$error":"#DIV/0!"},{"$error":"#DIV/0!"},{"$f":"V17+'Ti5'!AH18-'Ti5'!AL18","v":0},{"$f":"W17+'Ti5'!AI18-'Ti5'!AM18","v":0},{"$f":"X17+'Ti5'!AJ18-'Ti5'!AN18","v":0},{"$f":"Y17+'Ti5'!AK18-'Ti5'!AO18","v":0},{"$error":"#DIV/0!"},{"$error":"#DIV/0!"},{"$f":"AB17+'Ti5'!AR18-'Ti5'!AT18","v":0},{"$f":"AC17+'Ti5'!AS18-'Ti5'!AU18","v":0},null,{"$f":"AE17+'Ti5'!AW18-'Ti5'!AX18","v":0},null,{"$f":"AG17+'Ti5'!AZ18-'Ti5'!BA18","v":0}]
[{"$f":"'Ti1'!A19","v":12},{"$f":"'Ti1'!B19","v":"p"},{"$f":"'Ti1'!C19","v":0},{"$f":"D18+'Ti5'!D19-'Ti5'!H19","v":0},{"$f":"E18+'Ti5'!E19-'Ti5'!I19","v":0},{"$f":"F18+'Ti5'!F19-'Ti5'!J19","v":0},{"$f":"G18+'Ti5'!G19-'Ti5'!K19","v":0},{"$error":"#DIV/0!"},{"$error":"#DIV/0!"},{"$f":"J18+'Ti5'!N19","v":0},{"$f":"K18+'Ti5'!O19","v":0},{"$f":"L18+'Ti5'!P19","v":0},{"$f":"M18+'Ti5'!Q19","v":0},{"$error":"#DIV/0!"},{"$error":"#DIV/0!"},{"$f":"P18+'Ti5'!X19-'Ti5'!AB19","v":0},{"$f":"Q18+'Ti5'!Y19-'Ti5'!AC19","v":0},{"$f":"R18+'Ti5'!Z19-'Ti5'!AD19","v":0},{"$f":"S18+'Ti5'!AA19-'Ti5'!AE19","v":0},{"$error":"#DIV/0!"},{"$error":"#DIV/0!"},{"$f":"V18+'Ti5'!AH19-'Ti5'!AL19","v":0},{"$f":"W18+'Ti5'!AI19-'Ti5'!AM19","v":0},{"$f":"X18+'Ti5'!AJ19-'Ti5'!AN19","v":0},{"$f":"Y18+'Ti5'!AK19-'Ti5'!AO19","v":0},{"$error":"#DIV/0!"},{"$error":"#DIV/0!"},{"$f":"AB18+'Ti5'!AR19-'Ti5'!AT19","v":0},{"$f":"AC18+'Ti5'!AS19-'Ti5'!AU19","v":0},null,{"$f":"AE18+'Ti5'!AW19-'Ti5'!AX19","v":0},null,{"$f":"AG18+'Ti5'!AZ19-'Ti5'!BA19","v":0}]
[{"$f":"'Ti1'!A20","v":0},{"$f":"'Ti1'!B20","v":0},{"$f":"'Ti1'!C20","v":0},{"$f":"D19+'Ti5'!D20-'Ti5'!H20","v":0},{"$f":"E19+'Ti5'!E20-'Ti5'!I20","v":0},{"$f":"F19+'Ti5'!F20-'Ti5'!J20","v":0},{"$f":"G19+'Ti5'!G20-'Ti5'!K20","v":0},{"$error":"#DIV/0!"},{"$error":"#DIV/0!"},{"$f":"J19+'Ti5'!N20","v":0},{"$f":"K19+'Ti5'!O20","v":0},{"$f":"L19+'Ti5'!P20","v":0},{"$f":"M19+'Ti5'!Q20","v":0},{"$error":"#DIV/0!"},{"$error":"#DIV/0!"},{"$f":"P19+'Ti5'!X20-'Ti5'!AB20","v":0},{"$f":"Q19+'Ti5'!Y20-'Ti5'!AC20","v":0},{"$f":"R19+'Ti5'!Z20-'Ti5'!AD20","v":0},{"$f":"S19+'Ti5'!AA20-'Ti5'!AE20","v":0},{"$error":"#DIV/0!"},{"$error":"#DIV/0!"},{"$f":"V19+'Ti5'!AH20-'Ti5'!AL20","v":0},{"$f":"W19+'Ti5'!AI20-'Ti5'!AM20","v":0},{"$f":"X19+'Ti5'!AJ20-'Ti5'!AN20","v":0},{"$f":"Y19+'Ti5'!AK20-'Ti5'!AO20","v":0},{"$error":"#DIV/0!"},{"$error":"#DIV/0!"},{"$f":"AB19+'Ti5'!AR20-'Ti5'!AT20","v":0},{"$f":"AC19+'Ti5'!AS20-'Ti5'!AU20","v":0},null,{"$f":"AE19+'Ti5'!AW20-'Ti5'!AX20","v":0},null,{"$f":"AG19+'Ti5'!AZ20-'Ti5'!BA20","v":0}]
[{"$f":"'Ti1'!A21","v":0},{"$f":"'Ti1'!B21","v":0},{"$f":"'Ti1'!C21","v":0},{"$f":"D20+'Ti5'!D21-'Ti5'!H21","v":0},{"$f":"E20+'Ti5'!E21-'Ti5'!I21","v":0},{"$f":"F20+'Ti5'!F21-'Ti5'!J21","v":0},{"$f":"G20+'Ti5'!G21-'Ti5'!K21","v":0},{"$error":"#DIV/0!"},{"$error":"#DIV/0!"},{"$f":"J20+'Ti5'!N21","v":0},{"$f":"K20+'Ti5'!O21","v":0},{"$f":"L20+'Ti5'!P21","v":0},{"$f":"M20+'Ti5'!Q21","v":0},{"$error":"#DIV/0!"},{"$error":"#DIV/0!"},{"$f":"P20+'Ti5'!X21-'Ti5'!AB21","v":0},{"$f":"Q20+'Ti5'!Y21-'Ti5'!AC21","v":0},{"$f":"R20+'Ti5'!Z21-'Ti5'!AD21","v":0},{"$f":"S20+'Ti5'!AA21-'Ti5'!AE21","v":0},{"$error":"#DIV/0!"},{"$error":"#DIV/0!"},{"$f":"V20+'Ti5'!AH21-'Ti5'!AL21","v":0},{"$f":"W20+'Ti5'!AI21-'Ti5'!AM21","v":0},{"$f":"X20+'Ti5'!AJ21-'Ti5'!AN21","v":0},{"$f":"Y20+'Ti5'!AK21-'Ti5'!AO21","v":0},{"$error":"#DIV/0!"},{"$error":"#DIV/0!"},{"$f":"AB20+'Ti5'!AR21-'Ti5'!AT21","v":0},{"$f":"AC20+'Ti5'!AS21-'Ti5'!AU21","v":0},null,{"$f":"AE20+'Ti5'!AW21-'Ti5'!AX21","v":0},null,{"$f":"AG20+'Ti5'!AZ21-'Ti5'!BA21","v":0}]
[null,"Joukkue","Yhteen",{"$f":"SUM(D7:D20)","v":0},{"$f":"SUM(E7:E20)","v":0},{"$f":"SUM(F7:F20)","v":0},{"$f":"SUM(G7:G20)","v":0},{"$f":"(D21+E21)/(D21+E21+F21+G21)*100","v":{"$error":"#DIV/0!"}},{"$f":"G21/(D21+E21+F21+G21)*100","v":{"$error":"#DIV/0!"}},{"$f":"SUM(J7:J20)","v":0},{"$f":"SUM(K7:K20)","v":0},{"$f":"SUM(L7:L20)","v":0},{"$f":"SUM(M7:M20)","v":0},{"$error":"#DIV/0!"},{"$error":"#DIV/0!"},{"$f":"SUM(P7:P20)","v":0},{"$f":"SUM(Q7:Q20)","v":0},{"$f":"SUM(R7:R20)","v":0},{"$f":"SUM(S7:S20)","v":0},{"$error":"#DIV/0!"},{"$error":"#DIV/0!"},{"$f":"SUM(V7:V20)","v":0},{"$f":"SUM(W7:W20)","v":0},{"$f":"SUM(X7:X20)","v":0},{"$f":"SUM(Y7:Y20)","v":0},{"$f":"(V21+W21)/(V21+W21+X21+Y21)*100","v":{"$error":"#DIV/0!"}},{"$f":"Y21/(V21+W21+X21+Y21)*100","v":{"$error":"#DIV/0!"}},{"$f":"SUM(AB7:AB20)","v":0},{"$f":"SUM(AC7:AC20)","v":0},null,{"$f":"SUM(AE7:AE20)","v":0},null,{"$f":"SUM(AG7:AG20)","v":0}]
[]
[null,"Joukkuetilasto","ottelussa",{"$f":"omayhte!D21","v":0},{"$f":"omayhte!E21","v":0},{"$f":"omayhte!F21","v":0},{"$f":"omayhte!G21","v":0},{"$f":"omayhte!H21","v":{"$error":"#DIV/0!"}},{"$f":"omayhte!I21","v":{"$error":"#DIV/0!"}},{"$f":"omayhte!J21","v":0},{"$f":"omayhte!K21","v":0},{"$f":"omayhte!L21","v":0},{"$f":"omayhte!M21","v":0},{"$f":"omayhte!N21","v":{"$error":"#DIV/0!"}},{"$f":"omayhte!O21","v":{"$error":"#DIV/0!"}},{"$f":"omayhte!P21","v":0},{"$f":"omayhte!Q21","v":0},{"$f":"omayhte!R21","v":0},{"$f":"omayhte!S21","v":0},{"$f":"omayhte!T21","v":{"$error":"#DIV/0!"}},{"$f":"omayhte!U21","v":{"$error":"#DIV/0!"}},{"$f":"omayhte!V21","v":0},{"$f":"omayhte!W21","v":0},{"$f":"omayhte!X21","v":0},{"$f":"omayhte!Y21","v":0},{"$f":"omayhte!Z21","v":{"$error":"#DIV/0!"}},{"$f":"omayhte!AA21","v":{"$error":"#DIV/0!"}},{"$f":"omayhte!AB21","v":0},{"$f":"omayhte!AC21","v":0},{"$f":"omayhte!AD21","v":0},{"$f":"omayhte!AE21","v":0},{"$f":"omayhte!AF26","v":0},{"$f":"omayhte!AG26","v":0}]
[]
[null,"Joukkue","Yhteen",{"$f":"SUM(D27:D40)","v":0},0,0,0,0,0,0,0,0]
["Nro","Sukunimi","Etunimi","V","H","S","T","Hä","VO","H","Al","Tv","PM",null,{"$f":"SUM(J21:M21)","v":0},"VO-hyökkäystä joista…",null,null,null,null,{"$f":"SUM(P21:S21)","v":0},"Jatko-hyökkäystä joista…",null,null,null,null,"Vastaanoton jakautuminen"]
[{"$f":"'Ti1'!A8","v":1},{"$f":"'Ti1'!B8","v":"libero"},{"$f":"'Ti1'!C8","v":0},{"$f":"J7+V7+AB7+P7","v":0},{"$f":"J7+P7","v":0},{"$f":"V7","v":0},{"$f":"AB7","v":0},{"$f":"G7+M7+Y7+S7+L7+R7+AG7","v":0},{"$f":"G7","v":0},{"$f":"M7+S7+R7+L7","v":0},{"$f":"Y7","v":0},{"$f":"AG7","v":0},{"$f":"D27-H27","v":0},null,{"$f":"(SUM(J14:M16)/O26)*100","v":{"$error":"#DIV/0!"}},"%:ia ykköshyök.",null,null,{"$f":"(SUM(J14:J16)/SUM(J14:M16)*100)","v":{"$error":"#DIV/0!"}},null,{"$f":"(SUM(P14:S16)/U26)*100","v":{"$error":"#DIV/0!"}},"%:ia ykköshyök.",null,null,{"$f":"(SUM(P14:P16)/SUM(P14:S16)*100)","v":{"$error":"#DIV/0!"}},null,{"$f":"(E7+F7+G7+D7)/(E21+F21+G21+D21)*100","v":{"$error":"#DIV/0!"}},"%:ia liberolle",null,"+","+",{"$f":"AVERAGE(H8)","v":{"$error":"#DIV/0!"}},{"$f":"AVERAGE(H7)","v":{"$error":"#DIV/0!"}}]
[{"$f":"'Ti1'!A9","v":2},{"$f":"'Ti1'!B9","v":"yp"},{"$f":"'Ti1'!C9","v":0},{"$f":"J8+V8+AB8+P8","v":0},{"$f":"J8+P8","v":0},{"$f":"V8","v":0},{"$f":"AB8","v":0},{"$f":"G8+M8+Y8+S8+L8+R8+AG8","v":0},{"$f":"G8","v":0},{"$f":"M8+S8+R8+L8","v":0},{"$f":"Y8","v":0},{"$f":"AG8","v":0},{"$f":"D28-H28","v":0},null,{"$f":"(SUM(J12:M13)/O26)*100","v":{"$error":"#DIV/0!"}},"%:ia hakkurille",null,null,{"$f":"(SUM(J12:J13)/SUM(J12:M13)*100)","v":{"$error":"#DIV/0!"}},null,{"$f":"(SUM(P12:S13)/U26)*100","v":{"$error":"#DIV/0!"}},"%:ia hakkurille",null,null,{"$f":"(SUM(P12:P13)/SUM(P12:S13)*100)","v":{"$error":"#DIV/0!"}},null,{"$f":"100-AA27","v":{"$error":"#DIV/0!"}},"%:ia muille",null,"+","+",{"$f":"(SUM(D9:E18)/SUM(D9:G18))*100","v":{"$error":"#DIV/0!"}},{"$f":"(SUM(D8:E18)/SUM(D8:G18))*100","v":{"$error":"#DIV/0!"}}]
[{"$f":"'Ti1'!A10","v":3},{"$f":"'Ti1'!B10","v":"yp"},{"$f":"'Ti1'!C10","v":0},0,0,0,0,0,0,0,0,0,0,null,{"$f":"(SUM(J8:M11)/O26)*100","v":{"$error":"#DIV/0!"}},"%:ia laitureille",null,null,{"$f":"(SUM(J8:J11)/SUM(J8:M11)*100)","v":{"$error":"#DIV/0!"}},null,{"$f":"(SUM(P8:S11)/U26)*100","v":{"$error":"#DIV/0!"}},"%:ia laitureille",null,null,{"$f":"(SUM(P8:P11)/SUM(P8:S11)*100)","v":{"$error":"#DIV/0!"}}]
[{"$f":"'Ti1'!A11","v":4},{"$f":"'Ti1'!B11","v":"yp"},{"$f":"'Ti1'!C11","v":0},0,0,0,0,0,0,0,0,0,0,null,{"$f":"(SUM(J17:M18)/O26)*100","v":{"$error":"#DIV/0!"}},"%:ia passari",null,null,{"$f":"(SUM(J17:J18)/SUM(J17:M18)*100)","v":{"$error":"#DIV/0!"}},null,{"$f":"(SUM(P17:S18)/U26)*100","v":{"$error":"#DIV/0!"}},"%:ia passari",null,null,{"$f":"(SUM(P17:P18)/SUM(P17:S18)*100)","v":{"$error":"#DIV/0!"}}]
[{"$f":"'Ti1'!A12","v":5},{"$f":"'Ti1'!B12","v":"yp"},{"$f":"'Ti1'!C12","v":0},0,0,0,0,0,0,0,0,0,0,null,null,null,null,null,null,null,null,null,null,null,null,null,{"$f":"L21+R21","v":0},"Vastustajan torjunta"]
[{"$f":"'Ti1'!A13","v":6},{"$f":"'Ti1'!B13","v":"h"},{"$f":"'Ti1'!C13","v":0},0,0,0,0,0,0,0,0,0,0]
[{"$f":"'Ti1'!A14","v":7},{"$f":"'Ti1'!B14","v":"h"},{"$f":"'Ti1'!C14","v":0},0,0,0,0,0,0,0,0,0,0,null,{"$f":"M21+S21+Y21+G21+AG21+L21+R21","v":0},"pistettä olemme antaneet omilla virheillä"]
[{"$f":"'Ti1'!A15","v":8},{"$f":"'Ti1'!B15","v":"kt"},{"$f":"'Ti1'!C15","v":0},0,0,0,0,0,0,0,0,0,0,null,null,"Vastustajalta olemme saaneet pisteitä:"]
[{"$f":"'Ti1'!A16","v":9},{"$f":"'Ti1'!B16","v":"kt"},{"$f":"'Ti1'!C16","v":0},0,0,0,0,0,0,0,0,0,0,null,{"$f":"'Ti5'!AI1+Erä5!O35","v":0},"pistettä syöttövirheillä"]
[{"$f":"'Ti1'!A17","v":10},{"$f":"'Ti1'!B17","v":"kt"},{"$f":"'Ti1'!C17","v":0},0,0,0,0,0,0,0,0,0,0,null,{"$f":"'Ti5'!AI2+Erä5!O36","v":0},"pistettä suorilla hyökkäysvirheillä"]
[{"$f":"'Ti1'!A18","v":11},{"$f":"'Ti1'!B18","v":"p"},{"$f":"'Ti1'!C18","v":0},0,0,0,0,0,0,0,0,0,0,null,{"$f":"'Ti5'!AI3+Erä5!O37","v":0},"pistettä teknisillä virheillä"]
[{"$f":"'Ti1'!A19","v":12},{"$f":"'Ti1'!B19","v":"p"},{"$f":"'Ti1'!C19","v":0},0,0,0,0,0,0,0,0,0,0,null,{"$f":"SUM(O35:O37)","v":0},"pistettä yhteensä vastustajan virheillä"]
[{"$f":"'Ti1'!A20","v":0},{"$f":"'Ti1'!B20","v":0},{"$f":"'Ti1'!C20","v":0},0,0,0,0,0,0,0,0,0,0,null,{"$f":"O38-O33","v":0},"pistettä nettovaikutus"]
[{"$f":"'Ti1'!A21","v":0},{"$f":"'Ti1'!B21","v":0},{"$f":"'Ti1'!C21","v":0},0,0,0,0,0,0,0,0,0,0]

{"sheet":"Yhteen LIITTOON","index":10,"n_rows":38,"n_cols":24,"rows_kept":38,"cut":false,"hidden":false,"merged":[]}
[null,"Joukkueet","Erät","Pisteet",null,null,null,null,"Yht.",null,null,null,null,null,"Vastustajan antamat pisteet:",null,null,null,null,null,{"$f":"Erä1!O38+Erä2!O38+Erä3!O38+Erä4!O38+Erä5!O38","v":0}]
[null,{"$f":"'Ti1'!B2","v":"Omajoukkue"},{"$f":"Erä1!C2+Erä2!C2+Erä3!C2+Erä4!C2+Erä5!C2","v":0},{"$f":"Erä1!D2","v":0},{"$f":"Erä2!D2","v":0},{"$f":"Erä3!D2","v":0},{"$f":"Erä4!D2","v":0},{"$f":"Erä5!D2","v":0},{"$f":"SUM(D2:H2)","v":0}]
[null,{"$f":"'Ti1'!B3","v":"Vierasjoukkue"},{"$f":"Erä1!C3+Erä2!C3+Erä3!C3+Erä4!C3+Erä5!C3","v":0},{"$f":"Erä1!D3","v":0},{"$f":"Erä2!D3","v":0},{"$f":"Erä3!D3","v":0},{"$f":"Erä4!D3","v":0},{"$f":"Erä5!D3","v":0},{"$f":"SUM(D3:H3)","v":0},null,null,null,null,null,{"$f":"'Ti1'!B4","v":0},null,null,{"$f":"'Ti1'!B5","v":0}]
[]
[null,null,null,"Vast.otto",null,null,null,null,null,"Hyökkäys",null,null,null,null,"Aloitus",null,null,null,null,null,"Torjunta",null,null,"Pelaaja "]
["Nro","Sukunimi","Etunimi",1,2,3,4,"P","M",1,2,3,"P","M",1,2,3,4,"P","M",1,2,null,"pöytäkirjassa"]
[{"$f":"'Ti1'!A8","v":1},{"$f":"'Ti1'!B8","v":"libero"},{"$f":"'Ti1'!C8","v":0},{"$f":"Erä1!D7+Erä2!D7+Erä3!D7+Erä4!D7+Erä5!D7","v":0},{"$f":"Erä1!E7+Erä2!E7+Erä3!E7+Erä4!E7+Erä5!E7","v":0},{"$f":"Erä1!F7+Erä2!F7+Erä3!F7+Erä4!F7+Erä5!F7","v":0},{"$f":"Erä1!G7+Erä2!G7+Erä3!G7+Erä4!G7+Erä5!G7","v":0},{"$f":"(D7+E7)/(D7+E7+F7+G7)*100","v":{"$error":"#DIV/0!"}},{"$f":"G7/(D7+E7+F7+G7)*100","v":{"$error":"#DIV/0!"}},{"$f":"(Erä1!J7+Erä1!P7)+(Erä2!J7+Erä2!P7)+(Erä3!J7+Erä3!P7)+(Erä4!J7+Erä4!P7)+(Erä5!J7+Erä5!P7)","v":0},{"$f":"(Erä1!K7+Erä1!Q7)+(Erä2!K7+Erä2!Q7)+(Erä3!K7+Erä3!Q7)+(Erä4!K7+Erä4!Q7)+(Erä5!K7+Erä5!Q7)","v":0},{"$f":"(Erä1!L7+Erä1!M7+Erä1!R7+Erä1!S7)+(Erä2!L7+Erä2!M7+Erä2!R7+Erä2!S7)+(Erä3!L7+Erä3!M7+Erä3!R7+Erä3!S7)+(Erä4!L7+Erä4!M7+Erä4!R7+Erä4!S7)+(Erä5!L7+Erä5!M7+Erä5!R7+Erä5!S7)","v":0},{"$f":"J7/(J7+K7+L7)*100","v":{"$error":"#DIV/0!"}},{"$f":"L7/(J7+K7+L7)*100","v":{"$error":"#DIV/0!"}},{"$f":"Erä1!V7+Erä2!V7+Erä3!V7+Erä4!V7+Erä5!V7","v":0},{"$f":"Erä1!W7+Erä2!W7+Erä3!W7+Erä4!W7+Erä5!W7","v":0},{"$f":"Erä1!X7+Erä2!X7+Erä3!X7+Erä4!X7+Erä5!X7","v":0},{"$f":"Erä1!Y7+Erä2!Y7+Erä3!Y7+Erä4!Y7+Erä5!Y7","v":0},{"$f":"(O7+P7)/(O7+P7+Q7+R7)*100","v":{"$error":"#DIV/0!"}},{"$f":"R7/(O7+P7+Q7+R7)*100","v":{"$error":"#DIV/0!"}},{"$f":"Erä1!AB7+Erä2!AB7+Erä3!AB7+Erä4!AB7+Erä5!AB7","v":0},{"$f":"Erä1!AC7+Erä2!AC7+Erä3!AC7+Erä4!AC7+Erä5!AC7","v":0},null,1]
[{"$f":"'Ti1'!A9","v":2},{"$f":"'Ti1'!B9","v":"yp"},{"$f":"'Ti1'!C9","v":0},{"$f":"Erä1!D8+Erä2!D8+Erä3!D8+Erä4!D8+Erä5!D8","v":0},{"$f":"Erä1!E8+Erä2!E8+Erä3!E8+Erä4!E8+Erä5!E8","v":0},{"$f":"Erä1!F8+Erä2!F8+Erä3!F8+Erä4!F8+Erä5!F8","v":0},{"$f":"Erä1!G8+Erä2!G8+Erä3!G8+Erä4!G8+Erä5!G8","v":0},{"$f":"(D8+E8)/(D8+E8+F8+G8)*100","v":{"$error":"#DIV/0!"}},{"$f":"G8/(D8+E8+F8+G8)*100","v":{"$error":"#DIV/0!"}},{"$f":"(Erä1!J8+Erä1!P8)+(Erä2!J8+Erä2!P8)+(Erä3!J8+Erä3!P8)+(Erä4!J8+Erä4!P8)+(Erä5!J8+Erä5!P8)","v":0},{"$f":"(Erä1!K8+Erä1!Q8)+(Erä2!K8+Erä2!Q8)+(Erä3!K8+Erä3!Q8)+(Erä4!K8+Erä4!Q8)+(Erä5!K8+Erä5!Q8)","v":0},{"$f":"(Erä1!L8+Erä1!M8+Erä1!R8+Erä1!S8)+(Erä2!L8+Erä2!M8+Erä2!R8+Erä2!S8)+(Erä3!L8+Erä3!M8+Erä3!R8+Erä3!S8)+(Erä4!L8+Erä4!M8+Erä4!R8+Erä4!S8)+(Erä5!L8+Erä5!M8+Erä5!R8+Erä5!S8)","v":0},{"$f":"J8/(J8+K8+L8)*100","v":{"$error":"#DIV/0!"}},{"$f":"L8/(J8+K8+L8)*100","v":{"$error":"#DIV/0!"}},{"$f":"Erä1!V8+Erä2!V8+Erä3!V8+Erä4!V8+Erä5!V8","v":0},{"$f":"Erä1!W8+Erä2!W8+Erä3!W8+Erä4!W8+Erä5!W8","v":0},{"$f":"Erä1!X8+Erä2!X8+Erä3!X8+Erä4!X8+Erä5!X8","v":0},{"$f":"Erä1!Y8+Erä2!Y8+Erä3!Y8+Erä4!Y8+Erä5!Y8","v":0},{"$f":"(O8+P8)/(O8+P8+Q8+R8)*100","v":{"$error":"#DIV/0!"}},{"$f":"R8/(O8+P8+Q8+R8)*100","v":{"$error":"#DIV/0!"}},{"$f":"Erä1!AB8+Erä2!AB8+Erä3!AB8+Erä4!AB8+Erä5!AB8","v":0},{"$f":"Erä1!AC8+Erä2!AC8+Erä3!AC8+Erä4!AC8+Erä5!AC8","v":0},null,1]
[{"$f":"'Ti1'!A10","v":3},{"$f":"'Ti1'!B10","v":"yp"},{"$f":"'Ti1'!C10","v":0},{"$f":"Erä1!D9+Erä2!D9+Erä3!D9+Erä4!D9+Erä5!D9","v":0},{"$f":"Erä1!E9+Erä2!E9+Erä3!E9+Erä4!E9+Erä5!E9","v":0},{"$f":"Erä1!F9+Erä2!F9+Erä3!F9+Erä4!F9+Erä5!F9","v":0},{"$f":"Erä1!G9+Erä2!G9+Erä3!G9+Erä4!G9+Erä5!G9","v":0},{"$f":"(D9+E9)/(D9+E9+F9+G9)*100","v":{"$error":"#DIV/0!"}},{"$f":"G9/(D9+E9+F9+G9)*100","v":{"$error":"#DIV/0!"}},{"$f":"(Erä1!J9+Erä1!P9)+(Erä2!J9+Erä2!P9)+(Erä3!J9+Erä3!P9)+(Erä4!J9+Erä4!P9)+(Erä5!J9+Erä5!P9)","v":0},{"$f":"(Erä1!K9+Erä1!Q9)+(Erä2!K9+Erä2!Q9)+(Erä3!K9+Erä3!Q9)+(Erä4!K9+Erä4!Q9)+(Erä5!K9+Erä5!Q9)","v":0},{"$f":"(Erä1!L9+Erä1!M9+Erä1!R9+Erä1!S9)+(Erä2!L9+Erä2!M9+Erä2!R9+Erä2!S9)+(Erä3!L9+Erä3!M9+Erä3!R9+Erä3!S9)+(Erä4!L9+Erä4!M9+Erä4!R9+Erä4!S9)+(Erä5!L9+Erä5!M9+Erä5!R9+Erä5!S9)","v":0},{"$f":"J9/(J9+K9+L9)*100","v":{"$error":"#DIV/0!"}},{"$f":"L9/(J9+K9+L9)*100","v":{"$error":"#DIV/0!"}},{"$f":"Erä1!V9+Erä2!V9+Erä3!V9+Erä4!V9+Erä5!V9","v":0},{"$f":"Erä1!W9+Erä2!W9+Erä3!W9+Erä4!W9+Erä5!W9","v":0},{"$f":"Erä1!X9+Erä2!X9+Erä3!X9+Erä4!X9+Erä5!X9","v":0},{"$f":"Erä1!Y9+Erä2!Y9+Erä3!Y9+Erä4!Y9+Erä5!Y9","v":0},{"$f":"(O9+P9)/(O9+P9+Q9+R9)*100","v":{"$error":"#DIV/0!"}},{"$f":"R9/(O9+P9+Q9+R9)*100","v":{"$error":"#DIV/0!"}},{"$f":"Erä1!AB9+Erä2!AB9+Erä3!AB9+Erä4!AB9+Erä5!AB9","v":0},{"$f":"Erä1!AC9+Erä2!AC9+Erä3!AC9+Erä4!AC9+Erä5!AC9","v":0},null,1]
[{"$f":"'Ti1'!A11","v":4},{"$f":"'Ti1'!B11","v":"yp"},{"$f":"'Ti1'!C11","v":0},{"$f":"Erä1!D10+Erä2!D10+Erä3!D10+Erä4!D10+Erä5!D10","v":0},{"$f":"Erä1!E10+Erä2!E10+Erä3!E10+Erä4!E10+Erä5!E10","v":0},{"$f":"Erä1!F10+Erä2!F10+Erä3!F10+Erä4!F10+Erä5!F10","v":0},{"$f":"Erä1!G10+Erä2!G10+Erä3!G10+Erä4!G10+Erä5!G10","v":0},{"$f":"(D10+E10)/(D10+E10+F10+G10)*100","v":{"$error":"#DIV/0!"}},{"$f":"G10/(D10+E10+F10+G10)*100","v":{"$error":"#DIV/0!"}},{"$f":"(Erä1!J10+Erä1!P10)+(Erä2!J10+Erä2!P10)+(Erä3!J10+Erä3!P10)+(Erä4!J10+Erä4!P10)+(Erä5!J10+Erä5!P10)","v":0},{"$f":"(Erä1!K10+Erä1!Q10)+(Erä2!K10+Erä2!Q10)+(Erä3!K10+Erä3!Q10)+(Erä4!K10+Erä4!Q10)+(Erä5!K10+Erä5!Q10)","v":0},{"$f":"(Erä1!L10+Erä1!M10+Erä1!R10+Erä1!S10)+(Erä2!L10+Erä2!M10+Erä2!R10+Erä2!S10)+(Erä3!L10+Erä3!M10+Erä3!R10+Erä3!S10)+(Erä4!L10+Erä4!M10+Erä4!R10+Erä4!S10)+(Erä5!L10+Erä5!M10+Erä5!R10+Erä5!S10)","v":0},{"$f":"J10/(J10+K10+L10)*100","v":{"$error":"#DIV/0!"}},{"$f":"L10/(J10+K10+L10)*100","v":{"$error":"#DIV/0!"}},{"$f":"Erä1!V10+Erä2!V10+Erä3!V10+Erä4!V10+Erä5!V10","v":0},{"$f":"Erä1!W10+Erä2!W10+Erä3!W10+Erä4!W10+Erä5!W10","v":0},{"$f":"Erä1!X10+Erä2!X10+Erä3!X10+Erä4!X10+Erä5!X10","v":0},{"$f":"Erä1!Y10+Erä2!Y10+Erä3!Y10+Erä4!Y10+Erä5!Y10","v":0},{"$f":"(O10+P10)/(O10+P10+Q10+R10)*100","v":{"$error":"#DIV/0!"}},{"$f":"R10/(O10+P10+Q10+R10)*100","v":{"$error":"#DIV/0!"}},{"$f":"Erä1!AB10+Erä2!AB10+Erä3!AB10+Erä4!AB10+Erä5!AB10","v":0},{"$f":"Erä1!AC10+Erä2!AC10+Erä3!AC10+Erä4!AC10+Erä5!AC10","v":0},null,1]
[{"$f":"'Ti1'!A12","v":5},{"$f":"'Ti1'!B12","v":"yp"},{"$f":"'Ti1'!C12","v":0},{"$f":"Erä1!D11+Erä2!D11+Erä3!D11+Erä4!D11+Erä5!D11","v":0},{"$f":"Erä1!E11+Erä2!E11+Erä3!E11+Erä4!E11+Erä5!E11","v":0},{"$f":"Erä1!F11+Erä2!F11+Erä3!F11+Erä4!F11+Erä5!F11","v":0},{"$f":"Erä1!G11+Erä2!G11+Erä3!G11+Erä4!G11+Erä5!G11","v":0},{"$error":"#DIV/0!"},{"$error":"#DIV/0!"},{"$f":"(Erä1!J11+Erä1!P11)+(Erä2!J11+Erä2!P11)+(Erä3!J11+Erä3!P11)+(Erä4!J11+Erä4!P11)+(Erä5!J11+Erä5!P11)","v":0},{"$f":"(Erä1!K11+Erä1!Q11)+(Erä2!K11+Erä2!Q11)+(Erä3!K11+Erä3!Q11)+(Erä4!K11+Erä4!Q11)+(Erä5!K11+Erä5!Q11)","v":0},{"$f":"(Erä1!L11+Erä1!M11+Erä1!R11+Erä1!S11)+(Erä2!L11+Erä2!M11+Erä2!R11+Erä2!S11)+(Erä3!L11+Erä3!M11+Erä3!R11+Erä3!S11)+(Erä4!L11+Erä4!M11+Erä4!R11+Erä4!S11)+(Erä5!L11+Erä5!M11+Erä5!R11+Erä5!S11)","v":0},{"$error":"#DIV/0!"},{"$error":"#DIV/0!"},{"$f":"Erä1!V11+Erä2!V11+Erä3!V11+Erä4!V11+Erä5!V11","v":0},{"$f":"Erä1!W11+Erä2!W11+Erä3!W11+Erä4!W11+Erä5!W11","v":0},{"$f":"Erä1!X11+Erä2!X11+Erä3!X11+Erä4!X11+Erä5!X11","v":0},{"$f":"Erä1!Y11+Erä2!Y11+Erä3!Y11+Erä4!Y11+Erä5!Y11","v":0},{"$error":"#DIV/0!"},{"$error":"#DIV/0!"},{"$f":"Erä1!AB11+Erä2!AB11+Erä3!AB11+Erä4!AB11+Erä5!AB11","v":0},{"$f":"Erä1!AC11+Erä2!AC11+Erä3!AC11+Erä4!AC11+Erä5!AC11","v":0},null,1]
[{"$f":"'Ti1'!A13","v":6},{"$f":"'Ti1'!B13","v":"h"},{"$f":"'Ti1'!C13","v":0},{"$f":"Erä1!D12+Erä2!D12+Erä3!D12+Erä4!D12+Erä5!D12","v":0},{"$f":"Erä1!E12+Erä2!E12+Erä3!E12+Erä4!E12+Erä5!E12","v":0},{"$f":"Erä1!F12+Erä2!F12+Erä3!F12+Erä4!F12+Erä5!F12","v":0},{"$f":"Erä1!G12+Erä2!G12+Erä3!G12+Erä4!G12+Erä5!G12","v":0},{"$error":"#DIV/0!"},{"$error":"#DIV/0!"},{"$f":"(Erä1!J12+Erä1!P12)+(Erä2!J12+Erä2!P12)+(Erä3!J12+Erä3!P12)+(Erä4!J12+Erä4!P12)+(Erä5!J12+Erä5!P12)","v":0},{"$f":"(Erä1!K12+Erä1!Q12)+(Erä2!K12+Erä2!Q12)+(Erä3!K12+Erä3!Q12)+(Erä4!K12+Erä4!Q12)+(Erä5!K12+Erä5!Q12)","v":0},{"$f":"(Erä1!L12+Erä1!M12+Erä1!R12+Erä1!S12)+(Erä2!L12+Erä2!M12+Erä2!R12+Erä2!S12)+(Erä3!L12+Erä3!M12+Erä3!R12+Erä3!S12)+(Erä4!L12+Erä4!M12+Erä4!R12+Erä4!S12)+(Erä5!L12+Erä5!M12+Erä5!R12+Erä5!S12)","v":0},{"$error":"#DIV/0!"},{"$error":"#DIV/0!"},{"$f":"Erä1!V12+Erä2!V12+Erä3!V12+Erä4!V12+Erä5!V12","v":0},{"$f":"Erä1!W12+Erä2!W12+Erä3!W12+Erä4!W12+Erä5!W12","v":0},{"$f":"Erä1!X12+Erä2!X12+Erä3!X12+Erä4!X12+Erä5!X12","v":0},{"$f":"Erä1!Y12+Erä2!Y12+Erä3!Y12+Erä4!Y12+Erä5!Y12","v":0},{"$error":"#DIV/0!"},{"$error":"#DIV/0!"},{"$f":"Erä1!AB12+Erä2!AB12+Erä3!AB12+Erä4!AB12+Erä5!AB12","v":0},{"$f":"Erä1!AC12+Erä2!AC12+Erä3!AC12+Erä4!AC12+Erä5!AC12","v":0},null,1]
[{"$f":"'Ti1'!A14","v":7},{"$f":"'Ti1'!B14","v":"h"},{"$f":"'Ti1'!C14","v":0},{"$f":"Erä1!D13+Erä2!D13+Erä3!D13+Erä4!D13+Erä5!D13","v":0},{"$f":"Erä1!E13+Erä2!E13+Erä3!E13+Erä4!E13+Erä5!E13","v":0},{"$f":"Erä1!F13+Erä2!F13+Erä3!F13+Erä4!F13+Erä5!F13","v":0},{"$f":"Erä1!G13+Erä2!G13+Erä3!G13+Erä4!G13+Erä5!G13","v":0},{"$error":"#DIV/0!"},{"$error":"#DIV/0!"},{"$f":"(Erä1!J13+Erä1!P13)+(Erä2!J13+Erä2!P13)+(Erä3!J13+Erä3!P13)+(Erä4!J13+Erä4!P13)+(Erä5!J13+Erä5!P13)","v":0},{"$f":"(Erä1!K13+Erä1!Q13)+(Erä2!K13+Erä2!Q13)+(Erä3!K13+Erä3!Q13)+(Erä4!K13+Erä4!Q13)+(Erä5!K13+Erä5!Q13)","v":0},{"$f":"(Erä1!L13+Erä1!M13+Erä1!R13+Erä1!S13)+(Erä2!L13+Erä2!M13+Erä2!R13+Erä2!S13)+(Erä3!L13+Erä3!M13+Erä3!R13+Erä3!S13)+(Erä4!L13+Erä4!M13+Erä4!R13+Erä4!S13)+(Erä5!L13+Erä5!M13+Erä5!R13+Erä5!S13)","v":0},{"$error":"#DIV/0!"},{"$error":"#DIV/0!"},{"$f":"Erä1!V13+Erä2!V13+Erä3!V13+Erä4!V13+Erä5!V13","v":0},{"$f":"Erä1!W13+Erä2!W13+Erä3!W13+Erä4!W13+Erä5!W13","v":0},{"$f":"Erä1!X13+Erä2!X13+Erä3!X13+Erä4!X13+Erä5!X13","v":0},{"$f":"Erä1!Y13+Erä2!Y13+Erä3!Y13+Erä4!Y13+Erä5!Y13","v":0},{"$error":"#DIV/0!"},{"$error":"#DIV/0!"},{"$f":"Erä1!AB13+Erä2!AB13+Erä3!AB13+Erä4!AB13+Erä5!AB13","v":0},{"$f":"Erä1!AC13+Erä2!AC13+Erä3!AC13+Erä4!AC13+Erä5!AC13","v":0},null,1]
[{"$f":"'Ti1'!A15","v":8},{"$f":"'Ti1'!B15","v":"kt"},{"$f":"'Ti1'!C15","v":0},{"$f":"Erä1!D14+Erä2!D14+Erä3!D14+Erä4!D14+Erä5!D14","v":0},{"$f":"Erä1!E14+Erä2!E14+Erä3!E14+Erä4!E14+Erä5!E14","v":0},{"$f":"Erä1!F14+Erä2!F14+Erä3!F14+Erä4!F14+Erä5!F14","v":0},{"$f":"Erä1!G14+Erä2!G14+Erä3!G14+Erä4!G14+Erä5!G14","v":0},{"$error":"#DIV/0!"},{"$error":"#DIV/0!"},{"$f":"(Erä1!J14+Erä1!P14)+(Erä2!J14+Erä2!P14)+(Erä3!J14+Erä3!P14)+(Erä4!J14+Erä4!P14)+(Erä5!J14+Erä5!P14)","v":0},{"$f":"(Erä1!K14+Erä1!Q14)+(Erä2!K14+Erä2!Q14)+(Erä3!K14+Erä3!Q14)+(Erä4!K14+Erä4!Q14)+(Erä5!K14+Erä5!Q14)","v":0},{"$f":"(Erä1!L14+Erä1!M14+Erä1!R14+Erä1!S14)+(Erä2!L14+Erä2!M14+Erä2!R14+Erä2!S14)+(Erä3!L14+Erä3!M14+Erä3!R14+Erä3!S14)+(Erä4!L14+Erä4!M14+Erä4!R14+Erä4!S14)+(Erä5!L14+Erä5!M14+Erä5!R14+Erä5!S14)","v":0},{"$error":"#DIV/0!"},{"$error":"#DIV/0!"},{"$f":"Erä1!V14+Erä2!V14+Erä3!V14+Erä4!V14+Erä5!V14","v":0},{"$f":"Erä1!W14+Erä2!W14+Erä3!W14+Erä4!W14+Erä5!W14","v":0},{"$f":"Erä1!X14+Erä2!X14+Erä3!X14+Erä4!X14+Erä5!X14","v":0},{"$f":"Erä1!Y14+Erä2!Y14+Erä3!Y14+Erä4!Y14+Erä5!Y14","v":0},{"$error":"#DIV/0!"},{"$error":"#DIV/0!"},{"$f":"Erä1!AB14+Erä2!AB14+Erä3!AB14+Erä4!AB14+Erä5!AB14","v":0},{"$f":"Erä1!AC14+Erä2!AC14+Erä3!AC14+Erä4!AC14+Erä5!AC14","v":0},null,1]
[{"$f":"'Ti1'!A16","v":9},{"$f":"'Ti1'!B16","v":"kt"},{"$f":"'Ti1'!C16","v":0},{"$f":"Erä1!D15+Erä2!D15+Erä3!D15+Erä4!D15+Erä5!D15","v":0},{"$f":"Erä1!E15+Erä2!E15+Erä3!E15+Erä4!E15+Erä5!E15","v":0},{"$f":"Erä1!F15+Erä2!F15+Erä3!F15+Erä4!F15+Erä5!F15","v":0},{"$f":"Erä1!G15+Erä2!G15+Erä3!G15+Erä4!G15+Erä5!G15","v":0},{"$error":"#DIV/0!"},{"$error":"#DIV/0!"},{"$f":"(Erä1!J15+Erä1!P15)+(Erä2!J15+Erä2!P15)+(Erä3!J15+Erä3!P15)+(Erä4!J15+Erä4!P15)+(Erä5!J15+Erä5!P15)","v":0},{"$f":"(Erä1!K15+Erä1!Q15)+(Erä2!K15+Erä2!Q15)+(Erä3!K15+Erä3!Q15)+(Erä4!K15+Erä4!Q15)+(Erä5!K15+Erä5!Q15)","v":0},{"$f":"(Erä1!L15+Erä1!M15+Erä1!R15+Erä1!S15)+(Erä2!L15+Erä2!M15+Erä2!R15+Erä2!S15)+(Erä3!L15+Erä3!M15+Erä3!R15+Erä3!S15)+(Erä4!L15+Erä4!M15+Erä4!R15+Erä4!S15)+(Erä5!L15+Erä5!M15+Erä5!R15+Erä5!S15)","v":0},{"$error":"#DIV/0!"},{"$error":"#DIV/0!"},{"$f":"Erä1!V15+Erä2!V15+Erä3!V15+Erä4!V15+Erä5!V15","v":0},{"$f":"Erä1!W15+Erä2!W15+Erä3!W15+Erä4!W15+Erä5!W15","v":0},{"$f":"Erä1!X15+Erä2!X15+Erä3!X15+Erä4!X15+Erä5!X15","v":0},{"$f":"Erä1!Y15+Erä2!Y15+Erä3!Y15+Erä4!Y15+Erä5!Y15","v":0},{"$error":"#DIV/0!"},{"$error":"#DIV/0!"},{"$f":"Erä1!AB15+Erä2!AB15+Erä3!AB15+Erä4!AB15+Erä5!AB15","v":0},{"$f":"Erä1!AC15+Erä2!AC15+Erä3!AC15+Erä4!AC15+Erä5!AC15","v":0},null,1]
[{"$f":"'Ti1'!A17","v":10},{"$f":"'Ti1'!B17","v":"kt"},{"$f":"'Ti1'!C17","v":0},{"$f":"Erä1!D16+Erä2!D16+Erä3!D16+Erä4!D16+Erä5!D16","v":0},{"$f":"Erä1!E16+Erä2!E16+Erä3!E16+Erä4!E16+Erä5!E16","v":0},{"$f":"Erä1!F16+Erä2!F16+Erä3!F16+Erä4!F16+Erä5!F16","v":0},{"$f":"Erä1!G16+Erä2!G16+Erä3!G16+Erä4!G16+Erä5!G16","v":0},{"$f":"(D16+E16)/(D16+E16+F16+G16)*100","v":{"$error":"#DIV/0!"}},{"$f":"G16/(D16+E16+F16+G16)*100","v":{"$error":"#DIV/0!"}},{"$f":"(Erä1!J16+Erä1!P16)+(Erä2!J16+Erä2!P16)+(Erä3!J16+Erä3!P16)+(Erä4!J16+Erä4!P16)+(Erä5!J16+Erä5!P16)","v":0},{"$f":"(Erä1!K16+Erä1!Q16)+(Erä2!K16+Erä2!Q16)+(Erä3!K16+Erä3!Q16)+(Erä4!K16+Erä4!Q16)+(Erä5!K16+Erä5!Q16)","v":0},{"$f":"(Erä1!L16+Erä1!M16+Erä1!R16+Erä1!S16)+(Erä2!L16+Erä2!M16+Erä2!R16+Erä2!S16)+(Erä3!L16+Erä3!M16+Erä3!R16+Erä3!S16)+(Erä4!L16+Erä4!M16+Erä4!R16+Erä4!S16)+(Erä5!L16+Erä5!M16+Erä5!R16+Erä5!S16)","v":0},{"$f":"J16/(J16+K16+L16)*100","v":{"$error":"#DIV/0!"}},{"$f":"L16/(J16+K16+L16)*100","v":{"$error":"#DIV/0!"}},{"$f":"Erä1!V16+Erä2!V16+Erä3!V16+Erä4!V16+Erä5!V16","v":0},{"$f":"Erä1!W16+Erä2!W16+Erä3!W16+Erä4!W16+Erä5!W16","v":0},{"$f":"Erä1!X16+Erä2!X16+Erä3!X16+Erä4!X16+Erä5!X16","v":0},{"$f":"Erä1!Y16+Erä2!Y16+Erä3!Y16+Erä4!Y16+Erä5!Y16","v":0},{"$f":"(O16+P16)/(O16+P16+Q16+R16)*100","v":{"$error":"#DIV/0!"}},{"$f":"R16/(O16+P16+Q16+R16)*100","v":{"$error":"#DIV/0!"}},{"$f":"Erä1!AB16+Erä2!AB16+Erä3!AB16+Erä4!AB16+Erä5!AB16","v":0},{"$f":"Erä1!AC16+Erä2!AC16+Erä3!AC16+Erä4!AC16+Erä5!AC16","v":0},null,1]
[{"$f":"'Ti1'!A18","v":11},{"$f":"'Ti1'!B18","v":"p"},{"$f":"'Ti1'!C18","v":0},{"$f":"Erä1!D17+Erä2!D17+Erä3!D17+Erä4!D17+Erä5!D17","v":0},{"$f":"Erä1!E17+Erä2!E17+Erä3!E17+Erä4!E17+Erä5!E17","v":0},{"$f":"Erä1!F17+Erä2!F17+Erä3!F17+Erä4!F17+Erä5!F17","v":0},{"$f":"Erä1!G17+Erä2!G17+Erä3!G17+Erä4!G17+Erä5!G17","v":0},{"$error":"#DIV/0!"},{"$error":"#DIV/0!"},{"$f":"(Erä1!J17+Erä1!P17)+(Erä2!J17+Erä2!P17)+(Erä3!J17+Erä3!P17)+(Erä4!J17+Erä4!P17)+(Erä5!J17+Erä5!P17)","v":0},{"$f":"(Erä1!K17+Erä1!Q17)+(Erä2!K17+Erä2!Q17)+(Erä3!K17+Erä3!Q17)+(Erä4!K17+Erä4!Q17)+(Erä5!K17+Erä5!Q17)","v":0},{"$f":"(Erä1!L17+Erä1!M17+Erä1!R17+Erä1!S17)+(Erä2!L17+Erä2!M17+Erä2!R17+Erä2!S17)+(Erä3!L17+Erä3!M17+Erä3!R17+Erä3!S17)+(Erä4!L17+Erä4!M17+Erä4!R17+Erä4!S17)+(Erä5!L17+Erä5!M17+Erä5!R17+Erä5!S17)","v":0},{"$error":"#DIV/0!"},{"$error":"#DIV/0!"},{"$f":"Erä1!V17+Erä2!V17+Erä3!V17+Erä4!V17+Erä5!V17","v":0},{"$f":"Erä1!W17+Erä2!W17+Erä3!W17+Erä4!W17+Erä5!W17","v":0},{"$f":"Erä1!X17+Erä2!X17+Erä3!X17+Erä4!X17+Erä5!X17","v":0},{"$f":"Erä1!Y17+Erä2!Y17+Erä3!Y17+Erä4!Y17+Erä5!Y17","v":0},{"$error":"#DIV/0!"},{"$error":"#DIV/0!"},{"$f":"Erä1!AB17+Erä2!AB17+Erä3!AB17+Erä4!AB17+Erä5!AB17","v":0},{"$f":"Erä1!AC17+Erä2!AC17+Erä3!AC17+Erä4!AC17+Erä5!AC17","v":0},null,1]
[{"$f":"'Ti1'!A19","v":12},{"$f":"'Ti1'!B19","v":"p"},{"$f":"'Ti1'!C19","v":0},{"$f":"Erä1!D18+Erä2!D18+Erä3!D18+Erä4!D18+Erä5!D18","v":0},{"$f":"Erä1!E18+Erä2!E18+Erä3!E18+Erä4!E18+Erä5!E18","v":0},{"$f":"Erä1!F18+Erä2!F18+Erä3!F18+Erä4!F18+Erä5!F18","v":0},{"$f":"Erä1!G18+Erä2!G18+Erä3!G18+Erä4!G18+Erä5!G18","v":0},{"$f":"(D18+E18)/(D18+E18+F18+G18)*100","v":{"$error":"#DIV/0!"}},{"$f":"G18/(D18+E18+F18+G18)*100","v":{"$error":"#DIV/0!"}},{"$f":"(Erä1!J18+Erä1!P18)+(Erä2!J18+Erä2!P18)+(Erä3!J18+Erä3!P18)+(Erä4!J18+Erä4!P18)+(Erä5!J18+Erä5!P18)","v":0},{"$f":"(Erä1!K18+Erä1!Q18)+(Erä2!K18+Erä2!Q18)+(Erä3!K18+Erä3!Q18)+(Erä4!K18+Erä4!Q18)+(Erä5!K18+Erä5!Q18)","v":0},{"$f":"(Erä1!L18+Erä1!M18+Erä1!R18+Erä1!S18)+(Erä2!L18+Erä2!M18+Erä2!R18+Erä2!S18)+(Erä3!L18+Erä3!M18+Erä3!R18+Erä3!S18)+(Erä4!L18+Erä4!M18+Erä4!R18+Erä4!S18)+(Erä5!L18+Erä5!M18+Erä5!R18+Erä5!S18)","v":0},{"$f":"J18/(J18+K18+L18)*100","v":{"$error":"#DIV/0!"}},{"$f":"L18/(J18+K18+L18)*100","v":{"$error":"#DIV/0!"}},{"$f":"Erä1!V18+Erä2!V18+Erä3!V18+Erä4!V18+Erä5!V18","v":0},{"$f":"Erä1!W18+Erä2!W18+Erä3!W18+Erä4!W18+Erä5!W18","v":0},{"$f":"Erä1!X18+Erä2!X18+Erä3!X18+Erä4!X18+Erä5!X18","v":0},{"$f":"Erä1!Y18+Erä2!Y18+Erä3!Y18+Erä4!Y18+Erä5!Y18","v":0},{"$f":"(O18+P18)/(O18+P18+Q18+R18)*100","v":{"$error":"#DIV/0!"}},{"$f":"R18/(O18+P18+Q18+R18)*100","v":{"$error":"#DIV/0!"}},{"$f":"Erä1!AB18+Erä2!AB18+Erä3!AB18+Erä4!AB18+Erä5!AB18","v":0},{"$f":"Erä1!AC18+Erä2!AC18+Erä3!AC18+Erä4!AC18+Erä5!AC18","v":0},null,1]
[{"$f":"'Ti1'!A20","v":0},{"$f":"'Ti1'!B20","v":0},{"$f":"'Ti1'!C20","v":0},{"$f":"Erä1!D19+Erä2!D19+Erä3!D19+Erä4!D19+Erä5!D19","v":0},{"$f":"Erä1!E19+Erä2!E19+Erä3!E19+Erä4!E19+Erä5!E19","v":0},{"$f":"Erä1!F19+Erä2!F19+Erä3!F19+Erä4!F19+Erä5!F19","v":0},{"$f":"Erä1!G19+Erä2!G19+Erä3!G19+Erä4!G19+Erä5!G19","v":0},{"$f":"(D19+E19)/(D19+E19+F19+G19)*100","v":{"$error":"#DIV/0!"}},{"$f":"G19/(D19+E19+F19+G19)*100","v":{"$error":"#DIV/0!"}},{"$f":"(Erä1!J19+Erä1!P19)+(Erä2!J19+Erä2!P19)+(Erä3!J19+Erä3!P19)+(Erä4!J19+Erä4!P19)+(Erä5!J19+Erä5!P19)","v":0},{"$f":"(Erä1!K19+Erä1!Q19)+(Erä2!K19+Erä2!Q19)+(Erä3!K19+Erä3!Q19)+(Erä4!K19+Erä4!Q19)+(Erä5!K19+Erä5!Q19)","v":0},{"$f":"(Erä1!L19+Erä1!M19+Erä1!R19+Erä1!S19)+(Erä2!L19+Erä2!M19+Erä2!R19+Erä2!S19)+(Erä3!L19+Erä3!M19+Erä3!R19+Erä3!S19)+(Erä4!L19+Erä4!M19+Erä4!R19+Erä4!S19)+(Erä5!L19+Erä5!M19+Erä5!R19+Erä5!S19)","v":0},{"$f":"J19/(J19+K19+L19)*100","v":{"$error":"#DIV/0!"}},{"$f":"L19/(J19+K19+L19)*100","v":{"$error":"#DIV/0!"}},{"$f":"Erä1!V19+Erä2!V19+Erä3!V19+Erä4!V19+Erä5!V19","v":0},{"$f":"Erä1!W19+Erä2!W19+Erä3!W19+Erä4!W19+Erä5!W19","v":0},{"$f":"Erä1!X19+Erä2!X19+Erä3!X19+Erä4!X19+Erä5!X19","v":0},{"$f":"Erä1!Y19+Erä2!Y19+Erä3!Y19+Erä4!Y19+Erä5!Y19","v":0},{"$f":"(O19+P19)/(O19+P19+Q19+R19)*100","v":{"$error":"#DIV/0!"}},{"$f":"R19/(O19+P19+Q19+R19)*100","v":{"$error":"#DIV/0!"}},{"$f":"Erä1!AB19+Erä2!AB19+Erä3!AB19+Erä4!AB19+Erä5!AB19","v":0},{"$f":"Erä1!AC19+Erä2!AC19+Erä3!AC19+Erä4!AC19+Erä5!AC19","v":0}]
[{"$f":"'Ti1'!A21","v":0},{"$f":"'Ti1'!B21","v":0},{"$f":"'Ti1'!C21","v":0},{"$f":"Erä1!D20+Erä2!D20+Erä3!D20+Erä4!D20+Erä5!D20","v":0},{"$f":"Erä1!E20+Erä2!E20+Erä3!E20+Erä4!E20+Erä5!E20","v":0},{"$f":"Erä1!F20+Erä2!F20+Erä3!F20+Erä4!F20+Erä5!F20","v":0},{"$f":"Erä1!G20+Erä2!G20+Erä3!G20+Erä4!G20+Erä5!G20","v":0},{"$f":"(D20+E20)/(D20+E20+F20+G20)*100","v":{"$error":"#DIV/0!"}},{"$f":"G20/(D20+E20+F20+G20)*100","v":{"$error":"#DIV/0!"}},{"$f":"(Erä1!J20+Erä1!P20)+(Erä2!J20+Erä2!P20)+(Erä3!J20+Erä3!P20)+(Erä4!J20+Erä4!P20)+(Erä5!J20+Erä5!P20)","v":0},{"$f":"(Erä1!K20+Erä1!Q20)+(Erä2!K20+Erä2!Q20)+(Erä3!K20+Erä3!Q20)+(Erä4!K20+Erä4!Q20)+(Erä5!K20+Erä5!Q20)","v":0},{"$f":"(Erä1!L20+Erä1!M20+Erä1!R20+Erä1!S20)+(Erä2!L20+Erä2!M20+Erä2!R20+Erä2!S20)+(Erä3!L20+Erä3!M20+Erä3!R20+Erä3!S20)+(Erä4!L20+Erä4!M20+Erä4!R20+Erä4!S20)+(Erä5!L20+Erä5!M20+Erä5!R20+Erä5!S20)","v":0},{"$f":"J20/(J20+K20+L20)*100","v":{"$error":"#DIV/0!"}},{"$f":"L20/(J20+K20+L20)*100","v":{"$error":"#DIV/0!"}},{"$f":"Erä1!V20+Erä2!V20+Erä3!V20+Erä4!V20+Erä5!V20","v":0},{"$f":"Erä1!W20+Erä2!W20+Erä3!W20+Erä4!W20+Erä5!W20","v":0},{"$f":"Erä1!X20+Erä2!X20+Erä3!X20+Erä4!X20+Erä5!X20","v":0},{"$f":"Erä1!Y20+Erä2!Y20+Erä3!Y20+Erä4!Y20+Erä5!Y20","v":0},{"$f":"(O20+P20)/(O20+P20+Q20+R20)*100","v":{"$error":"#DIV/0!"}},{"$f":"R20/(O20+P20+Q20+R20)*100","v":{"$error":"#DIV/0!"}},{"$f":"Erä1!AB20+Erä2!AB20+Erä3!AB20+Erä4!AB20+Erä5!AB20","v":0},{"$f":"Erä1!AC20+Erä2!AC20+Erä3!AC20+Erä4!AC20+Erä5!AC20","v":0}]
[null,"Joukkue","Yhteen",{"$f":"SUM(D7:D20)","v":0},{"$f":"SUM(E7:E20)","v":0},{"$f":"SUM(F7:F20)","v":0},{"$f":"SUM(G7:G20)","v":0},{"$f":"(D21+E21)/(D21+E21+F21+G21)*100","v":{"$error":"#DIV/0!"}},{"$f":"G21/(D21+E21+F21+G21)*100","v":{"$error":"#DIV/0!"}},{"$f":"SUM(J7:J20)","v":0},{"$f":"SUM(K7:K20)","v":0},{"$f":"SUM(L7:L20)","v":0},{"$f":"J21/(J21+K21+L21)*100","v":{"$error":"#DIV/0!"}},{"$f":"L21/(J21+K21+L21)*100","v":{"$error":"#DIV/0!"}},{"$f":"SUM(O7:O20)","v":0},{"$f":"SUM(P7:P20)","v":0},{"$f":"SUM(Q7:Q20)","v":0},{"$f":"SUM(R7:R20)","v":0},{"$f":"(O21+P21)/(O21+P21+Q21+R21)*100","v":{"$error":"#DIV/0!"}},{"$f":"R21/(O21+P21+Q21+R21)*100","v":{"$error":"#DIV/0!"}},{"$f":"SUM(U7:U20)","v":0},{"$f":"SUM(V7:V20)","v":0},null,{"$f":"SUM(X7:X20)","v":12}]
[]
[null,"Joukkue","Yhteen",{"$f":"SUM(D25:D38)","v":0},0,0,0,0,0,0,0,0]
["Nro","Sukunimi","Etunimi","V","H","S","T","Hä","VO","H","Al","PM",null,"V = Voitetut pisteet yhteensä",null,null,null,null,"P = Plusprosentti"]
[{"$f":"'Ti1'!A8","v":1},{"$f":"'Ti1'!B8","v":"libero"},{"$f":"'Ti1'!C8","v":0},{"$f":"J7+O7+U7","v":0},{"$f":"J7","v":0},{"$f":"O7","v":0},{"$f":"U7","v":0},{"$f":"G7+L7+R7","v":0},{"$f":"G7","v":0},{"$f":"L7","v":0},{"$f":"R7","v":0},{"$f":"D25-H25","v":0},null,"H = Hyökkäyspisteet",null,null,null,null,"(onnistuneet suoritukset)"]
[{"$f":"'Ti1'!A9","v":2},{"$f":"'Ti1'!B9","v":"yp"},{"$f":"'Ti1'!C9","v":0},0,0,0,0,{"$f":"G8+L8+R8","v":0},0,0,{"$f":"R8","v":0},{"$f":"D26-H26","v":0},null,"S = Syöttöpisteet"]
[{"$f":"'Ti1'!A10","v":3},{"$f":"'Ti1'!B10","v":"yp"},{"$f":"'Ti1'!C10","v":0},0,0,0,0,0,0,0,0,{"$f":"D27-H27","v":0},null,"T = Torjuntapisteet",null,null,null,null,"M = Miinusprosentti"]
[{"$f":"'Ti1'!A11","v":4},{"$f":"'Ti1'!B11","v":"yp"},{"$f":"'Ti1'!C11","v":0},0,0,0,0,0,0,0,0,{"$f":"D28-H28","v":0},null,null,null,null,null,null,"(virheet)"]
[{"$f":"'Ti1'!A12","v":5},{"$f":"'Ti1'!B12","v":"yp"},{"$f":"'Ti1'!C12","v":0},0,0,0,0,0,0,0,0,{"$f":"D29-H29","v":0},null,"Hä = Hävityt pisteet yhteensä"]
[{"$f":"'Ti1'!A13","v":6},{"$f":"'Ti1'!B13","v":"h"},{"$f":"'Ti1'!C13","v":0},0,0,0,0,0,0,0,0,{"$f":"D30-H30","v":0},null,"Vo = Vastaanotoilla hävityt pisteet"]
[{"$f":"'Ti1'!A14","v":7},{"$f":"'Ti1'!B14","v":"h"},{"$f":"'Ti1'!C14","v":0},0,0,0,0,0,0,0,0,0,null,"Hy = Hyökkäyksillä hävityt pisteet"]
[{"$f":"'Ti1'!A15","v":8},{"$f":"'Ti1'!B15","v":"kt"},{"$f":"'Ti1'!C15","v":0},0,0,0,0,0,0,0,0,{"$f":"D32-H32","v":0},null,"Al = Aloitussyötöillä hävityt pisteet"]
[{"$f":"'Ti1'!A16","v":9},{"$f":"'Ti1'!B16","v":"kt"},{"$f":"'Ti1'!C16","v":0},0,0,0,0,0,0,0,0,{"$f":"D33-H33","v":0}]
[{"$f":"'Ti1'!A17","v":10},{"$f":"'Ti1'!B17","v":"kt"},{"$f":"'Ti1'!C17","v":0},{"$f":"J16+O16+U16","v":0},{"$f":"J16","v":0},{"$f":"O16","v":0},{"$f":"U16","v":0},{"$f":"G16+L16+R16","v":0},{"$f":"G16","v":0},{"$f":"L16","v":0},{"$f":"R16","v":0},{"$f":"D34-H34","v":0},null,"PM = Plusmiinus-pisteet",null,null,null,"H2O-tähdet:"]
[{"$f":"'Ti1'!A18","v":11},{"$f":"'Ti1'!B18","v":"p"},{"$f":"'Ti1'!C18","v":0},{"$f":"J17+O17+U17","v":0},{"$f":"J17","v":0},{"$f":"O17","v":0},{"$f":"U17","v":0},{"$f":"G17+L17+R17","v":0},{"$f":"G17","v":0},{"$f":"L17","v":0},{"$f":"R17","v":0},0,null,null,null,null,null,"3 pistettä"]
[{"$f":"'Ti1'!A19","v":12},{"$f":"'Ti1'!B19","v":"p"},{"$f":"'Ti1'!C19","v":0},{"$f":"J18+O18+U18","v":0},{"$f":"J18","v":0},{"$f":"O18","v":0},{"$f":"U18","v":0},{"$f":"G18+L18+R18","v":0},{"$f":"G18","v":0},{"$f":"L18","v":0},{"$f":"R18","v":0},0,null,null,null,null,null,"2 pistettä"]
[{"$f":"'Ti1'!A20","v":0},{"$f":"'Ti1'!B20","v":0},{"$f":"'Ti1'!C20","v":0},{"$f":"J19+O19+U19","v":0},{"$f":"J19","v":0},{"$f":"O19","v":0},{"$f":"U19","v":0},{"$f":"G19+L19+R19","v":0},{"$f":"G19","v":0},{"$f":"L19","v":0},{"$f":"R19","v":0},0,null,null,null,null,null,"1 piste"]
[{"$f":"'Ti1'!A21","v":0},{"$f":"'Ti1'!B21","v":0},{"$f":"'Ti1'!C21","v":0},{"$f":"J20+O20+U20","v":0},{"$f":"J20","v":0},{"$f":"O20","v":0},{"$f":"U20","v":0},{"$f":"G20+L20+R20","v":0},{"$f":"G20","v":0},{"$f":"L20","v":0},{"$f":"R20","v":0},0,null,"by TM 2011"]

{"sheet":"omayhte","index":11,"n_rows":44,"n_cols":31,"rows_kept":44,"cut":false,"hidden":false,"merged":[]}
[null,"Joukkueet","Erät","Pisteet",null,null,null,null,"Yht.",null,null,null,null,null,null,"Vastustajan antamat pisteet:",null,null,null,null,null,null,{"$f":"Erä1!Q1+Erä2!Q1+Erä3!Q1+Erä4!Q1+Erä5!Q1","v":0}]
[null,{"$f":"'Ti1'!B2","v":"Omajoukkue"},{"$f":"Erä1!C2+Erä2!C2+Erä3!C2+Erä4!C2+Erä5!C2","v":0},{"$f":"Erä1!D2","v":0},{"$f":"Erä2!D2","v":0},{"$f":"Erä3!D2","v":0},{"$f":"Erä4!D2","v":0},{"$f":"Erä5!D2","v":0},{"$f":"SUM(D2:H2)","v":0}]
[null,{"$f":"'Ti1'!B3","v":"Vierasjoukkue"},{"$f":"Erä1!C3+Erä2!C3+Erä3!C3+Erä4!C3+Erä5!C3","v":0},{"$f":"Erä1!D3","v":0},{"$f":"Erä2!D3","v":0},{"$f":"Erä3!D3","v":0},{"$f":"Erä4!D3","v":0},{"$f":"Erä5!D3","v":0},{"$f":"SUM(D3:H3)","v":0}]
[null,null,null,null,null,null,null,null,null,null,{"$f":"(Erä1!K4)+(Erä2!K4)+(Erä3!K4)+(Erä4!K4)+(Erä5!K4)","v":0},"Ei hyökkäystä",null,null,null,null,{"$f":"(Erä1!Q4)+(Erä2!Q4)+(Erä3!Q4)+(Erä4!Q4)+(Erä5!Q4)","v":0},"Ei hyökkäystä"]
[null,null,null,"Vast.otto",null,null,null,null,null,"VO-hyökkäys",null,null,null,null,null,"Jatko-hyökkäys",null,null,null,null,null,"Aloitus",null,null,null,null,null,"Torjunta",null,"Puol","Tv"]
["Nro","Sukunimi","Etunimi",1,2,3,4,"P","M",1,2,"To",3,"P","M",1,2,"To",3,"P","M",1,2,3,4,"P","M",1,2,1,1]
[{"$f":"'Ti1'!A8","v":1},{"$f":"'Ti1'!B8","v":"libero"},{"$f":"'Ti1'!C8","v":0},{"$f":"Erä1!D7+Erä2!D7+Erä3!D7+Erä4!D7+Erä5!D7","v":0},{"$f":"Erä1!E7+Erä2!E7+Erä3!E7+Erä4!E7+Erä5!E7","v":0},{"$f":"Erä1!F7+Erä2!F7+Erä3!F7+Erä4!F7+Erä5!F7","v":0},{"$f":"Erä1!G7+Erä2!G7+Erä3!G7+Erä4!G7+Erä5!G7","v":0},{"$f":"(D7+E7)/(D7+E7+F7+G7)*100","v":{"$error":"#DIV/0!"}},{"$f":"G7/(D7+E7+F7+G7)*100","v":{"$error":"#DIV/0!"}},{"$f":"(Erä1!J7)+(Erä2!J7)+(Erä3!J7)+(Erä4!J7)+(Erä5!J7)","v":0},{"$f":"(Erä1!K7)+(Erä2!K7)+(Erä3!K7)+(Erä4!K7)+(Erä5!K7)","v":0},{"$f":"(Erä1!L7)+(Erä2!L7)+(Erä3!L7)+(Erä4!L7)+(Erä5!L7)","v":0},{"$f":"(Erä1!M7)+(Erä2!M7)+(Erä3!M7)+(Erä4!M7)+(Erä5!M7)","v":0},{"$f":"J7/(J7+K7+L7+M7)*100","v":{"$error":"#DIV/0!"}},{"$f":"(L7+M7)/(J7+K7+L7+M7)*100","v":{"$error":"#DIV/0!"}},{"$f":"(Erä1!P7)+(Erä2!P7)+(Erä3!P7)+(Erä4!P7)+(Erä5!P7)","v":0},{"$f":"(Erä1!Q7)+(Erä2!Q7)+(Erä3!Q7)+(Erä4!Q7)+(Erä5!Q7)","v":0},{"$f":"(Erä1!R7)+(Erä2!R7)+(Erä3!R7)+(Erä4!R7)+(Erä5!R7)","v":0},{"$f":"(Erä1!S7)+(Erä2!S7)+(Erä3!S7)+(Erä4!S7)+(Erä5!S7)","v":0},{"$f":"P7/(P7+Q7+R7+S7)*100","v":{"$error":"#DIV/0!"}},{"$f":"(R7+S7)/(P7+Q7+S7)*100","v":{"$error":"#DIV/0!"}},{"$f":"Erä1!V7+Erä2!V7+Erä3!V7+Erä4!V7+Erä5!V7","v":0},{"$f":"Erä1!W7+Erä2!W7+Erä3!W7+Erä4!W7+Erä5!W7","v":0},{"$f":"Erä1!X7+Erä2!X7+Erä3!X7+Erä4!X7+Erä5!X7","v":0},{"$f":"Erä1!Y7+Erä2!Y7+Erä3!Y7+Erä4!Y7+Erä5!Y7","v":0},{"$f":"(V7+W7)/(V7+W7+X7+Y7)*100","v":{"$error":"#DIV/0!"}},{"$f":"Y7/(V7+W7+X7+Y7)*100","v":{"$error":"#DIV/0!"}},{"$f":"Erä1!AB7+Erä2!AB7+Erä3!AB7+Erä4!AB7+Erä5!AB7","v":0},{"$f":"Erä1!AC7+Erä2!AC7+Erä3!AC7+Erä4!AC7+Erä5!AC7","v":0},{"$f":"Erä1!AE7+Erä2!AE7+Erä3!AE7+Erä4!AE7+Erä5!AE7","v":0},{"$f":"Erä1!AG7+Erä2!AG7+Erä3!AG7+Erä4!AG7+Erä5!AG7","v":0}]
[{"$f":"'Ti1'!A9","v":2},{"$f":"'Ti1'!B9","v":"yp"},{"$f":"'Ti1'!C9","v":0},{"$f":"Erä1!D8+Erä2!D8+Erä3!D8+Erä4!D8+Erä5!D8","v":0},{"$f":"Erä1!E8+Erä2!E8+Erä3!E8+Erä4!E8+Erä5!E8","v":0},{"$f":"Erä1!F8+Erä2!F8+Erä3!F8+Erä4!F8+Erä5!F8","v":0},{"$f":"Erä1!G8+Erä2!G8+Erä3!G8+Erä4!G8+Erä5!G8","v":0},{"$error":"#DIV/0!"},{"$error":"#DIV/0!"},{"$f":"(Erä1!J8)+(Erä2!J8)+(Erä3!J8)+(Erä4!J8)+(Erä5!J8)","v":0},{"$f":"(Erä1!K8)+(Erä2!K8)+(Erä3!K8)+(Erä4!K8)+(Erä5!K8)","v":0},{"$f":"(Erä1!L8)+(Erä2!L8)+(Erä3!L8)+(Erä4!L8)+(Erä5!L8)","v":0},{"$f":"(Erä1!M8)+(Erä2!M8)+(Erä3!M8)+(Erä4!M8)+(Erä5!M8)","v":0},{"$f":"J8/(J8+K8+L8+M8)*100","v":{"$error":"#DIV/0!"}},{"$f":"(L8+M8)/(J8+K8+L8+M8)*100","v":{"$error":"#DIV/0!"}},{"$f":"(Erä1!P8)+(Erä2!P8)+(Erä3!P8)+(Erä4!P8)+(Erä5!P8)","v":0},{"$f":"(Erä1!Q8)+(Erä2!Q8)+(Erä3!Q8)+(Erä4!Q8)+(Erä5!Q8)","v":0},{"$f":"(Erä1!R8)+(Erä2!R8)+(Erä3!R8)+(Erä4!R8)+(Erä5!R8)","v":0},{"$f":"(Erä1!S8)+(Erä2!S8)+(Erä3!S8)+(Erä4!S8)+(Erä5!S8)","v":0},{"$f":"P8/(P8+Q8+R8+S8)*100","v":{"$error":"#DIV/0!"}},{"$f":"(R8+S8)/(P8+Q8+S8)*100","v":{"$error":"#DIV/0!"}},{"$f":"Erä1!V8+Erä2!V8+Erä3!V8+Erä4!V8+Erä5!V8","v":0},{"$f":"Erä1!W8+Erä2!W8+Erä3!W8+Erä4!W8+Erä5!W8","v":0},{"$f":"Erä1!X8+Erä2!X8+Erä3!X8+Erä4!X8+Erä5!X8","v":0},{"$f":"Erä1!Y8+Erä2!Y8+Erä3!Y8+Erä4!Y8+Erä5!Y8","v":0},{"$error":"#DIV/0!"},{"$error":"#DIV/0!"},{"$f":"Erä1!AB8+Erä2!AB8+Erä3!AB8+Erä4!AB8+Erä5!AB8","v":0},{"$f":"Erä1!AC8+Erä2!AC8+Erä3!AC8+Erä4!AC8+Erä5!AC8","v":0},{"$f":"Erä1!AE8+Erä2!AE8+Erä3!AE8+Erä4!AE8+Erä5!AE8","v":0},{"$f":"Erä1!AG8+Erä2!AG8+Erä3!AG8+Erä4!AG8+Erä5!AG8","v":0}]
[{"$f":"'Ti1'!A10","v":3},{"$f":"'Ti1'!B10","v":"yp"},{"$f":"'Ti1'!C10","v":0},{"$f":"Erä1!D9+Erä2!D9+Erä3!D9+Erä4!D9+Erä5!D9","v":0},{"$f":"Erä1!E9+Erä2!E9+Erä3!E9+Erä4!E9+Erä5!E9","v":0},{"$f":"Erä1!F9+Erä2!F9+Erä3!F9+Erä4!F9+Erä5!F9","v":0},{"$f":"Erä1!G9+Erä2!G9+Erä3!G9+Erä4!G9+Erä5!G9","v":0},{"$error":"#DIV/0!"},{"$error":"#DIV/0!"},{"$f":"(Erä1!J9)+(Erä2!J9)+(Erä3!J9)+(Erä4!J9)+(Erä5!J9)","v":0},{"$f":"(Erä1!K9)+(Erä2!K9)+(Erä3!K9)+(Erä4!K9)+(Erä5!K9)","v":0},{"$f":"(Erä1!L9)+(Erä2!L9)+(Erä3!L9)+(Erä4!L9)+(Erä5!L9)","v":0},{"$f":"(Erä1!M9)+(Erä2!M9)+(Erä3!M9)+(Erä4!M9)+(Erä5!M9)","v":0},{"$error":"#DIV/0!"},{"$error":"#DIV/0!"},{"$f":"(Erä1!P9)+(Erä2!P9)+(Erä3!P9)+(Erä4!P9)+(Erä5!P9)","v":0},{"$f":"(Erä1!Q9)+(Erä2!Q9)+(Erä3!Q9)+(Erä4!Q9)+(Erä5!Q9)","v":0},{"$f":"(Erä1!R9)+(Erä2!R9)+(Erä3!R9)+(Erä4!R9)+(Erä5!R9)","v":0},{"$f":"(Erä1!S9)+(Erä2!S9)+(Erä3!S9)+(Erä4!S9)+(Erä5!S9)","v":0},{"$error":"#DIV/0!"},{"$error":"#DIV/0!"},{"$f":"Erä1!V9+Erä2!V9+Erä3!V9+Erä4!V9+Erä5!V9","v":0},{"$f":"Erä1!W9+Erä2!W9+Erä3!W9+Erä4!W9+Erä5!W9","v":0},{"$f":"Erä1!X9+Erä2!X9+Erä3!X9+Erä4!X9+Erä5!X9","v":0},{"$f":"Erä1!Y9+Erä2!Y9+Erä3!Y9+Erä4!Y9+Erä5!Y9","v":0},{"$error":"#DIV/0!"},{"$error":"#DIV/0!"},{"$f":"Erä1!AB9+Erä2!AB9+Erä3!AB9+Erä4!AB9+Erä5!AB9","v":0},{"$f":"Erä1!AC9+Erä2!AC9+Erä3!AC9+Erä4!AC9+Erä5!AC9","v":0},{"$f":"Erä1!AE9+Erä2!AE9+Erä3!AE9+Erä4!AE9+Erä5!AE9","v":0},{"$f":"Erä1!AG9+Erä2!AG9+Erä3!AG9+Erä4!AG9+Erä5!AG9","v":0}]
[{"$f":"'Ti1'!A11","v":4},{"$f":"'Ti1'!B11","v":"yp"},{"$f":"'Ti1'!C11","v":0},{"$f":"Erä1!D10+Erä2!D10+Erä3!D10+Erä4!D10+Erä5!D10","v":0},{"$f":"Erä1!E10+Erä2!E10+Erä3!E10+Erä4!E10+Erä5!E10","v":0},{"$f":"Erä1!F10+Erä2!F10+Erä3!F10+Erä4!F10+Erä5!F10","v":0},{"$f":"Erä1!G10+Erä2!G10+Erä3!G10+Erä4!G10+Erä5!G10","v":0},{"$error":"#DIV/0!"},{"$error":"#DIV/0!"},{"$f":"(Erä1!J10)+(Erä2!J10)+(Erä3!J10)+(Erä4!J10)+(Erä5!J10)","v":0},{"$f":"(Erä1!K10)+(Erä2!K10)+(Erä3!K10)+(Erä4!K10)+(Erä5!K10)","v":0},{"$f":"(Erä1!L10)+(Erä2!L10)+(Erä3!L10)+(Erä4!L10)+(Erä5!L10)","v":0},{"$f":"(Erä1!M10)+(Erä2!M10)+(Erä3!M10)+(Erä4!M10)+(Erä5!M10)","v":0},{"$error":"#DIV/0!"},{"$error":"#DIV/0!"},{"$f":"(Erä1!P10)+(Erä2!P10)+(Erä3!P10)+(Erä4!P10)+(Erä5!P10)","v":0},{"$f":"(Erä1!Q10)+(Erä2!Q10)+(Erä3!Q10)+(Erä4!Q10)+(Erä5!Q10)","v":0},{"$f":"(Erä1!R10)+(Erä2!R10)+(Erä3!R10)+(Erä4!R10)+(Erä5!R10)","v":0},{"$f":"(Erä1!S10)+(Erä2!S10)+(Erä3!S10)+(Erä4!S10)+(Erä5!S10)","v":0},{"$error":"#DIV/0!"},{"$error":"#DIV/0!"},{"$f":"Erä1!V10+Erä2!V10+Erä3!V10+Erä4!V10+Erä5!V10","v":0},{"$f":"Erä1!W10+Erä2!W10+Erä3!W10+Erä4!W10+Erä5!W10","v":0},{"$f":"Erä1!X10+Erä2!X10+Erä3!X10+Erä4!X10+Erä5!X10","v":0},{"$f":"Erä1!Y10+Erä2!Y10+Erä3!Y10+Erä4!Y10+Erä5!Y10","v":0},{"$error":"#DIV/0!"},{"$error":"#DIV/0!"},{"$f":"Erä1!AB10+Erä2!AB10+Erä3!AB10+Erä4!AB10+Erä5!AB10","v":0},{"$f":"Erä1!AC10+Erä2!AC10+Erä3!AC10+Erä4!AC10+Erä5!AC10","v":0},{"$f":"Erä1!AE10+Erä2!AE10+Erä3!AE10+Erä4!AE10+Erä5!AE10","v":0},{"$f":"Erä1!AG10+Erä2!AG10+Erä3!AG10+Erä4!AG10+Erä5!AG10","v":0}]
[{"$f":"'Ti1'!A12","v":5},{"$f":"'Ti1'!B12","v":"yp"},{"$f":"'Ti1'!C12","v":0},{"$f":"Erä1!D11+Erä2!D11+Erä3!D11+Erä4!D11+Erä5!D11","v":0},{"$f":"Erä1!E11+Erä2!E11+Erä3!E11+Erä4!E11+Erä5!E11","v":0},{"$f":"Erä1!F11+Erä2!F11+Erä3!F11+Erä4!F11+Erä5!F11","v":0},{"$f":"Erä1!G11+Erä2!G11+Erä3!G11+Erä4!G11+Erä5!G11","v":0},{"$error":"#DIV/0!"},{"$error":"#DIV/0!"},{"$f":"(Erä1!J11)+(Erä2!J11)+(Erä3!J11)+(Erä4!J11)+(Erä5!J11)","v":0},{"$f":"(Erä1!K11)+(Erä2!K11)+(Erä3!K11)+(Erä4!K11)+(Erä5!K11)","v":0},{"$f":"(Erä1!L11)+(Erä2!L11)+(Erä3!L11)+(Erä4!L11)+(Erä5!L11)","v":0},{"$f":"(Erä1!M11)+(Erä2!M11)+(Erä3!M11)+(Erä4!M11)+(Erä5!M11)","v":0},{"$error":"#DIV/0!"},{"$error":"#DIV/0!"},{"$f":"(Erä1!P11)+(Erä2!P11)+(Erä3!P11)+(Erä4!P11)+(Erä5!P11)","v":0},{"$f":"(Erä1!Q11)+(Erä2!Q11)+(Erä3!Q11)+(Erä4!Q11)+(Erä5!Q11)","v":0},{"$f":"(Erä1!R11)+(Erä2!R11)+(Erä3!R11)+(Erä4!R11)+(Erä5!R11)","v":0},{"$f":"(Erä1!S11)+(Erä2!S11)+(Erä3!S11)+(Erä4!S11)+(Erä5!S11)","v":0},{"$error":"#DIV/0!"},{"$error":"#DIV/0!"},{"$f":"Erä1!V11+Erä2!V11+Erä3!V11+Erä4!V11+Erä5!V11","v":0},{"$f":"Erä1!W11+Erä2!W11+Erä3!W11+Erä4!W11+Erä5!W11","v":0},{"$f":"Erä1!X11+Erä2!X11+Erä3!X11+Erä4!X11+Erä5!X11","v":0},{"$f":"Erä1!Y11+Erä2!Y11+Erä3!Y11+Erä4!Y11+Erä5!Y11","v":0},{"$error":"#DIV/0!"},{"$error":"#DIV/0!"},{"$f":"Erä1!AB11+Erä2!AB11+Erä3!AB11+Erä4!AB11+Erä5!AB11","v":0},{"$f":"Erä1!AC11+Erä2!AC11+Erä3!AC11+Erä4!AC11+Erä5!AC11","v":0},{"$f":"Erä1!AE11+Erä2!AE11+Erä3!AE11+Erä4!AE11+Erä5!AE11","v":0},{"$f":"Erä1!AG11+Erä2!AG11+Erä3!AG11+Erä4!AG11+Erä5!AG11","v":0}]
[{"$f":"'Ti1'!A13","v":6},{"$f":"'Ti1'!B13","v":"h"},{"$f":"'Ti1'!C13","v":0},{"$f":"Erä1!D12+Erä2!D12+Erä3!D12+Erä4!D12+Erä5!D12","v":0},{"$f":"Erä1!E12+Erä2!E12+Erä3!E12+Erä4!E12+Erä5!E12","v":0},{"$f":"Erä1!F12+Erä2!F12+Erä3!F12+Erä4!F12+Erä5!F12","v":0},{"$f":"Erä1!G12+Erä2!G12+Erä3!G12+Erä4!G12+Erä5!G12","v":0},{"$error":"#DIV/0!"},{"$error":"#DIV/0!"},{"$f":"(Erä1!J12)+(Erä2!J12)+(Erä3!J12)+(Erä4!J12)+(Erä5!J12)","v":0},{"$f":"(Erä1!K12)+(Erä2!K12)+(Erä3!K12)+(Erä4!K12)+(Erä5!K12)","v":0},{"$f":"(Erä1!L12)+(Erä2!L12)+(Erä3!L12)+(Erä4!L12)+(Erä5!L12)","v":0},{"$f":"(Erä1!M12)+(Erä2!M12)+(Erä3!M12)+(Erä4!M12)+(Erä5!M12)","v":0},{"$error":"#DIV/0!"},{"$error":"#DIV/0!"},{"$f":"(Erä1!P12)+(Erä2!P12)+(Erä3!P12)+(Erä4!P12)+(Erä5!P12)","v":0},{"$f":"(Erä1!Q12)+(Erä2!Q12)+(Erä3!Q12)+(Erä4!Q12)+(Erä5!Q12)","v":0},{"$f":"(Erä1!R12)+(Erä2!R12)+(Erä3!R12)+(Erä4!R12)+(Erä5!R12)","v":0},{"$f":"(Erä1!S12)+(Erä2!S12)+(Erä3!S12)+(Erä4!S12)+(Erä5!S12)","v":0},{"$error":"#DIV/0!"},{"$error":"#DIV/0!"},{"$f":"Erä1!V12+Erä2!V12+Erä3!V12+Erä4!V12+Erä5!V12","v":0},{"$f":"Erä1!W12+Erä2!W12+Erä3!W12+Erä4!W12+Erä5!W12","v":0},{"$f":"Erä1!X12+Erä2!X12+Erä3!X12+Erä4!X12+Erä5!X12","v":0},{"$f":"Erä1!Y12+Erä2!Y12+Erä3!Y12+Erä4!Y12+Erä5!Y12","v":0},{"$error":"#DIV/0!"},{"$error":"#DIV/0!"},{"$f":"Erä1!AB12+Erä2!AB12+Erä3!AB12+Erä4!AB12+Erä5!AB12","v":0},{"$f":"Erä1!AC12+Erä2!AC12+Erä3!AC12+Erä4!AC12+Erä5!AC12","v":0},{"$f":"Erä1!AE12+Erä2!AE12+Erä3!AE12+Erä4!AE12+Erä5!AE12","v":0},{"$f":"Erä1!AG12+Erä2!AG12+Erä3!AG12+Erä4!AG12+Erä5!AG12","v":0}]
[{"$f":"'Ti1'!A14","v":7},{"$f":"'Ti1'!B14","v":"h"},{"$f":"'Ti1'!C14","v":0},{"$f":"Erä1!D13+Erä2!D13+Erä3!D13+Erä4!D13+Erä5!D13","v":0},{"$f":"Erä1!E13+Erä2!E13+Erä3!E13+Erä4!E13+Erä5!E13","v":0},{"$f":"Erä1!F13+Erä2!F13+Erä3!F13+Erä4!F13+Erä5!F13","v":0},{"$f":"Erä1!G13+Erä2!G13+Erä3!G13+Erä4!G13+Erä5!G13","v":0},{"$error":"#DIV/0!"},{"$error":"#DIV/0!"},{"$f":"(Erä1!J13)+(Erä2!J13)+(Erä3!J13)+(Erä4!J13)+(Erä5!J13)","v":0},{"$f":"(Erä1!K13)+(Erä2!K13)+(Erä3!K13)+(Erä4!K13)+(Erä5!K13)","v":0},{"$f":"(Erä1!L13)+(Erä2!L13)+(Erä3!L13)+(Erä4!L13)+(Erä5!L13)","v":0},{"$f":"(Erä1!M13)+(Erä2!M13)+(Erä3!M13)+(Erä4!M13)+(Erä5!M13)","v":0},{"$error":"#DIV/0!"},{"$error":"#DIV/0!"},{"$f":"(Erä1!P13)+(Erä2!P13)+(Erä3!P13)+(Erä4!P13)+(Erä5!P13)","v":0},{"$f":"(Erä1!Q13)+(Erä2!Q13)+(Erä3!Q13)+(Erä4!Q13)+(Erä5!Q13)","v":0},{"$f":"(Erä1!R13)+(Erä2!R13)+(Erä3!R13)+(Erä4!R13)+(Erä5!R13)","v":0},{"$f":"(Erä1!S13)+(Erä2!S13)+(Erä3!S13)+(Erä4!S13)+(Erä5!S13)","v":0},{"$error":"#DIV/0!"},{"$error":"#DIV/0!"},{"$f":"Erä1!V13+Erä2!V13+Erä3!V13+Erä4!V13+Erä5!V13","v":0},{"$f":"Erä1!W13+Erä2!W13+Erä3!W13+Erä4!W13+Erä5!W13","v":0},{"$f":"Erä1!X13+Erä2!X13+Erä3!X13+Erä4!X13+Erä5!X13","v":0},{"$f":"Erä1!Y13+Erä2!Y13+Erä3!Y13+Erä4!Y13+Erä5!Y13","v":0},{"$error":"#DIV/0!"},{"$error":"#DIV/0!"},{"$f":"Erä1!AB13+Erä2!AB13+Erä3!AB13+Erä4!AB13+Erä5!AB13","v":0},{"$f":"Erä1!AC13+Erä2!AC13+Erä3!AC13+Erä4!AC13+Erä5!AC13","v":0},{"$f":"Erä1!AE13+Erä2!AE13+Erä3!AE13+Erä4!AE13+Erä5!AE13","v":0},{"$f":"Erä1!AG13+Erä2!AG13+Erä3!AG13+Erä4!AG13+Erä5!AG13","v":0}]
[{"$f":"'Ti1'!A15","v":8},{"$f":"'Ti1'!B15","v":"kt"},{"$f":"'Ti1'!C15","v":0},{"$f":"Erä1!D14+Erä2!D14+Erä3!D14+Erä4!D14+Erä5!D14","v":0},{"$f":"Erä1!E14+Erä2!E14+Erä3!E14+Erä4!E14+Erä5!E14","v":0},{"$f":"Erä1!F14+Erä2!F14+Erä3!F14+Erä4!F14+Erä5!F14","v":0},{"$f":"Erä1!G14+Erä2!G14+Erä3!G14+Erä4!G14+Erä5!G14","v":0},{"$error":"#DIV/0!"},{"$error":"#DIV/0!"},{"$f":"(Erä1!J14)+(Erä2!J14)+(Erä3!J14)+(Erä4!J14)+(Erä5!J14)","v":0},{"$f":"(Erä1!K14)+(Erä2!K14)+(Erä3!K14)+(Erä4!K14)+(Erä5!K14)","v":0},{"$f":"(Erä1!L14)+(Erä2!L14)+(Erä3!L14)+(Erä4!L14)+(Erä5!L14)","v":0},{"$f":"(Erä1!M14)+(Erä2!M14)+(Erä3!M14)+(Erä4!M14)+(Erä5!M14)","v":0},{"$error":"#DIV/0!"},{"$error":"#DIV/0!"},{"$f":"(Erä1!P14)+(Erä2!P14)+(Erä3!P14)+(Erä4!P14)+(Erä5!P14)","v":0},{"$f":"(Erä1!Q14)+(Erä2!Q14)+(Erä3!Q14)+(Erä4!Q14)+(Erä5!Q14)","v":0},{"$f":"(Erä1!R14)+(Erä2!R14)+(Erä3!R14)+(Erä4!R14)+(Erä5!R14)","v":0},{"$f":"(Erä1!S14)+(Erä2!S14)+(Erä3!S14)+(Erä4!S14)+(Erä5!S14)","v":0},{"$error":"#DIV/0!"},{"$error":"#DIV/0!"},{"$f":"Erä1!V14+Erä2!V14+Erä3!V14+Erä4!V14+Erä5!V14","v":0},{"$f":"Erä1!W14+Erä2!W14+Erä3!W14+Erä4!W14+Erä5!W14","v":0},{"$f":"Erä1!X14+Erä2!X14+Erä3!X14+Erä4!X14+Erä5!X14","v":0},{"$f":"Erä1!Y14+Erä2!Y14+Erä3!Y14+Erä4!Y14+Erä5!Y14","v":0},{"$error":"#DIV/0!"},{"$error":"#DIV/0!"},{"$f":"Erä1!AB14+Erä2!AB14+Erä3!AB14+Erä4!AB14+Erä5!AB14","v":0},{"$f":"Erä1!AC14+Erä2!AC14+Erä3!AC14+Erä4!AC14+Erä5!AC14","v":0},{"$f":"Erä1!AE14+Erä2!AE14+Erä3!AE14+Erä4!AE14+Erä5!AE14","v":0},{"$f":"Erä1!AG14+Erä2!AG14+Erä3!AG14+Erä4!AG14+Erä5!AG14","v":0}]
[{"$f":"'Ti1'!A16","v":9},{"$f":"'Ti1'!B16","v":"kt"},{"$f":"'Ti1'!C16","v":0},{"$f":"Erä1!D15+Erä2!D15+Erä3!D15+Erä4!D15+Erä5!D15","v":0},{"$f":"Erä1!E15+Erä2!E15+Erä3!E15+Erä4!E15+Erä5!E15","v":0},{"$f":"Erä1!F15+Erä2!F15+Erä3!F15+Erä4!F15+Erä5!F15","v":0},{"$f":"Erä1!G15+Erä2!G15+Erä3!G15+Erä4!G15+Erä5!G15","v":0},{"$error":"#DIV/0!"},{"$error":"#DIV/0!"},{"$f":"(Erä1!J15)+(Erä2!J15)+(Erä3!J15)+(Erä4!J15)+(Erä5!J15)","v":0},{"$f":"(Erä1!K15)+(Erä2!K15)+(Erä3!K15)+(Erä4!K15)+(Erä5!K15)","v":0},{"$f":"(Erä1!L15)+(Erä2!L15)+(Erä3!L15)+(Erä4!L15)+(Erä5!L15)","v":0},{"$f":"(Erä1!M15)+(Erä2!M15)+(Erä3!M15)+(Erä4!M15)+(Erä5!M15)","v":0},{"$error":"#DIV/0!"},{"$error":"#DIV/0!"},{"$f":"(Erä1!P15)+(Erä2!P15)+(Erä3!P15)+(Erä4!P15)+(Erä5!P15)","v":0},{"$f":"(Erä1!Q15)+(Erä2!Q15)+(Erä3!Q15)+(Erä4!Q15)+(Erä5!Q15)","v":0},{"$f":"(Erä1!R15)+(Erä2!R15)+(Erä3!R15)+(Erä4!R15)+(Erä5!R15)","v":0},{"$f":"(Erä1!S15)+(Erä2!S15)+(Erä3!S15)+(Erä4!S15)+(Erä5!S15)","v":0},{"$error":"#DIV/0!"},{"$error":"#DIV/0!"},{"$f":"Erä1!V15+Erä2!V15+Erä3!V15+Erä4!V15+Erä5!V15","v":0},{"$f":"Erä1!W15+Erä2!W15+Erä3!W15+Erä4!W15+Erä5!W15","v":0},{"$f":"Erä1!X15+Erä2!X15+Erä3!X15+Erä4!X15+Erä5!X15","v":0},{"$f":"Erä1!Y15+Erä2!Y15+Erä3!Y15+Erä4!Y15+Erä5!Y15","v":0},{"$error":"#DIV/0!"},{"$error":"#DIV/0!"},{"$f":"Erä1!AB15+Erä2!AB15+Erä3!AB15+Erä4!AB15+Erä5!AB15","v":0},{"$f":"Erä1!AC15+Erä2!AC15+Erä3!AC15+Erä4!AC15+Erä5!AC15","v":0},{"$f":"Erä1!AE15+Erä2!AE15+Erä3!AE15+Erä4!AE15+Erä5!AE15","v":0},{"$f":"Erä1!AG15+Erä2!AG15+Erä3!AG15+Erä4!AG15+Erä5!AG15","v":0}]
[{"$f":"'Ti1'!A17","v":10},{"$f":"'Ti1'!B17","v":"kt"},{"$f":"'Ti1'!C17","v":0},{"$f":"Erä1!D16+Erä2!D16+Erä3!D16+Erä4!D16+Erä5!D16","v":0},{"$f":"Erä1!E16+Erä2!E16+Erä3!E16+Erä4!E16+Erä5!E16","v":0},{"$f":"Erä1!F16+Erä2!F16+Erä3!F16+Erä4!F16+Erä5!F16","v":0},{"$f":"Erä1!G16+Erä2!G16+Erä3!G16+Erä4!G16+Erä5!G16","v":0},{"$error":"#DIV/0!"},{"$error":"#DIV/0!"},{"$f":"(Erä1!J16)+(Erä2!J16)+(Erä3!J16)+(Erä4!J16)+(Erä5!J16)","v":0},{"$f":"(Erä1!K16)+(Erä2!K16)+(Erä3!K16)+(Erä4!K16)+(Erä5!K16)","v":0},{"$f":"(Erä1!L16)+(Erä2!L16)+(Erä3!L16)+(Erä4!L16)+(Erä5!L16)","v":0},{"$f":"(Erä1!M16)+(Erä2!M16)+(Erä3!M16)+(Erä4!M16)+(Erä5!M16)","v":0},{"$error":"#DIV/0!"},{"$error":"#DIV/0!"},{"$f":"(Erä1!P16)+(Erä2!P16)+(Erä3!P16)+(Erä4!P16)+(Erä5!P16)","v":0},{"$f":"(Erä1!Q16)+(Erä2!Q16)+(Erä3!Q16)+(Erä4!Q16)+(Erä5!Q16)","v":0},{"$f":"(Erä1!R16)+(Erä2!R16)+(Erä3!R16)+(Erä4!R16)+(Erä5!R16)","v":0},{"$f":"(Erä1!S16)+(Erä2!S16)+(Erä3!S16)+(Erä4!S16)+(Erä5!S16)","v":0},{"$error":"#DIV/0!"},{"$error":"#DIV/0!"},{"$f":"Erä1!V16+Erä2!V16+Erä3!V16+Erä4!V16+Erä5!V16","v":0},{"$f":"Erä1!W16+Erä2!W16+Erä3!W16+Erä4!W16+Erä5!W16","v":0},{"$f":"Erä1!X16+Erä2!X16+Erä3!X16+Erä4!X16+Erä5!X16","v":0},{"$f":"Erä1!Y16+Erä2!Y16+Erä3!Y16+Erä4!Y16+Erä5!Y16","v":0},{"$error":"#DIV/0!"},{"$error":"#DIV/0!"},{"$f":"Erä1!AB16+Erä2!AB16+Erä3!AB16+Erä4!AB16+Erä5!AB16","v":0},{"$f":"Erä1!AC16+Erä2!AC16+Erä3!AC16+Erä4!AC16+Erä5!AC16","v":0},{"$f":"Erä1!AE16+Erä2!AE16+Erä3!AE16+Erä4!AE16+Erä5!AE16","v":0},{"$f":"Erä1!AG16+Erä2!AG16+Erä3!AG16+Erä4!AG16+Erä5!AG16","v":0}]
[{"$f":"'Ti1'!A18","v":11},{"$f":"'Ti1'!B18","v":"p"},{"$f":"'Ti1'!C18","v":0},{"$f":"Erä1!D17+Erä2!D17+Erä3!D17+Erä4!D17+Erä5!D17","v":0},{"$f":"Erä1!E17+Erä2!E17+Erä3!E17+Erä4!E17+Erä5!E17","v":0},{"$f":"Erä1!F17+Erä2!F17+Erä3!F17+Erä4!F17+Erä5!F17","v":0},{"$f":"Erä1!G17+Erä2!G17+Erä3!G17+Erä4!G17+Erä5!G17","v":0},{"$error":"#DIV/0!"},{"$error":"#DIV/0!"},{"$f":"(Erä1!J17)+(Erä2!J17)+(Erä3!J17)+(Erä4!J17)+(Erä5!J17)","v":0},{"$f":"(Erä1!K17)+(Erä2!K17)+(Erä3!K17)+(Erä4!K17)+(Erä5!K17)","v":0},{"$f":"(Erä1!L17)+(Erä2!L17)+(Erä3!L17)+(Erä4!L17)+(Erä5!L17)","v":0},{"$f":"(Erä1!M17)+(Erä2!M17)+(Erä3!M17)+(Erä4!M17)+(Erä5!M17)","v":0},{"$error":"#DIV/0!"},{"$error":"#DIV/0!"},{"$f":"(Erä1!P17)+(Erä2!P17)+(Erä3!P17)+(Erä4!P17)+(Erä5!P17)","v":0},{"$f":"(Erä1!Q17)+(Erä2!Q17)+(Erä3!Q17)+(Erä4!Q17)+(Erä5!Q17)","v":0},{"$f":"(Erä1!R17)+(Erä2!R17)+(Erä3!R17)+(Erä4!R17)+(Erä5!R17)","v":0},{"$f":"(Erä1!S17)+(Erä2!S17)+(Erä3!S17)+(Erä4!S17)+(Erä5!S17)","v":0},{"$error":"#DIV/0!"},{"$error":"#DIV/0!"},{"$f":"Erä1!V17+Erä2!V17+Erä3!V17+Erä4!V17+Erä5!V17","v":0},{"$f":"Erä1!W17+Erä2!W17+Erä3!W17+Erä4!W17+Erä5!W17","v":0},{"$f":"Erä1!X17+Erä2!X17+Erä3!X17+Erä4!X17+Erä5!X17","v":0},{"$f":"Erä1!Y17+Erä2!Y17+Erä3!Y17+Erä4!Y17+Erä5!Y17","v":0},{"$error":"#DIV/0!"},{"$error":"#DIV/0!"},{"$f":"Erä1!AB17+Erä2!AB17+Erä3!AB17+Erä4!AB17+Erä5!AB17","v":0},{"$f":"Erä1!AC17+Erä2!AC17+Erä3!AC17+Erä4!AC17+Erä5!AC17","v":0},{"$f":"Erä1!AE17+Erä2!AE17+Erä3!AE17+Erä4!AE17+Erä5!AE17","v":0},{"$f":"Erä1!AG17+Erä2!AG17+Erä3!AG17+Erä4!AG17+Erä5!AG17","v":0}]
[{"$f":"'Ti1'!A19","v":12},{"$f":"'Ti1'!B19","v":"p"},{"$f":"'Ti1'!C19","v":0},{"$f":"Erä1!D18+Erä2!D18+Erä3!D18+Erä4!D18+Erä5!D18","v":0},{"$f":"Erä1!E18+Erä2!E18+Erä3!E18+Erä4!E18+Erä5!E18","v":0},{"$f":"Erä1!F18+Erä2!F18+Erä3!F18+Erä4!F18+Erä5!F18","v":0},{"$f":"Erä1!G18+Erä2!G18+Erä3!G18+Erä4!G18+Erä5!G18","v":0},{"$error":"#DIV/0!"},{"$error":"#DIV/0!"},{"$f":"(Erä1!J18)+(Erä2!J18)+(Erä3!J18)+(Erä4!J18)+(Erä5!J18)","v":0},{"$f":"(Erä1!K18)+(Erä2!K18)+(Erä3!K18)+(Erä4!K18)+(Erä5!K18)","v":0},{"$f":"(Erä1!L18)+(Erä2!L18)+(Erä3!L18)+(Erä4!L18)+(Erä5!L18)","v":0},{"$f":"(Erä1!M18)+(Erä2!M18)+(Erä3!M18)+(Erä4!M18)+(Erä5!M18)","v":0},{"$error":"#DIV/0!"},{"$error":"#DIV/0!"},{"$f":"(Erä1!P18)+(Erä2!P18)+(Erä3!P18)+(Erä4!P18)+(Erä5!P18)","v":0},{"$f":"(Erä1!Q18)+(Erä2!Q18)+(Erä3!Q18)+(Erä4!Q18)+(Erä5!Q18)","v":0},{"$f":"(Erä1!R18)+(Erä2!R18)+(Erä3!R18)+(Erä4!R18)+(Erä5!R18)","v":0},{"$f":"(Erä1!S18)+(Erä2!S18)+(Erä3!S18)+(Erä4!S18)+(Erä5!S18)","v":0},{"$error":"#DIV/0!"},{"$error":"#DIV/0!"},{"$f":"Erä1!V18+Erä2!V18+Erä3!V18+Erä4!V18+Erä5!V18","v":0},{"$f":"Erä1!W18+Erä2!W18+Erä3!W18+Erä4!W18+Erä5!W18","v":0},{"$f":"Erä1!X18+Erä2!X18+Erä3!X18+Erä4!X18+Erä5!X18","v":0},{"$f":"Erä1!Y18+Erä2!Y18+Erä3!Y18+Erä4!Y18+Erä5!Y18","v":0},{"$error":"#DIV/0!"},{"$error":"#DIV/0!"},{"$f":"Erä1!AB18+Erä2!AB18+Erä3!AB18+Erä4!AB18+Erä5!AB18","v":0},{"$f":"Erä1!AC18+Erä2!AC18+Erä3!AC18+Erä4!AC18+Erä5!AC18","v":0},{"$f":"Erä1!AE18+Erä2!AE18+Erä3!AE18+Erä4!AE18+Erä5!AE18","v":0},{"$f":"Erä1!AG18+Erä2!AG18+Erä3!AG18+Erä4!AG18+Erä5!AG18","v":0}]
[{"$f":"'Ti1'!A20","v":0},{"$f":"'Ti1'!B20","v":0},{"$f":"'Ti1'!C20","v":0},{"$f":"Erä1!D19+Erä2!D19+Erä3!D19+Erä4!D19+Erä5!D19","v":0},{"$f":"Erä1!E19+Erä2!E19+Erä3!E19+Erä4!E19+Erä5!E19","v":0},{"$f":"Erä1!F19+Erä2!F19+Erä3!F19+Erä4!F19+Erä5!F19","v":0},{"$f":"Erä1!G19+Erä2!G19+Erä3!G19+Erä4!G19+Erä5!G19","v":0},{"$error":"#DIV/0!"},{"$error":"#DIV/0!"},{"$f":"(Erä1!J19)+(Erä2!J19)+(Erä3!J19)+(Erä4!J19)+(Erä5!J19)","v":0},{"$f":"(Erä1!K19)+(Erä2!K19)+(Erä3!K19)+(Erä4!K19)+(Erä5!K19)","v":0},{"$f":"(Erä1!L19)+(Erä2!L19)+(Erä3!L19)+(Erä4!L19)+(Erä5!L19)","v":0},{"$f":"(Erä1!M19)+(Erä2!M19)+(Erä3!M19)+(Erä4!M19)+(Erä5!M19)","v":0},{"$error":"#DIV/0!"},{"$error":"#DIV/0!"},{"$f":"(Erä1!P19)+(Erä2!P19)+(Erä3!P19)+(Erä4!P19)+(Erä5!P19)","v":0},{"$f":"(Erä1!Q19)+(Erä2!Q19)+(Erä3!Q19)+(Erä4!Q19)+(Erä5!Q19)","v":0},{"$f":"(Erä1!R19)+(Erä2!R19)+(Erä3!R19)+(Erä4!R19)+(Erä5!R19)","v":0},{"$f":"(Erä1!S19)+(Erä2!S19)+(Erä3!S19)+(Erä4!S19)+(Erä5!S19)","v":0},{"$error":"#DIV/0!"},{"$error":"#DIV/0!"},{"$f":"Erä1!V19+Erä2!V19+Erä3!V19+Erä4!V19+Erä5!V19","v":0},{"$f":"Erä1!W19+Erä2!W19+Erä3!W19+Erä4!W19+Erä5!W19","v":0},{"$f":"Erä1!X19+Erä2!X19+Erä3!X19+Erä4!X19+Erä5!X19","v":0},{"$f":"Erä1!Y19+Erä2!Y19+Erä3!Y19+Erä4!Y19+Erä5!Y19","v":0},{"$error":"#DIV/0!"},{"$error":"#DIV/0!"},{"$f":"Erä1!AB19+Erä2!AB19+Erä3!AB19+Erä4!AB19+Erä5!AB19","v":0},{"$f":"Erä1!AC19+Erä2!AC19+Erä3!AC19+Erä4!AC19+Erä5!AC19","v":0},{"$f":"Erä1!AE19+Erä2!AE19+Erä3!AE19+Erä4!AE19+Erä5!AE19","v":0},{"$f":"Erä1!AG19+Erä2!AG19+Erä3!AG19+Erä4!AG19+Erä5!AG19","v":0}]
[{"$f":"'Ti1'!A21","v":0},{"$f":"'Ti1'!B21","v":0},{"$f":"'Ti1'!C21","v":0},{"$f":"Erä1!D20+Erä2!D20+Erä3!D20+Erä4!D20+Erä5!D20","v":0},{"$f":"Erä1!E20+Erä2!E20+Erä3!E20+Erä4!E20+Erä5!E20","v":0},{"$f":"Erä1!F20+Erä2!F20+Erä3!F20+Erä4!F20+Erä5!F20","v":0},{"$f":"Erä1!G20+Erä2!G20+Erä3!G20+Erä4!G20+Erä5!G20","v":0},{"$error":"#DIV/0!"},{"$error":"#DIV/0!"},{"$f":"(Erä1!J20)+(Erä2!J20)+(Erä3!J20)+(Erä4!J20)+(Erä5!J20)","v":0},{"$f":"(Erä1!K20)+(Erä2!K20)+(Erä3!K20)+(Erä4!K20)+(Erä5!K20)","v":0},{"$f":"(Erä1!L20)+(Erä2!L20)+(Erä3!L20)+(Erä4!L20)+(Erä5!L20)","v":0},{"$f":"(Erä1!M20)+(Erä2!M20)+(Erä3!M20)+(Erä4!M20)+(Erä5!M20)","v":0},{"$error":"#DIV/0!"},{"$error":"#DIV/0!"},{"$f":"(Erä1!P20)+(Erä2!P20)+(Erä3!P20)+(Erä4!P20)+(Erä5!P20)","v":0},{"$f":"(Erä1!Q20)+(Erä2!Q20)+(Erä3!Q20)+(Erä4!Q20)+(Erä5!Q20)","v":0},{"$f":"(Erä1!R20)+(Erä2!R20)+(Erä3!R20)+(Erä4!R20)+(Erä5!R20)","v":0},{"$f":"(Erä1!S20)+(Erä2!S20)+(Erä3!S20)+(Erä4!S20)+(Erä5!S20)","v":0},{"$error":"#DIV/0!"},{"$error":"#DIV/0!"},{"$f":"Erä1!V20+Erä2!V20+Erä3!V20+Erä4!V20+Erä5!V20","v":0},{"$f":"Erä1!W20+Erä2!W20+Erä3!W20+Erä4!W20+Erä5!W20","v":0},{"$f":"Erä1!X20+Erä2!X20+Erä3!X20+Erä4!X20+Erä5!X20","v":0},{"$f":"Erä1!Y20+Erä2!Y20+Erä3!Y20+Erä4!Y20+Erä5!Y20","v":0},{"$error":"#DIV/0!"},{"$error":"#DIV/0!"},{"$f":"Erä1!AB20+Erä2!AB20+Erä3!AB20+Erä4!AB20+Erä5!AB20","v":0},{"$f":"Erä1!AC20+Erä2!AC20+Erä3!AC20+Erä4!AC20+Erä5!AC20","v":0},{"$f":"Erä1!AE20+Erä2!AE20+Erä3!AE20+Erä4!AE20+Erä5!AE20","v":0},{"$f":"Erä1!AG20+Erä2!AG20+Erä3!AG20+Erä4!AG20+Erä5!AG20","v":0}]
[null,"Joukkue","Yhteen",{"$f":"SUM(D7:D20)","v":0},{"$f":"SUM(E7:E20)","v":0},{"$f":"SUM(F7:F20)","v":0},{"$f":"SUM(G7:G20)","v":0},{"$error":"#DIV/0!"},{"$error":"#DIV/0!"},{"$f":"SUM(J7:J20)","v":0},{"$f":"SUM(K7:K20)","v":0},{"$f":"SUM(L7:L20)","v":0},{"$f":"SUM(M7:M20)","v":0},{"$error":"#DIV/0!"},{"$error":"#DIV/0!"},{"$f":"SUM(P7:P20)","v":0},{"$f":"SUM(Q7:Q20)","v":0},{"$f":"SUM(R7:R20)","v":0},{"$f":"SUM(S7:S20)","v":0},{"$error":"#DIV/0!"},{"$error":"#DIV/0!"},{"$f":"SUM(V7:V20)","v":0},{"$f":"SUM(W7:W20)","v":0},{"$f":"SUM(X7:X20)","v":0},{"$f":"SUM(Y7:Y20)","v":0},{"$error":"#DIV/0!"},{"$error":"#DIV/0!"},{"$f":"SUM(AB7:AB20)","v":0},{"$f":"SUM(AC7:AC20)","v":0},{"$f":"SUM(AD7:AD20)","v":0},{"$f":"SUM(AE7:AE20)","v":0}]
[]
[]
[]
[]
[null,"Joukkue","Yhteen",{"$f":"SUM(D28:D41)","v":0},0,0,0,0,0,0,0,{"$f":"SUM(L28:L41)","v":0},{"$f":"SUM(M28:M41)","v":0},null,{"$f":"SUM(J21:M21)","v":0},"VO-hyökkäystä joista…",null,null,null,null,{"$f":"SUM(P21:S21)","v":0},"Jatko-hyökkäystä joista…",null,null,null,null,"Vastaanoton jakautuminen"]
["Nro","Sukunimi","Etunimi","V","H","S","T","Hä","VO","H","Al","Tv","PM",null,{"$f":"(SUM(J14:M16)/O26)*100","v":{"$error":"#DIV/0!"}},"%:ia ykköshyök.",null,null,{"$f":"(SUM(J14:J16)/SUM(J14:M16)*100)","v":{"$error":"#DIV/0!"}},null,{"$f":"(SUM(P14:S16)/U26)*100","v":{"$error":"#DIV/0!"}},"%:ia ykköshyök.",null,null,{"$f":"(SUM(P14:P16)/SUM(P14:S16)*100)","v":{"$error":"#DIV/0!"}},null,{"$f":"(E7+F7+G7+D7)/(E21+F21+G21+D21)*100","v":{"$error":"#DIV/0!"}},"%:ia liberolle",null,"+",{"$f":"AVERAGE(H7)","v":{"$error":"#DIV/0!"}}]
[{"$f":"'Ti1'!A8","v":1},{"$f":"'Ti1'!B8","v":"libero"},{"$f":"'Ti1'!C8","v":0},{"$f":"J7+V7+AB7+P7","v":0},{"$f":"J7+P7","v":0},{"$f":"V7","v":0},{"$f":"AB7","v":0},{"$f":"G7+M7+Y7+S7+L7+R7+AE7","v":0},{"$f":"G7","v":0},{"$f":"M7+S7+L7+R7","v":0},{"$f":"Y7","v":0},{"$f":"AE7","v":0},{"$f":"D28-H28","v":0},null,{"$f":"(SUM(J12:M13)/O26)*100","v":{"$error":"#DIV/0!"}},"%:ia hakkurille",null,null,{"$f":"(SUM(J12:J13)/SUM(J12:M13)*100)","v":{"$error":"#DIV/0!"}},null,{"$f":"(SUM(P12:S13)/U26)*100","v":{"$error":"#DIV/0!"}},"%:ia hakkurille",null,null,{"$f":"(SUM(P12:P13)/SUM(P12:S13)*100)","v":{"$error":"#DIV/0!"}},null,{"$f":"100-AA27","v":{"$error":"#DIV/0!"}},"%:ia muille",null,"+",{"$f":"(SUM(D8:E18)/SUM(D8:G18))*100","v":{"$error":"#DIV/0!"}}]
[{"$f":"'Ti1'!A9","v":2},{"$f":"'Ti1'!B9","v":"yp"},{"$f":"'Ti1'!C9","v":0},{"$f":"J8+V8+AB8+P8","v":0},{"$f":"J8+P8","v":0},{"$f":"V8","v":0},{"$f":"AB8","v":0},{"$f":"G8+M8+Y8+S8+L8+R8+AE8","v":0},{"$f":"G8","v":0},{"$f":"M8+S8+L8+R8","v":0},{"$f":"Y8","v":0},{"$f":"AE8","v":0},{"$f":"D29-H29","v":0},null,{"$f":"(SUM(J8:M11)/O26)*100","v":{"$error":"#DIV/0!"}},"%:ia laitureille",null,null,{"$f":"(SUM(J8:J11)/SUM(J8:M11)*100)","v":{"$error":"#DIV/0!"}},null,{"$f":"(SUM(P8:S11)/U26)*100","v":{"$error":"#DIV/0!"}},"%:ia laitureille",null,null,{"$f":"(SUM(P8:P11)/SUM(P8:S11)*100)","v":{"$error":"#DIV/0!"}}]
[{"$f":"'Ti1'!A10","v":3},{"$f":"'Ti1'!B10","v":"yp"},{"$f":"'Ti1'!C10","v":0},0,0,0,0,0,0,{"$f":"M9+S9+L9+R9","v":0},0,0,0,null,{"$f":"(SUM(J17:M18)/O26)*100","v":{"$error":"#DIV/0!"}},"%:ia passari",null,null,{"$f":"(SUM(J17:J18)/SUM(J17:M18)*100)","v":{"$error":"#DIV/0!"}},null,{"$f":"(SUM(P17:S18)/U26)*100","v":{"$error":"#DIV/0!"}},"%:ia passari",null,null,{"$f":"(SUM(P17:P18)/SUM(P17:S18)*100)","v":{"$error":"#DIV/0!"}},null,{"$f":"L21+R21","v":0},"Vastustajan torjunta"]
[{"$f":"'Ti1'!A11","v":4},{"$f":"'Ti1'!B11","v":"yp"},{"$f":"'Ti1'!C11","v":0},0,0,0,0,0,0,0,0,0,0]
[{"$f":"'Ti1'!A12","v":5},{"$f":"'Ti1'!B12","v":"yp"},{"$f":"'Ti1'!C12","v":0},0,0,0,0,0,0,0,0,0,0,null,"VIRHESUMMA",null,null,null,null,null,null,null,null,"SUORITUSTEN MUUTOS ERITTÄIN P-TEHONA"]
[{"$f":"'Ti1'!A13","v":6},{"$f":"'Ti1'!B13","v":"h"},{"$f":"'Ti1'!C13","v":0},0,0,0,0,0,0,0,0,0,0,null,null,"erä:",1,2,3,4,5,"yht.",null,null,"erä:",1,2,3,4,5]
[{"$f":"'Ti1'!A14","v":7},{"$f":"'Ti1'!B14","v":"h"},{"$f":"'Ti1'!C14","v":0},0,0,0,0,0,0,0,0,0,0,null,null,"omat virheet:",{"$f":"Erä1!O33","v":0},{"$f":"Erä2!O33","v":0},{"$f":"Erä3!O33","v":0},{"$f":"Erä4!O33","v":0},{"$f":"Erä5!O33","v":0},{"$f":"SUM(Q34:U34)","v":0}]
[{"$f":"'Ti1'!A15","v":8},{"$f":"'Ti1'!B15","v":"kt"},{"$f":"'Ti1'!C15","v":0},0,0,0,0,0,0,0,0,0,0,null,null,"Vastustaja:",null,null,null,null,null,null,null,"Vastaanotto",null,{"$f":"Erä1!H21","v":{"$error":"#DIV/0!"}},{"$f":"Erä2!H21","v":{"$error":"#DIV/0!"}},{"$f":"Erä3!H21","v":{"$error":"#DIV/0!"}},{"$f":"Erä4!H21","v":{"$error":"#DIV/0!"}},{"$f":"Erä5!H21","v":{"$error":"#DIV/0!"}}]
[{"$f":"'Ti1'!A16","v":9},{"$f":"'Ti1'!B16","v":"kt"},{"$f":"'Ti1'!C16","v":0},0,0,0,0,0,0,0,0,0,0,null,null,"syöttövirh.",{"$f":"Erä1!O35","v":0},{"$f":"Erä2!O35","v":0},{"$f":"Erä3!O35","v":0},{"$f":"Erä4!O35","v":0},{"$f":"Erä5!O35","v":0},{"$f":"SUM(Q36:U36)","v":0},null,"VO-Hyökk",null,{"$f":"Erä1!N21","v":{"$error":"#DIV/0!"}},{"$f":"Erä2!N21","v":{"$error":"#DIV/0!"}},{"$f":"Erä3!N21","v":{"$error":"#DIV/0!"}},{"$f":"Erä4!N21","v":{"$error":"#DIV/0!"}},{"$f":"Erä5!N21","v":{"$error":"#DIV/0!"}}]
[{"$f":"'Ti1'!A17","v":10},{"$f":"'Ti1'!B17","v":"kt"},{"$f":"'Ti1'!C17","v":0},0,0,0,0,0,0,0,0,0,0,null,null,"hyökk.virh.",{"$f":"Erä1!O36","v":0},{"$f":"Erä2!O36","v":0},{"$f":"Erä3!O36","v":0},{"$f":"Erä4!O36","v":0},{"$f":"Erä5!O36","v":0},{"$f":"SUM(Q37:U37)","v":0},null,"Jatkohyökk",null,{"$f":"Erä1!T21","v":{"$error":"#DIV/0!"}},{"$f":"Erä2!T21","v":{"$error":"#DIV/0!"}},{"$f":"Erä3!T21","v":{"$error":"#DIV/0!"}},{"$f":"Erä4!T21","v":{"$error":"#DIV/0!"}},{"$f":"Erä5!T21","v":{"$error":"#DIV/0!"}}]
[{"$f":"'Ti1'!A18","v":11},{"$f":"'Ti1'!B18","v":"p"},{"$f":"'Ti1'!C18","v":0},0,0,0,0,0,0,0,0,0,0,null,null,"tekn.virh.",{"$f":"Erä1!O37","v":0},{"$f":"Erä2!O37","v":0},{"$f":"Erä3!O37","v":0},{"$f":"Erä4!O37","v":0},{"$f":"Erä5!O37","v":0},{"$f":"SUM(Q38:U38)","v":0}]
[{"$f":"'Ti1'!A19","v":12},{"$f":"'Ti1'!B19","v":"p"},{"$f":"'Ti1'!C19","v":0},0,0,0,0,0,0,0,0,0,0,null,"omat torjun.",null,{"$f":"Erä1!AB21","v":0},{"$f":"Erä2!AB21","v":0},{"$f":"Erä3!AB21","v":0},{"$f":"Erä4!AB21","v":0},{"$f":"Erä5!AB21","v":0},{"$f":"SUM(Q39:U39)","v":0},null,"Aloitus",null,{"$f":"Erä1!Z21","v":{"$error":"#DIV/0!"}},{"$f":"Erä2!Z21","v":{"$error":"#DIV/0!"}},{"$f":"Erä3!Z21","v":{"$error":"#DIV/0!"}},{"$f":"Erä4!Z21","v":{"$error":"#DIV/0!"}},{"$f":"Erä5!Z21","v":{"$error":"#DIV/0!"}}]
[{"$f":"'Ti1'!A20","v":0},{"$f":"'Ti1'!B20","v":0},{"$f":"'Ti1'!C20","v":0},0,0,0,0,0,0,0,0,0,0,null,"omat ässät",null,{"$f":"Erä1!V21","v":0},{"$f":"Erä2!V21","v":0},{"$f":"Erä3!V21","v":0},{"$f":"Erä4!V21","v":0},{"$f":"Erä5!V21","v":0},{"$f":"SUM(Q40:U40)","v":0},null,"Torjunta",null,{"$f":"Erä1!AB21","v":0},{"$f":"Erä2!AB21","v":0},{"$f":"Erä3!AB21","v":0},{"$f":"Erä4!AB21","v":0},{"$f":"Erä5!AB21","v":0}]
[{"$f":"'Ti1'!A21","v":0},{"$f":"'Ti1'!B21","v":0},{"$f":"'Ti1'!C21","v":0},0,0,0,0,0,0,0,0,0,0,null,null,"yht.",{"$f":"SUM(Q36:Q40)","v":0},0,0,0,0,0,null,"Puolustus",null,{"$f":"Erä1!AE21","v":0},{"$f":"Erä2!AE21","v":0},{"$f":"Erä3!AE21","v":0},{"$f":"Erä4!AE21","v":0},{"$f":"Erä5!AE21","v":0}]
[null,null,null,null,null,null,null,null,null,null,null,null,null,null,null,"netto",{"$f":"Q41-Q34","v":0},0,0,0,0,0]
[null,null,"HUOM!","Plus-miinus taulukkoon laskettu myös tekniset virheet, jotka",null,null,null,null,null,null,null,null,null,null,"Hyök.virhe=suora virhe"]
[null,null,null,"eivät kuulu liiton vastaavaan taulukkoon!",null,null,null,null,null,null,null,null,null,null,"Vast.virhe=omat ässäsyötöt"]

{"sheet":"pel-erot","index":12,"n_rows":112,"n_cols":34,"rows_kept":112,"cut":false,"hidden":false,"merged":[]}
["Pvm",{"$f":"'Ti1'!B4","v":0},"Joukkueet","Erät","Pisteet",null,null,null,null,"Yht.",null,null,null,null,null,null,"VIRHEET",null,null,null,null,null,"erä:",1,2,3,4,5,"yht"]
[null,null,{"$f":"'Ti1'!B2","v":"Omajoukkue"},{"$f":"Erä1!C2+Erä2!C2+Erä3!C2+Erä4!C2+Erä5!C2","v":0},{"$f":"Erä1!D2","v":0},{"$f":"Erä2!D2","v":0},{"$f":"Erä3!D2","v":0},{"$f":"Erä4!D2","v":0},{"$f":"Erä5!D2","v":0},{"$f":"SUM(E2:I2)","v":0},null,null,null,null,null,null,"Vastustajan antamat pisteet:",null,null,null,null,null,null,{"$f":"omayhte!Q41","v":0},{"$f":"omayhte!R41","v":0},{"$f":"omayhte!S41","v":0},{"$f":"omayhte!T41","v":0},{"$f":"omayhte!U41","v":0},{"$f":"SUM(X2:AB2)","v":0}]
[null,null,{"$f":"'Ti1'!B3","v":"Vierasjoukkue"},{"$f":"Erä1!C3+Erä2!C3+Erä3!C3+Erä4!C3+Erä5!C3","v":0},{"$f":"Erä1!D3","v":0},{"$f":"Erä2!D3","v":0},{"$f":"Erä3!D3","v":0},{"$f":"Erä4!D3","v":0},{"$f":"Erä5!D3","v":0},{"$f":"SUM(E3:I3)","v":0},null,null,null,null,null,null,"Omat virheet:",null,null,null,null,null,null,{"$f":"omayhte!Q34","v":0},{"$f":"omayhte!R34","v":0},{"$f":"omayhte!S34","v":0},{"$f":"omayhte!T34","v":0},{"$f":"omayhte!U34","v":0},{"$f":"SUM(X3:AB3)","v":0}]
[null,null,null,null,null,null,null,null,null,null,null,null,null,null,null,null,null,null,null,null,null,null,"Netto",{"$f":"X2-X3","v":0},0,0,0,0,0]
["Eräkohtainen jako pelaajittain"]
[]
[null,null,null,null,"Vast.otto",null,null,null,null,null,"VO-hyökkäys",null,null,null,null,null,"Jatko-hyökkäys",null,null,null,null,null,"Aloitus",null,null,null,null,null,"Torjunta",null,null,"Puol","Tv","+/-"]
["Erä","Nro","Sukunimi","Etunimi",1,2,3,4,"P","M",1,2,"To",3,"P","M",1,2,"To",3,"P","M",1,2,3,4,"P","M",1,2,null,1,1]
["I",{"$f":"'Ti1'!A8","v":1},{"$f":"'Ti1'!B8","v":"libero"},{"$f":"'Ti1'!C8","v":0},{"$f":"Erä1!D7","v":0},{"$f":"Erä1!E7","v":0},{"$f":"Erä1!F7","v":0},{"$f":"Erä1!G7","v":0},{"$f":"Erä1!H7","v":{"$error":"#DIV/0!"}},{"$f":"Erä1!I7","v":{"$error":"#DIV/0!"}},{"$f":"Erä1!J7","v":0},{"$f":"Erä1!K7","v":0},{"$f":"Erä1!L7","v":0},{"$f":"Erä1!M7","v":0},{"$f":"Erä1!N7","v":{"$error":"#DIV/0!"}},{"$f":"Erä1!O7","v":{"$error":"#DIV/0!"}},{"$f":"Erä1!P7","v":0},{"$f":"Erä1!Q7","v":0},{"$f":"Erä1!R7","v":0},{"$f":"Erä1!S7","v":0},{"$f":"Erä1!T7","v":{"$error":"#DIV/0!"}},{"$f":"Erä1!U7","v":{"$error":"#DIV/0!"}},{"$f":"Erä1!V7","v":0},{"$f":"Erä1!W7","v":0},{"$f":"Erä1!X7","v":0},{"$f":"Erä1!Y7","v":0},{"$f":"Erä1!Z7","v":{"$error":"#DIV/0!"}},{"$f":"Erä1!AA7","v":{"$error":"#DIV/0!"}},{"$f":"Erä1!AB7","v":0},{"$f":"Erä1!AC7","v":0},null,{"$f":"Erä1!AE7","v":0},{"$f":"Erä1!AG7","v":0},{"$f":"(K9+Q9+W9+AC9)-(H9+M9+N9+S9+T9+Z9+AG9)","v":0}]
["II",null,null,null,{"$f":"Erä2!D7","v":0},{"$f":"Erä2!E7","v":0},{"$f":"Erä2!F7","v":0},{"$f":"Erä2!G7","v":0},{"$f":"Erä2!H7","v":{"$error":"#DIV/0!"}},{"$f":"Erä2!I7","v":{"$error":"#DIV/0!"}},{"$f":"Erä2!J7","v":0},{"$f":"Erä2!K7","v":0},{"$f":"Erä2!L7","v":0},{"$f":"Erä2!M7","v":0},{"$f":"Erä2!N7","v":{"$error":"#DIV/0!"}},{"$f":"Erä2!O7","v":{"$error":"#DIV/0!"}},{"$f":"Erä2!P7","v":0},{"$f":"Erä2!Q7","v":0},{"$f":"Erä2!R7","v":0},{"$f":"Erä2!S7","v":0},{"$f":"Erä2!T7","v":{"$error":"#DIV/0!"}},{"$f":"Erä2!U7","v":{"$error":"#DIV/0!"}},{"$f":"Erä2!V7","v":0},{"$f":"Erä2!W7","v":0},{"$f":"Erä2!X7","v":0},{"$f":"Erä2!Y7","v":0},{"$f":"Erä2!Z7","v":{"$error":"#DIV/0!"}},{"$f":"Erä2!AA7","v":{"$error":"#DIV/0!"}},{"$f":"Erä2!AB7","v":0},{"$f":"Erä2!AC7","v":0},null,{"$f":"Erä2!AE7","v":0},{"$f":"Erä2!AG7","v":0},{"$f":"(K10+Q10+W10+AC10)-(H10+M10+N10+S10+T10+Z10+AG10)","v":0}]
["III",null,null,null,{"$f":"Erä3!D7","v":0},{"$f":"Erä3!E7","v":0},{"$f":"Erä3!F7","v":0},{"$f":"Erä3!G7","v":0},{"$f":"Erä3!H7","v":{"$error":"#DIV/0!"}},{"$f":"Erä3!I7","v":{"$error":"#DIV/0!"}},{"$f":"Erä3!J7","v":0},{"$f":"Erä3!K7","v":0},{"$f":"Erä3!L7","v":0},{"$f":"Erä3!M7","v":0},{"$f":"Erä3!N7","v":{"$error":"#DIV/0!"}},{"$f":"Erä3!O7","v":{"$error":"#DIV/0!"}},{"$f":"Erä3!P7","v":0},{"$f":"Erä3!Q7","v":0},{"$f":"Erä3!R7","v":0},{"$f":"Erä3!S7","v":0},{"$f":"Erä3!T7","v":{"$error":"#DIV/0!"}},{"$f":"Erä3!U7","v":{"$error":"#DIV/0!"}},{"$f":"Erä3!V7","v":0},{"$f":"Erä3!W7","v":0},{"$f":"Erä3!X7","v":0},{"$f":"Erä3!Y7","v":0},{"$f":"Erä3!Z7","v":{"$error":"#DIV/0!"}},{"$f":"Erä3!AA7","v":{"$error":"#DIV/0!"}},{"$f":"Erä3!AB7","v":0},{"$f":"Erä3!AC7","v":0},{"$f":"Erä3!AD7","v":0},{"$f":"Erä3!AE7","v":0},{"$f":"Erä3!AF7","v":0},{"$f":"(K11+Q11+W11+AC11)-(H11+M11+N11+S11+T11+Z11+AG11)","v":0}]
["IV",null,null,null,{"$f":"Erä4!D7","v":0},{"$f":"Erä4!E7","v":0},{"$f":"Erä4!F7","v":0},{"$f":"Erä4!G7","v":0},{"$f":"Erä4!H7","v":{"$error":"#DIV/0!"}},{"$f":"Erä4!I7","v":{"$error":"#DIV/0!"}},{"$f":"Erä4!J7","v":0},{"$f":"Erä4!K7","v":0},{"$f":"Erä4!L7","v":0},{"$f":"Erä4!M7","v":0},{"$f":"Erä4!N7","v":{"$error":"#DIV/0!"}},{"$f":"Erä4!O7","v":{"$error":"#DIV/0!"}},{"$f":"Erä4!P7","v":0},{"$f":"Erä4!Q7","v":0},{"$f":"Erä4!R7","v":0},{"$f":"Erä4!S7","v":0},{"$f":"Erä4!T7","v":{"$error":"#DIV/0!"}},{"$f":"Erä4!U7","v":{"$error":"#DIV/0!"}},{"$f":"Erä4!V7","v":0},{"$f":"Erä4!W7","v":0},{"$f":"Erä4!X7","v":0},{"$f":"Erä4!Y7","v":0},{"$f":"Erä4!Z7","v":{"$error":"#DIV/0!"}},{"$f":"Erä4!AA7","v":{"$error":"#DIV/0!"}},{"$f":"Erä4!AB7","v":0},{"$f":"Erä4!AC7","v":0},{"$f":"Erä4!AD7","v":0},{"$f":"Erä4!AE7","v":0},{"$f":"Erä4!AF7","v":0},{"$f":"(K12+Q12+W12+AC12)-(H12+M12+N12+S12+T12+Z12+AG12)","v":0}]
["V",null,null,null,{"$f":"Erä5!D7","v":0},{"$f":"Erä5!E7","v":0},{"$f":"Erä5!F7","v":0},{"$f":"Erä5!G7","v":0},{"$f":"Erä5!H7","v":{"$error":"#DIV/0!"}},{"$f":"Erä5!I7","v":{"$error":"#DIV/0!"}},{"$f":"Erä5!J7","v":0},{"$f":"Erä5!K7","v":0},{"$f":"Erä5!L7","v":0},{"$f":"Erä5!M7","v":0},{"$f":"Erä5!N7","v":{"$error":"#DIV/0!"}},{"$f":"Erä5!O7","v":{"$error":"#DIV/0!"}},{"$f":"Erä5!P7","v":0},{"$f":"Erä5!Q7","v":0},{"$f":"Erä5!R7","v":0},{"$f":"Erä5!S7","v":0},{"$f":"Erä5!T7","v":{"$error":"#DIV/0!"}},{"$f":"Erä5!U7","v":{"$error":"#DIV/0!"}},{"$f":"Erä5!V7","v":0},{"$f":"Erä5!W7","v":0},{"$f":"Erä5!X7","v":0},{"$f":"Erä5!Y7","v":0},{"$f":"Erä5!Z7","v":{"$error":"#DIV/0!"}},{"$f":"Erä5!AA7","v":{"$error":"#DIV/0!"}},{"$f":"Erä5!AB7","v":0},{"$f":"Erä5!AC7","v":0},null,{"$f":"Erä5!AE7","v":0},{"$f":"Erä5!AG7","v":0},{"$f":"(K13+Q13+W13+AC13)-(H13+M13+N13+S13+T13+Z13+AG13)","v":0}]
[null,null,null,"Yhteen",{"$f":"SUM(E9:E13)","v":0},{"$f":"SUM(F9:F13)","v":0},{"$f":"SUM(G9:G13)","v":0},{"$f":"SUM(H9:H13)","v":0},{"$f":"(E14+F14)/(E14+F14+G14+H14)*100","v":{"$error":"#DIV/0!"}},{"$f":"H14/(E14+F14+G14+H14)*100","v":{"$error":"#DIV/0!"}},{"$f":"SUM(K9:K13)","v":0},{"$f":"SUM(L9:L13)","v":0},{"$f":"SUM(M9:M13)","v":0},{"$f":"SUM(N9:N13)","v":0},{"$f":"K14/(K14+L14+N14)*100","v":{"$error":"#DIV/0!"}},{"$f":"N14/(K14+L14+N14)*100","v":{"$error":"#DIV/0!"}},{"$f":"SUM(Q9:Q13)","v":0},{"$f":"SUM(R9:R13)","v":0},{"$f":"SUM(S9:S13)","v":0},{"$f":"SUM(T9:T13)","v":0},{"$f":"Q14/(Q14+R14+T14)*100","v":{"$error":"#DIV/0!"}},{"$f":"T14/(Q14+R14+T14)*100","v":{"$error":"#DIV/0!"}},{"$f":"SUM(W9:W13)","v":0},{"$f":"SUM(X9:X13)","v":0},{"$f":"SUM(Y9:Y13)","v":0},{"$f":"SUM(Z9:Z13)","v":0},{"$f":"(W14+X14)/(W14+X14+Y14+Z14)*100","v":{"$error":"#DIV/0!"}},{"$f":"Z14/(W14+X14+Y14+Z14)*100","v":{"$error":"#DIV/0!"}},{"$f":"SUM(AC9:AC13)","v":0},{"$f":"SUM(AD9:AD13)","v":0},null,{"$f":"SUM(AF9:AF13)","v":0},{"$f":"SUM(AG9:AG13)","v":0},{"$f":"SUM(AH9:AH13)","v":0}]
[]
["I",{"$f":"'Ti1'!A9","v":2},{"$f":"'Ti1'!B9","v":"yp"},{"$f":"'Ti1'!C9","v":0},{"$f":"Erä1!D8","v":0},{"$f":"Erä1!E8","v":0},{"$f":"Erä1!F8","v":0},{"$f":"Erä1!G8","v":0},{"$f":"Erä1!H8","v":{"$error":"#DIV/0!"}},{"$f":"Erä1!I8","v":{"$error":"#DIV/0!"}},{"$f":"Erä1!J8","v":0},{"$f":"Erä1!K8","v":0},{"$f":"Erä1!L8","v":0},{"$f":"Erä1!M8","v":0},{"$f":"Erä1!N8","v":{"$error":"#DIV/0!"}},{"$f":"Erä1!O8","v":{"$error":"#DIV/0!"}},{"$f":"Erä1!P8","v":0},{"$f":"Erä1!Q8","v":0},{"$f":"Erä1!R8","v":0},{"$f":"Erä1!S8","v":0},{"$f":"Erä1!T8","v":{"$error":"#DIV/0!"}},{"$f":"Erä1!U8","v":{"$error":"#DIV/0!"}},{"$f":"Erä1!V8","v":0},{"$f":"Erä1!W8","v":0},{"$f":"Erä1!X8","v":0},{"$f":"Erä1!Y8","v":0},{"$f":"Erä1!Z8","v":{"$error":"#DIV/0!"}},{"$f":"Erä1!AA8","v":{"$error":"#DIV/0!"}},{"$f":"Erä1!AB8","v":0},{"$f":"Erä1!AC8","v":0},null,{"$f":"Erä1!AE8","v":0},{"$f":"Erä1!AG8","v":0},{"$f":"(K16+Q16+W16+AC16)-(H16+M16+N16+S16+T16+Z16+AG16)","v":0}]
["II",null,null,null,{"$f":"Erä2!D8","v":0},{"$f":"Erä2!E8","v":0},{"$f":"Erä2!F8","v":0},{"$f":"Erä2!G8","v":0},{"$f":"Erä2!H8","v":{"$error":"#DIV/0!"}},{"$f":"Erä2!I8","v":{"$error":"#DIV/0!"}},{"$f":"Erä2!J8","v":0},{"$f":"Erä2!K8","v":0},{"$f":"Erä2!L8","v":0},{"$f":"Erä2!M8","v":0},{"$f":"Erä2!N8","v":{"$error":"#DIV/0!"}},{"$f":"Erä2!O8","v":{"$error":"#DIV/0!"}},{"$f":"Erä2!P8","v":0},{"$f":"Erä2!Q8","v":0},{"$f":"Erä2!R8","v":0},{"$f":"Erä2!S8","v":0},{"$f":"Erä2!T8","v":{"$error":"#DIV/0!"}},{"$f":"Erä2!U8","v":{"$error":"#DIV/0!"}},{"$f":"Erä2!V8","v":0},{"$f":"Erä2!W8","v":0},{"$f":"Erä2!X8","v":0},{"$f":"Erä2!Y8","v":0},{"$f":"Erä2!Z8","v":{"$error":"#DIV/0!"}},{"$f":"Erä2!AA8","v":{"$error":"#DIV/0!"}},{"$f":"Erä2!AB8","v":0},{"$f":"Erä2!AC8","v":0},null,{"$f":"Erä2!AE8","v":0},{"$f":"Erä2!AG8","v":0},{"$f":"(K17+Q17+W17+AC17)-(H17+M17+N17+S17+T17+Z17+AG17)","v":0}]
["III",null,null,null,{"$f":"Erä3!D8","v":0},{"$f":"Erä3!E8","v":0},{"$f":"Erä3!F8","v":0},{"$f":"Erä3!G8","v":0},{"$f":"Erä3!H8","v":{"$error":"#DIV/0!"}},{"$f":"Erä3!I8","v":{"$error":"#DIV/0!"}},{"$f":"Erä3!J8","v":0},{"$f":"Erä3!K8","v":0},{"$f":"Erä3!L8","v":0},{"$f":"Erä3!M8","v":0},{"$f":"Erä3!N8","v":{"$error":"#DIV/0!"}},{"$f":"Erä3!O8","v":{"$error":"#DIV/0!"}},{"$f":"Erä3!P8","v":0},{"$f":"Erä3!Q8","v":0},{"$f":"Erä3!R8","v":0},{"$f":"Erä3!S8","v":0},{"$f":"Erä3!T8","v":{"$error":"#DIV/0!"}},{"$f":"Erä3!U8","v":{"$error":"#DIV/0!"}},{"$f":"Erä3!V8","v":0},{"$f":"Erä3!W8","v":0},{"$f":"Erä3!X8","v":0},{"$f":"Erä3!Y8","v":0},{"$f":"Erä3!Z8","v":{"$error":"#DIV/0!"}},{"$f":"Erä3!AA8","v":{"$error":"#DIV/0!"}},{"$f":"Erä3!AB8","v":0},{"$f":"Erä3!AC8","v":0},null,{"$f":"Erä3!AE8","v":0},{"$f":"Erä3!AG8","v":0},{"$f":"(K18+Q18+W18+AC18)-(H18+M18+N18+S18+T18+Z18+AG18)","v":0}]
["IV",null,null,null,{"$f":"Erä4!D8","v":0},{"$f":"Erä4!E8","v":0},{"$f":"Erä4!F8","v":0},{"$f":"Erä4!G8","v":0},{"$f":"Erä4!H8","v":{"$error":"#DIV/0!"}},{"$f":"Erä4!I8","v":{"$error":"#DIV/0!"}},{"$f":"Erä4!J8","v":0},{"$f":"Erä4!K8","v":0},{"$f":"Erä4!L8","v":0},{"$f":"Erä4!M8","v":0},{"$f":"Erä4!N8","v":{"$error":"#DIV/0!"}},{"$f":"Erä4!O8","v":{"$error":"#DIV/0!"}},{"$f":"Erä4!P8","v":0},{"$f":"Erä4!Q8","v":0},{"$f":"Erä4!R8","v":0},{"$f":"Erä4!S8","v":0},{"$f":"Erä4!T8","v":{"$error":"#DIV/0!"}},{"$f":"Erä4!U8","v":{"$error":"#DIV/0!"}},{"$f":"Erä4!V8","v":0},{"$f":"Erä4!W8","v":0},{"$f":"Erä4!X8","v":0},{"$f":"Erä4!Y8","v":0},{"$f":"Erä4!Z8","v":{"$error":"#DIV/0!"}},{"$f":"Erä4!AA8","v":{"$error":"#DIV/0!"}},{"$f":"Erä4!AB8","v":0},{"$f":"Erä4!AC8","v":0},null,{"$f":"Erä4!AE8","v":0},{"$f":"Erä4!AG8","v":0},{"$f":"(K19+Q19+W19+AC19)-(H19+M19+N19+S19+T19+Z19+AG19)","v":0}]
["V",null,null,null,{"$f":"Erä5!D8","v":0},{"$f":"Erä5!E8","v":0},{"$f":"Erä5!F8","v":0},{"$f":"Erä5!G8","v":0},{"$f":"Erä5!H8","v":{"$error":"#DIV/0!"}},{"$f":"Erä5!I8","v":{"$error":"#DIV/0!"}},{"$f":"Erä5!J8","v":0},{"$f":"Erä5!K8","v":0},{"$f":"Erä5!L8","v":0},{"$f":"Erä5!M8","v":0},{"$f":"Erä5!N8","v":{"$error":"#DIV/0!"}},{"$f":"Erä5!O8","v":{"$error":"#DIV/0!"}},{"$f":"Erä5!P8","v":0},{"$f":"Erä5!Q8","v":0},{"$f":"Erä5!R8","v":0},{"$f":"Erä5!S8","v":0},{"$f":"Erä5!T8","v":{"$error":"#DIV/0!"}},{"$f":"Erä5!U8","v":{"$error":"#DIV/0!"}},{"$f":"Erä5!V8","v":0},{"$f":"Erä5!W8","v":0},{"$f":"Erä5!X8","v":0},{"$f":"Erä5!Y8","v":0},{"$f":"Erä5!Z8","v":{"$error":"#DIV/0!"}},{"$f":"Erä5!AA8","v":{"$error":"#DIV/0!"}},{"$f":"Erä5!AB8","v":0},{"$f":"Erä5!AC8","v":0},null,{"$f":"Erä5!AE8","v":0},{"$f":"Erä5!AG8","v":0},{"$f":"(K20+Q20+W20+AC20)-(H20+M20+N20+S20+T20+Z20+AG20)","v":0}]
[null,null,null,"Yhteen",{"$f":"SUM(E16:E20)","v":0},{"$f":"SUM(F16:F20)","v":0},{"$f":"SUM(G16:G20)","v":0},{"$f":"SUM(H16:H20)","v":0},{"$f":"(E21+F21)/(E21+F21+G21+H21)*100","v":{"$error":"#DIV/0!"}},{"$f":"H21/(E21+F21+G21+H21)*100","v":{"$error":"#DIV/0!"}},{"$f":"SUM(K16:K20)","v":0},{"$f":"SUM(L16:L20)","v":0},{"$f":"SUM(M16:M20)","v":0},{"$f":"SUM(N16:N20)","v":0},{"$f":"K21/(K21+L21+N21)*100","v":{"$error":"#DIV/0!"}},{"$f":"N21/(K21+L21+N21)*100","v":{"$error":"#DIV/0!"}},{"$f":"SUM(Q16:Q20)","v":0},{"$f":"SUM(R16:R20)","v":0},{"$f":"SUM(S16:S20)","v":0},{"$f":"SUM(T16:T20)","v":0},{"$f":"Q21/(Q21+R21+T21)*100","v":{"$error":"#DIV/0!"}},{"$f":"T21/(Q21+R21+T21)*100","v":{"$error":"#DIV/0!"}},{"$f":"SUM(W16:W20)","v":0},{"$f":"SUM(X16:X20)","v":0},{"$f":"SUM(Y16:Y20)","v":0},{"$f":"SUM(Z16:Z20)","v":0},{"$f":"(W21+X21)/(W21+X21+Y21+Z21)*100","v":{"$error":"#DIV/0!"}},{"$f":"Z21/(W21+X21+Y21+Z21)*100","v":{"$error":"#DIV/0!"}},{"$f":"SUM(AC16:AC20)","v":0},{"$f":"SUM(AD16:AD20)","v":0},null,{"$f":"SUM(AF16:AF20)","v":0},{"$f":"SUM(AG16:AG20)","v":0},{"$f":"SUM(AH16:AH20)","v":0}]
[]
["I",{"$f":"'Ti1'!A10","v":3},{"$f":"'Ti1'!B10","v":"yp"},{"$f":"'Ti1'!C10","v":0},{"$f":"Erä1!D9","v":0},{"$f":"Erä1!E9","v":0},{"$f":"Erä1!F9","v":0},{"$f":"Erä1!G9","v":0},{"$f":"Erä1!H9","v":{"$error":"#DIV/0!"}},{"$f":"Erä1!I9","v":{"$error":"#DIV/0!"}},{"$f":"Erä1!J9","v":0},{"$f":"Erä1!K9","v":0},{"$f":"Erä1!L9","v":0},{"$f":"Erä1!M9","v":0},{"$f":"Erä1!N9","v":{"$error":"#DIV/0!"}},{"$f":"Erä1!O9","v":{"$error":"#DIV/0!"}},{"$f":"Erä1!P9","v":0},{"$f":"Erä1!Q9","v":0},{"$f":"Erä1!R9","v":0},{"$f":"Erä1!S9","v":0},{"$f":"Erä1!T9","v":{"$error":"#DIV/0!"}},{"$f":"Erä1!U9","v":{"$error":"#DIV/0!"}},{"$f":"Erä1!V9","v":0},{"$f":"Erä1!W9","v":0},{"$f":"Erä1!X9","v":0},{"$f":"Erä1!Y9","v":0},{"$f":"Erä1!Z9","v":{"$error":"#DIV/0!"}},{"$f":"Erä1!AA9","v":{"$error":"#DIV/0!"}},{"$f":"Erä1!AB9","v":0},{"$f":"Erä1!AC9","v":0},null,{"$f":"Erä1!AE9","v":0},{"$f":"Erä1!AG9","v":0},{"$f":"(K23+Q23+W23+AC23)-(H23+M23+N23+S23+T23+Z23+AG23)","v":0}]
["II",null,null,null,{"$f":"Erä2!D9","v":0},{"$f":"Erä2!E9","v":0},{"$f":"Erä2!F9","v":0},{"$f":"Erä2!G9","v":0},{"$f":"Erä2!H9","v":{"$error":"#DIV/0!"}},{"$f":"Erä2!I9","v":{"$error":"#DIV/0!"}},{"$f":"Erä2!J9","v":0},{"$f":"Erä2!K9","v":0},{"$f":"Erä2!L9","v":0},{"$f":"Erä2!M9","v":0},{"$f":"Erä2!N9","v":{"$error":"#DIV/0!"}},{"$f":"Erä2!O9","v":{"$error":"#DIV/0!"}},{"$f":"Erä2!P9","v":0},{"$f":"Erä2!Q9","v":0},{"$f":"Erä2!R9","v":0},{"$f":"Erä2!S9","v":0},{"$f":"Erä2!T9","v":{"$error":"#DIV/0!"}},{"$f":"Erä2!U9","v":{"$error":"#DIV/0!"}},{"$f":"Erä2!V9","v":0},{"$f":"Erä2!W9","v":0},{"$f":"Erä2!X9","v":0},{"$f":"Erä2!Y9","v":0},{"$f":"Erä2!Z9","v":{"$error":"#DIV/0!"}},{"$f":"Erä2!AA9","v":{"$error":"#DIV/0!"}},{"$f":"Erä2!AB9","v":0},{"$f":"Erä2!AC9","v":0},null,{"$f":"Erä2!AE9","v":0},{"$f":"Erä2!AG9","v":0},{"$f":"(K24+Q24+W24+AC24)-(H24+M24+N24+S24+T24+Z24+AG24)","v":0}]
["III",null,null,null,{"$f":"Erä3!D9","v":0},{"$f":"Erä3!E9","v":0},{"$f":"Erä3!F9","v":0},{"$f":"Erä3!G9","v":0},{"$f":"Erä3!H9","v":{"$error":"#DIV/0!"}},{"$f":"Erä3!I9","v":{"$error":"#DIV/0!"}},{"$f":"Erä3!J9","v":0},{"$f":"Erä3!K9","v":0},{"$f":"Erä3!L9","v":0},{"$f":"Erä3!M9","v":0},{"$f":"Erä3!N9","v":{"$error":"#DIV/0!"}},{"$f":"Erä3!O9","v":{"$error":"#DIV/0!"}},{"$f":"Erä3!P9","v":0},{"$f":"Erä3!Q9","v":0},{"$f":"Erä3!R9","v":0},{"$f":"Erä3!S9","v":0},{"$f":"Erä3!T9","v":{"$error":"#DIV/0!"}},{"$f":"Erä3!U9","v":{"$error":"#DIV/0!"}},{"$f":"Erä3!V9","v":0},{"$f":"Erä3!W9","v":0},{"$f":"Erä3!X9","v":0},{"$f":"Erä3!Y9","v":0},{"$f":"Erä3!Z9","v":{"$error":"#DIV/0!"}},{"$f":"Erä3!AA9","v":{"$error":"#DIV/0!"}},{"$f":"Erä3!AB9","v":0},{"$f":"Erä3!AC9","v":0},null,{"$f":"Erä3!AE9","v":0},{"$f":"Erä3!AG9","v":0},{"$f":"(K25+Q25+W25+AC25)-(H25+M25+N25+S25+T25+Z25+AG25)","v":0}]
["IV",null,null,null,{"$f":"Erä4!D9","v":0},{"$f":"Erä4!E9","v":0},{"$f":"Erä4!F9","v":0},{"$f":"Erä4!G9","v":0},{"$f":"Erä4!H9","v":{"$error":"#DIV/0!"}},{"$f":"Erä4!I9","v":{"$error":"#DIV/0!"}},{"$f":"Erä4!J9","v":0},{"$f":"Erä4!K9","v":0},{"$f":"Erä4!L9","v":0},{"$f":"Erä4!M9","v":0},{"$f":"Erä4!N9","v":{"$error":"#DIV/0!"}},{"$f":"Erä4!O9","v":{"$error":"#DIV/0!"}},{"$f":"Erä4!P9","v":0},{"$f":"Erä4!Q9","v":0},{"$f":"Erä4!R9","v":0},{"$f":"Erä4!S9","v":0},{"$f":"Erä4!T9","v":{"$error":"#DIV/0!"}},{"$f":"Erä4!U9","v":{"$error":"#DIV/0!"}},{"$f":"Erä4!V9","v":0},{"$f":"Erä4!W9","v":0},{"$f":"Erä4!X9","v":0},{"$f":"Erä4!Y9","v":0},{"$f":"Erä4!Z9","v":{"$error":"#DIV/0!"}},{"$f":"Erä4!AA9","v":{"$error":"#DIV/0!"}},{"$f":"Erä4!AB9","v":0},{"$f":"Erä4!AC9","v":0},null,{"$f":"Erä4!AE9","v":0},{"$f":"Erä4!AG9","v":0},{"$f":"(K26+Q26+W26+AC26)-(H26+M26+N26+S26+T26+Z26+AG26)","v":0}]
["V",null,null,null,{"$f":"Erä5!D9","v":0},{"$f":"Erä5!E9","v":0},{"$f":"Erä5!F9","v":0},{"$f":"Erä5!G9","v":0},{"$f":"Erä5!H9","v":{"$error":"#DIV/0!"}},{"$f":"Erä5!I9","v":{"$error":"#DIV/0!"}},{"$f":"Erä5!J9","v":0},{"$f":"Erä5!K9","v":0},{"$f":"Erä5!L9","v":0},{"$f":"Erä5!M9","v":0},{"$f":"Erä5!N9","v":{"$error":"#DIV/0!"}},{"$f":"Erä5!O9","v":{"$error":"#DIV/0!"}},{"$f":"Erä5!P9","v":0},{"$f":"Erä5!Q9","v":0},{"$f":"Erä5!R9","v":0},{"$f":"Erä5!S9","v":0},{"$f":"Erä5!T9","v":{"$error":"#DIV/0!"}},{"$f":"Erä5!U9","v":{"$error":"#DIV/0!"}},{"$f":"Erä5!V9","v":0},{"$f":"Erä5!W9","v":0},{"$f":"Erä5!X9","v":0},{"$f":"Erä5!Y9","v":0},{"$f":"Erä5!Z9","v":{"$error":"#DIV/0!"}},{"$f":"Erä5!AA9","v":{"$error":"#DIV/0!"}},{"$f":"Erä5!AB9","v":0},{"$f":"Erä5!AC9","v":0},null,{"$f":"Erä5!AE9","v":0},{"$f":"Erä5!AG9","v":0},{"$f":"(K27+Q27+W27+AC27)-(H27+M27+N27+S27+T27+Z27+AG27)","v":0}]
[null,null,null,"Yhteen",{"$f":"SUM(E23:E27)","v":0},{"$f":"SUM(F23:F27)","v":0},{"$f":"SUM(G23:G27)","v":0},{"$f":"SUM(H23:H27)","v":0},{"$f":"(E28+F28)/(E28+F28+G28+H28)*100","v":{"$error":"#DIV/0!"}},{"$f":"H28/(E28+F28+G28+H28)*100","v":{"$error":"#DIV/0!"}},{"$f":"SUM(K23:K27)","v":0},{"$f":"SUM(L23:L27)","v":0},{"$f":"SUM(M23:M27)","v":0},{"$f":"SUM(N23:N27)","v":0},{"$f":"K28/(K28+L28+N28)*100","v":{"$error":"#DIV/0!"}},{"$f":"N28/(K28+L28+N28)*100","v":{"$error":"#DIV/0!"}},{"$f":"SUM(Q23:Q27)","v":0},{"$f":"SUM(R23:R27)","v":0},{"$f":"SUM(S23:S27)","v":0},{"$f":"SUM(T23:T27)","v":0},{"$f":"Q28/(Q28+R28+T28)*100","v":{"$error":"#DIV/0!"}},{"$f":"T28/(Q28+R28+T28)*100","v":{"$error":"#DIV/0!"}},{"$f":"SUM(W23:W27)","v":0},{"$f":"SUM(X23:X27)","v":0},{"$f":"SUM(Y23:Y27)","v":0},{"$f":"SUM(Z23:Z27)","v":0},{"$f":"(W28+X28)/(W28+X28+Y28+Z28)*100","v":{"$error":"#DIV/0!"}},{"$f":"Z28/(W28+X28+Y28+Z28)*100","v":{"$error":"#DIV/0!"}},{"$f":"SUM(AC23:AC27)","v":0},{"$f":"SUM(AD23:AD27)","v":0},null,{"$f":"SUM(AF23:AF27)","v":0},{"$f":"SUM(AG23:AG27)","v":0},{"$f":"SUM(AH23:AH27)","v":0}]
[]
["I",{"$f":"'Ti1'!A11","v":4},{"$f":"'Ti1'!B11","v":"yp"},{"$f":"'Ti1'!C11","v":0},{"$f":"Erä1!D10","v":0},{"$f":"Erä1!E10","v":0},{"$f":"Erä1!F10","v":0},{"$f":"Erä1!G10","v":0},{"$f":"Erä1!H10","v":{"$error":"#DIV/0!"}},{"$f":"Erä1!I10","v":{"$error":"#DIV/0!"}},{"$f":"Erä1!J10","v":0},{"$f":"Erä1!K10","v":0},{"$f":"Erä1!L10","v":0},{"$f":"Erä1!M10","v":0},{"$f":"Erä1!N10","v":{"$error":"#DIV/0!"}},{"$f":"Erä1!O10","v":{"$error":"#DIV/0!"}},{"$f":"Erä1!P10","v":0},{"$f":"Erä1!Q10","v":0},{"$f":"Erä1!R10","v":0},{"$f":"Erä1!S10","v":0},{"$f":"Erä1!T10","v":{"$error":"#DIV/0!"}},{"$f":"Erä1!U10","v":{"$error":"#DIV/0!"}},{"$f":"Erä1!V10","v":0},{"$f":"Erä1!W10","v":0},{"$f":"Erä1!X10","v":0},{"$f":"Erä1!Y10","v":0},{"$f":"Erä1!Z10","v":{"$error":"#DIV/0!"}},{"$f":"Erä1!AA10","v":{"$error":"#DIV/0!"}},{"$f":"Erä1!AB10","v":0},{"$f":"Erä1!AC10","v":0},null,{"$f":"Erä1!AE10","v":0},{"$f":"Erä1!AG10","v":0},{"$f":"(K30+Q30+W30+AC30)-(H30+M30+N30+S30+T30+Z30+AG30)","v":0}]
["II",null,null,null,{"$f":"Erä2!D10","v":0},{"$f":"Erä2!E10","v":0},{"$f":"Erä2!F10","v":0},{"$f":"Erä2!G10","v":0},{"$f":"Erä2!H10","v":{"$error":"#DIV/0!"}},{"$f":"Erä2!I10","v":{"$error":"#DIV/0!"}},{"$f":"Erä2!J10","v":0},{"$f":"Erä2!K10","v":0},{"$f":"Erä2!L10","v":0},{"$f":"Erä2!M10","v":0},{"$f":"Erä2!N10","v":{"$error":"#DIV/0!"}},{"$f":"Erä2!O10","v":{"$error":"#DIV/0!"}},{"$f":"Erä2!P10","v":0},{"$f":"Erä2!Q10","v":0},{"$f":"Erä2!R10","v":0},{"$f":"Erä2!S10","v":0},{"$f":"Erä2!T10","v":{"$error":"#DIV/0!"}},{"$f":"Erä2!U10","v":{"$error":"#DIV/0!"}},{"$f":"Erä2!V10","v":0},{"$f":"Erä2!W10","v":0},{"$f":"Erä2!X10","v":0},{"$f":"Erä2!Y10","v":0},{"$f":"Erä2!Z10","v":{"$error":"#DIV/0!"}},{"$f":"Erä2!AA10","v":{"$error":"#DIV/0!"}},{"$f":"Erä2!AB10","v":0},{"$f":"Erä2!AC10","v":0},null,{"$f":"Erä2!AE10","v":0},{"$f":"Erä2!AG10","v":0},{"$f":"(K31+Q31+W31+AC31)-(H31+M31+N31+S31+T31+Z31+AG31)","v":0}]
["III",null,null,null,{"$f":"Erä3!D10","v":0},{"$f":"Erä3!E10","v":0},{"$f":"Erä3!F10","v":0},{"$f":"Erä3!G10","v":0},{"$f":"Erä3!H10","v":{"$error":"#DIV/0!"}},{"$f":"Erä3!I10","v":{"$error":"#DIV/0!"}},{"$f":"Erä3!J10","v":0},{"$f":"Erä3!K10","v":0},{"$f":"Erä3!L10","v":0},{"$f":"Erä3!M10","v":0},{"$f":"Erä3!N10","v":{"$error":"#DIV/0!"}},{"$f":"Erä3!O10","v":{"$error":"#DIV/0!"}},{"$f":"Erä3!P10","v":0},{"$f":"Erä3!Q10","v":0},{"$f":"Erä3!R10","v":0},{"$f":"Erä3!S10","v":0},{"$f":"Erä3!T10","v":{"$error":"#DIV/0!"}},{"$f":"Erä3!U10","v":{"$error":"#DIV/0!"}},{"$f":"Erä3!V10","v":0},{"$f":"Erä3!W10","v":0},{"$f":"Erä3!X10","v":0},{"$f":"Erä3!Y10","v":0},{"$f":"Erä3!Z10","v":{"$error":"#DIV/0!"}},{"$f":"Erä3!AA10","v":{"$error":"#DIV/0!"}},{"$f":"Erä3!AB10","v":0},{"$f":"Erä3!AC10","v":0},null,{"$f":"Erä3!AE10","v":0},{"$f":"Erä3!AG10","v":0},{"$f":"(K32+Q32+W32+AC32)-(H32+M32+N32+S32+T32+Z32+AG32)","v":0}]
["IV",null,null,null,{"$f":"Erä4!D10","v":0},{"$f":"Erä4!E10","v":0},{"$f":"Erä4!F10","v":0},{"$f":"Erä4!G10","v":0},{"$f":"Erä4!H10","v":{"$error":"#DIV/0!"}},{"$f":"Erä4!I10","v":{"$error":"#DIV/0!"}},{"$f":"Erä4!J10","v":0},{"$f":"Erä4!K10","v":0},{"$f":"Erä4!L10","v":0},{"$f":"Erä4!M10","v":0},{"$f":"Erä4!N10","v":{"$error":"#DIV/0!"}},{"$f":"Erä4!O10","v":{"$error":"#DIV/0!"}},{"$f":"Erä4!P10","v":0},{"$f":"Erä4!Q10","v":0},{"$f":"Erä4!R10","v":0},{"$f":"Erä4!S10","v":0},{"$f":"Erä4!T10","v":{"$error":"#DIV/0!"}},{"$f":"Erä4!U10","v":{"$error":"#DIV/0!"}},{"$f":"Erä4!V10","v":0},{"$f":"Erä4!W10","v":0},{"$f":"Erä4!X10","v":0},{"$f":"Erä4!Y10","v":0},{"$f":"Erä4!Z10","v":{"$error":"#DIV/0!"}},{"$f":"Erä4!AA10","v":{"$error":"#DIV/0!"}},{"$f":"Erä4!AB10","v":0},{"$f":"Erä4!AC10","v":0},{"$f":"Erä4!AD10","v":0},{"$f":"Erä4!AE10","v":0},{"$f":"Erä4!AF10","v":0},{"$f":"(K33+Q33+W33+AC33)-(H33+M33+N33+S33+T33+Z33+AG33)","v":0}]
["V",null,null,null,{"$f":"Erä5!D10","v":0},{"$f":"Erä5!E10","v":0},{"$f":"Erä5!F10","v":0},{"$f":"Erä5!G10","v":0},{"$f":"Erä5!H10","v":{"$error":"#DIV/0!"}},{"$f":"Erä5!I10","v":{"$error":"#DIV/0!"}},{"$f":"Erä5!J10","v":0},{"$f":"Erä5!K10","v":0},{"$f":"Erä5!L10","v":0},{"$f":"Erä5!M10","v":0},{"$f":"Erä5!N10","v":{"$error":"#DIV/0!"}},{"$f":"Erä5!O10","v":{"$error":"#DIV/0!"}},{"$f":"Erä5!P10","v":0},{"$f":"Erä5!Q10","v":0},{"$f":"Erä5!R10","v":0},{"$f":"Erä5!S10","v":0},{"$f":"Erä5!T10","v":{"$error":"#DIV/0!"}},{"$f":"Erä5!U10","v":{"$error":"#DIV/0!"}},{"$f":"Erä5!V10","v":0},{"$f":"Erä5!W10","v":0},{"$f":"Erä5!X10","v":0},{"$f":"Erä5!Y10","v":0},{"$f":"Erä5!Z10","v":{"$error":"#DIV/0!"}},{"$f":"Erä5!AA10","v":{"$error":"#DIV/0!"}},{"$f":"Erä5!AB10","v":0},{"$f":"Erä5!AC10","v":0},null,{"$f":"Erä5!AE10","v":0},{"$f":"Erä5!AG10","v":0},{"$f":"(K34+Q34+W34+AC34)-(H34+M34+N34+S34+T34+Z34+AG34)","v":0}]
[null,null,null,"Yhteen",{"$f":"SUM(E30:E34)","v":0},{"$f":"SUM(F30:F34)","v":0},{"$f":"SUM(G30:G34)","v":0},{"$f":"SUM(H30:H34)","v":0},{"$f":"(E35+F35)/(E35+F35+G35+H35)*100","v":{"$error":"#DIV/0!"}},{"$f":"H35/(E35+F35+G35+H35)*100","v":{"$error":"#DIV/0!"}},{"$f":"SUM(K30:K34)","v":0},{"$f":"SUM(L30:L34)","v":0},{"$f":"SUM(M30:M34)","v":0},{"$f":"SUM(N30:N34)","v":0},{"$f":"K35/(K35+L35+N35)*100","v":{"$error":"#DIV/0!"}},{"$f":"N35/(K35+L35+N35)*100","v":{"$error":"#DIV/0!"}},{"$f":"SUM(Q30:Q34)","v":0},{"$f":"SUM(R30:R34)","v":0},{"$f":"SUM(S30:S34)","v":0},{"$f":"SUM(T30:T34)","v":0},{"$f":"Q35/(Q35+R35+T35)*100","v":{"$error":"#DIV/0!"}},{"$f":"T35/(Q35+R35+T35)*100","v":{"$error":"#DIV/0!"}},{"$f":"SUM(W30:W34)","v":0},{"$f":"SUM(X30:X34)","v":0},{"$f":"SUM(Y30:Y34)","v":0},{"$f":"SUM(Z30:Z34)","v":0},{"$f":"(W35+X35)/(W35+X35+Y35+Z35)*100","v":{"$error":"#DIV/0!"}},{"$f":"Z35/(W35+X35+Y35+Z35)*100","v":{"$error":"#DIV/0!"}},{"$f":"SUM(AC30:AC34)","v":0},{"$f":"SUM(AD30:AD34)","v":0},null,{"$f":"SUM(AF30:AF34)","v":0},{"$f":"SUM(AG30:AG34)","v":0},{"$f":"SUM(AH30:AH34)","v":0}]
[]
["I",{"$f":"'Ti1'!A12","v":5},{"$f":"'Ti1'!B12","v":"yp"},{"$f":"'Ti1'!C12","v":0},{"$f":"Erä1!D11","v":0},{"$f":"Erä1!E11","v":0},{"$f":"Erä1!F11","v":0},{"$f":"Erä1!G11","v":0},{"$f":"Erä1!H11","v":{"$error":"#DIV/0!"}},{"$f":"Erä1!I11","v":{"$error":"#DIV/0!"}},{"$f":"Erä1!J11","v":0},{"$f":"Erä1!K11","v":0},{"$f":"Erä1!L11","v":0},{"$f":"Erä1!M11","v":0},{"$f":"Erä1!N11","v":{"$error":"#DIV/0!"}},{"$f":"Erä1!O11","v":{"$error":"#DIV/0!"}},{"$f":"Erä1!P11","v":0},{"$f":"Erä1!Q11","v":0},{"$f":"Erä1!R11","v":0},{"$f":"Erä1!S11","v":0},{"$f":"Erä1!T11","v":{"$error":"#DIV/0!"}},{"$f":"Erä1!U11","v":{"$error":"#DIV/0!"}},{"$f":"Erä1!V11","v":0},{"$f":"Erä1!W11","v":0},{"$f":"Erä1!X11","v":0},{"$f":"Erä1!Y11","v":0},{"$f":"Erä1!Z11","v":{"$error":"#DIV/0!"}},{"$f":"Erä1!AA11","v":{"$error":"#DIV/0!"}},{"$f":"Erä1!AB11","v":0},{"$f":"Erä1!AC11","v":0},null,{"$f":"Erä1!AE11","v":0},{"$f":"Erä1!AG11","v":0},{"$f":"(K37+Q37+W37+AC37)-(H37+M37+N37+S37+T37+Z37+AG37)","v":0}]
["II",null,null,null,{"$f":"Erä2!D11","v":0},{"$f":"Erä2!E11","v":0},{"$f":"Erä2!F11","v":0},{"$f":"Erä2!G11","v":0},{"$f":"Erä2!H11","v":{"$error":"#DIV/0!"}},{"$f":"Erä2!I11","v":{"$error":"#DIV/0!"}},{"$f":"Erä2!J11","v":0},{"$f":"Erä2!K11","v":0},{"$f":"Erä2!L11","v":0},{"$f":"Erä2!M11","v":0},{"$f":"Erä2!N11","v":{"$error":"#DIV/0!"}},{"$f":"Erä2!O11","v":{"$error":"#DIV/0!"}},{"$f":"Erä2!P11","v":0},{"$f":"Erä2!Q11","v":0},{"$f":"Erä2!R11","v":0},{"$f":"Erä2!S11","v":0},{"$f":"Erä2!T11","v":{"$error":"#DIV/0!"}},{"$f":"Erä2!U11","v":{"$error":"#DIV/0!"}},{"$f":"Erä2!V11","v":0},{"$f":"Erä2!W11","v":0},{"$f":"Erä2!X11","v":0},{"$f":"Erä2!Y11","v":0},{"$f":"Erä2!Z11","v":{"$error":"#DIV/0!"}},{"$f":"Erä2!AA11","v":{"$error":"#DIV/0!"}},{"$f":"Erä2!AB11","v":0},{"$f":"Erä2!AC11","v":0},null,{"$f":"Erä2!AE11","v":0},{"$f":"Erä2!AG11","v":0},{"$f":"(K38+Q38+W38+AC38)-(H38+M38+N38+S38+T38+Z38+AG38)","v":0}]
["III",null,null,null,{"$f":"Erä3!D11","v":0},{"$f":"Erä3!E11","v":0},{"$f":"Erä3!F11","v":0},{"$f":"Erä3!G11","v":0},{"$f":"Erä3!H11","v":{"$error":"#DIV/0!"}},{"$f":"Erä3!I11","v":{"$error":"#DIV/0!"}},{"$f":"Erä3!J11","v":0},{"$f":"Erä3!K11","v":0},{"$f":"Erä3!L11","v":0},{"$f":"Erä3!M11","v":0},{"$f":"Erä3!N11","v":{"$error":"#DIV/0!"}},{"$f":"Erä3!O11","v":{"$error":"#DIV/0!"}},{"$f":"Erä3!P11","v":0},{"$f":"Erä3!Q11","v":0},{"$f":"Erä3!R11","v":0},{"$f":"Erä3!S11","v":0},{"$f":"Erä3!T11","v":{"$error":"#DIV/0!"}},{"$f":"Erä3!U11","v":{"$error":"#DIV/0!"}},{"$f":"Erä3!V11","v":0},{"$f":"Erä3!W11","v":0},{"$f":"Erä3!X11","v":0},{"$f":"Erä3!Y11","v":0},{"$f":"Erä3!Z11","v":{"$error":"#DIV/0!"}},{"$f":"Erä3!AA11","v":{"$error":"#DIV/0!"}},{"$f":"Erä3!AB11","v":0},{"$f":"Erä3!AC11","v":0},null,{"$f":"Erä3!AE11","v":0},{"$f":"Erä3!AG11","v":0},{"$f":"(K39+Q39+W39+AC39)-(H39+M39+N39+S39+T39+Z39+AG39)","v":0}]
["IV",null,null,null,{"$f":"Erä4!D11","v":0},{"$f":"Erä4!E11","v":0},{"$f":"Erä4!F11","v":0},{"$f":"Erä4!G11","v":0},{"$f":"Erä4!H11","v":{"$error":"#DIV/0!"}},{"$f":"Erä4!I11","v":{"$error":"#DIV/0!"}},{"$f":"Erä4!J11","v":0},{"$f":"Erä4!K11","v":0},{"$f":"Erä4!L11","v":0},{"$f":"Erä4!M11","v":0},{"$f":"Erä4!N11","v":{"$error":"#DIV/0!"}},{"$f":"Erä4!O11","v":{"$error":"#DIV/0!"}},{"$f":"Erä4!P11","v":0},{"$f":"Erä4!Q11","v":0},{"$f":"Erä4!R11","v":0},{"$f":"Erä4!S11","v":0},{"$f":"Erä4!T11","v":{"$error":"#DIV/0!"}},{"$f":"Erä4!U11","v":{"$error":"#DIV/0!"}},{"$f":"Erä4!V11","v":0},{"$f":"Erä4!W11","v":0},{"$f":"Erä4!X11","v":0},{"$f":"Erä4!Y11","v":0},{"$f":"Erä4!Z11","v":{"$error":"#DIV/0!"}},{"$f":"Erä4!AA11","v":{"$error":"#DIV/0!"}},{"$f":"Erä4!AB11","v":0},{"$f":"Erä4!AC11","v":0},null,{"$f":"Erä4!AE11","v":0},{"$f":"Erä4!AG11","v":0},{"$f":"(K40+Q40+W40+AC40)-(H40+M40+N40+S40+T40+Z40+AG40)","v":0}]
["V",null,null,null,{"$f":"Erä5!D11","v":0},{"$f":"Erä5!E11","v":0},{"$f":"Erä5!F11","v":0},{"$f":"Erä5!G11","v":0},{"$f":"Erä5!H11","v":{"$error":"#DIV/0!"}},{"$f":"Erä5!I11","v":{"$error":"#DIV/0!"}},{"$f":"Erä5!J11","v":0},{"$f":"Erä5!K11","v":0},{"$f":"Erä5!L11","v":0},{"$f":"Erä5!M11","v":0},{"$f":"Erä5!N11","v":{"$error":"#DIV/0!"}},{"$f":"Erä5!O11","v":{"$error":"#DIV/0!"}},{"$f":"Erä5!P11","v":0},{"$f":"Erä5!Q11","v":0},{"$f":"Erä5!R11","v":0},{"$f":"Erä5!S11","v":0},{"$f":"Erä5!T11","v":{"$error":"#DIV/0!"}},{"$f":"Erä5!U11","v":{"$error":"#DIV/0!"}},{"$f":"Erä5!V11","v":0},{"$f":"Erä5!W11","v":0},{"$f":"Erä5!X11","v":0},{"$f":"Erä5!Y11","v":0},{"$f":"Erä5!Z11","v":{"$error":"#DIV/0!"}},{"$f":"Erä5!AA11","v":{"$error":"#DIV/0!"}},{"$f":"Erä5!AB11","v":0},{"$f":"Erä5!AC11","v":0},null,{"$f":"Erä5!AE11","v":0},{"$f":"Erä5!AG11","v":0},{"$f":"(K41+Q41+W41+AC41)-(H41+M41+N41+S41+T41+Z41+AG41)","v":0}]
[null,null,null,"Yhteen",{"$f":"SUM(E37:E41)","v":0},{"$f":"SUM(F37:F41)","v":0},{"$f":"SUM(G37:G41)","v":0},{"$f":"SUM(H37:H41)","v":0},{"$f":"(E42+F42)/(E42+F42+G42+H42)*100","v":{"$error":"#DIV/0!"}},{"$f":"H42/(E42+F42+G42+H42)*100","v":{"$error":"#DIV/0!"}},{"$f":"SUM(K37:K41)","v":0},{"$f":"SUM(L37:L41)","v":0},{"$f":"SUM(M37:M41)","v":0},{"$f":"SUM(N37:N41)","v":0},{"$f":"K42/(K42+L42+N42)*100","v":{"$error":"#DIV/0!"}},{"$f":"N42/(K42+L42+N42)*100","v":{"$error":"#DIV/0!"}},{"$f":"SUM(Q37:Q41)","v":0},{"$f":"SUM(R37:R41)","v":0},{"$f":"SUM(S37:S41)","v":0},{"$f":"SUM(T37:T41)","v":0},{"$f":"Q42/(Q42+R42+T42)*100","v":{"$error":"#DIV/0!"}},{"$f":"T42/(Q42+R42+T42)*100","v":{"$error":"#DIV/0!"}},{"$f":"SUM(W37:W41)","v":0},{"$f":"SUM(X37:X41)","v":0},{"$f":"SUM(Y37:Y41)","v":0},{"$f":"SUM(Z37:Z41)","v":0},{"$f":"(W42+X42)/(W42+X42+Y42+Z42)*100","v":{"$error":"#DIV/0!"}},{"$f":"Z42/(W42+X42+Y42+Z42)*100","v":{"$error":"#DIV/0!"}},{"$f":"SUM(AC37:AC41)","v":0},{"$f":"SUM(AD37:AD41)","v":0},null,{"$f":"SUM(AF37:AF41)","v":0},{"$f":"SUM(AG37:AG41)","v":0},{"$f":"SUM(AH37:AH41)","v":0}]
[]
["I",{"$f":"'Ti1'!A13","v":6},{"$f":"'Ti1'!B13","v":"h"},{"$f":"'Ti1'!C13","v":0},{"$f":"Erä1!D12","v":0},{"$f":"Erä1!E12","v":0},{"$f":"Erä1!F12","v":0},{"$f":"Erä1!G12","v":0},{"$f":"Erä1!H12","v":{"$error":"#DIV/0!"}},{"$f":"Erä1!I12","v":{"$error":"#DIV/0!"}},{"$f":"Erä1!J12","v":0},{"$f":"Erä1!K12","v":0},{"$f":"Erä1!L12","v":0},{"$f":"Erä1!M12","v":0},{"$f":"Erä1!N12","v":{"$error":"#DIV/0!"}},{"$f":"Erä1!O12","v":{"$error":"#DIV/0!"}},{"$f":"Erä1!P12","v":0},{"$f":"Erä1!Q12","v":0},{"$f":"Erä1!R12","v":0},{"$f":"Erä1!S12","v":0},{"$f":"Erä1!T12","v":{"$error":"#DIV/0!"}},{"$f":"Erä1!U12","v":{"$error":"#DIV/0!"}},{"$f":"Erä1!V12","v":0},{"$f":"Erä1!W12","v":0},{"$f":"Erä1!X12","v":0},{"$f":"Erä1!Y12","v":0},{"$f":"Erä1!Z12","v":{"$error":"#DIV/0!"}},{"$f":"Erä1!AA12","v":{"$error":"#DIV/0!"}},{"$f":"Erä1!AB12","v":0},{"$f":"Erä1!AC12","v":0},null,{"$f":"Erä1!AE12","v":0},{"$f":"Erä1!AG12","v":0},{"$f":"(K44+Q44+W44+AC44)-(H44+M44+N44+S44+T44+Z44+AG44)","v":0}]
["II",null,null,null,{"$f":"Erä2!D12","v":0},{"$f":"Erä2!E12","v":0},{"$f":"Erä2!F12","v":0},{"$f":"Erä2!G12","v":0},{"$f":"Erä2!H12","v":{"$error":"#DIV/0!"}},{"$f":"Erä2!I12","v":{"$error":"#DIV/0!"}},{"$f":"Erä2!J12","v":0},{"$f":"Erä2!K12","v":0},{"$f":"Erä2!L12","v":0},{"$f":"Erä2!M12","v":0},{"$f":"Erä2!N12","v":{"$error":"#DIV/0!"}},{"$f":"Erä2!O12","v":{"$error":"#DIV/0!"}},{"$f":"Erä2!P12","v":0},{"$f":"Erä2!Q12","v":0},{"$f":"Erä2!R12","v":0},{"$f":"Erä2!S12","v":0},{"$f":"Erä2!T12","v":{"$error":"#DIV/0!"}},{"$f":"Erä2!U12","v":{"$error":"#DIV/0!"}},{"$f":"Erä2!V12","v":0},{"$f":"Erä2!W12","v":0},{"$f":"Erä2!X12","v":0},{"$f":"Erä2!Y12","v":0},{"$f":"Erä2!Z12","v":{"$error":"#DIV/0!"}},{"$f":"Erä2!AA12","v":{"$error":"#DIV/0!"}},{"$f":"Erä2!AB12","v":0},{"$f":"Erä2!AC12","v":0},null,{"$f":"Erä2!AE12","v":0},{"$f":"Erä2!AG12","v":0},{"$f":"(K45+Q45+W45+AC45)-(H45+M45+N45+S45+T45+Z45+AG45)","v":0}]
["III",null,null,null,{"$f":"Erä3!D12","v":0},{"$f":"Erä3!E12","v":0},{"$f":"Erä3!F12","v":0},{"$f":"Erä3!G12","v":0},{"$f":"Erä3!H12","v":{"$error":"#DIV/0!"}},{"$f":"Erä3!I12","v":{"$error":"#DIV/0!"}},{"$f":"Erä3!J12","v":0},{"$f":"Erä3!K12","v":0},{"$f":"Erä3!L12","v":0},{"$f":"Erä3!M12","v":0},{"$f":"Erä3!N12","v":{"$error":"#DIV/0!"}},{"$f":"Erä3!O12","v":{"$error":"#DIV/0!"}},{"$f":"Erä3!P12","v":0},{"$f":"Erä3!Q12","v":0},{"$f":"Erä3!R12","v":0},{"$f":"Erä3!S12","v":0},{"$f":"Erä3!T12","v":{"$error":"#DIV/0!"}},{"$f":"Erä3!U12","v":{"$error":"#DIV/0!"}},{"$f":"Erä3!V12","v":0},{"$f":"Erä3!W12","v":0},{"$f":"Erä3!X12","v":0},{"$f":"Erä3!Y12","v":0},{"$f":"Erä3!Z12","v":{"$error":"#DIV/0!"}},{"$f":"Erä3!AA12","v":{"$error":"#DIV/0!"}},{"$f":"Erä3!AB12","v":0},{"$f":"Erä3!AC12","v":0},null,{"$f":"Erä3!AE12","v":0},{"$f":"Erä3!AG12","v":0},{"$f":"(K46+Q46+W46+AC46)-(H46+M46+N46+S46+T46+Z46+AG46)","v":0}]
["IV",null,null,null,{"$f":"Erä4!D12","v":0},{"$f":"Erä4!E12","v":0},{"$f":"Erä4!F12","v":0},{"$f":"Erä4!G12","v":0},{"$f":"Erä4!H12","v":{"$error":"#DIV/0!"}},{"$f":"Erä4!I12","v":{"$error":"#DIV/0!"}},{"$f":"Erä4!J12","v":0},{"$f":"Erä4!K12","v":0},{"$f":"Erä4!L12","v":0},{"$f":"Erä4!M12","v":0},{"$f":"Erä4!N12","v":{"$error":"#DIV/0!"}},{"$f":"Erä4!O12","v":{"$error":"#DIV/0!"}},{"$f":"Erä4!P12","v":0},{"$f":"Erä4!Q12","v":0},{"$f":"Erä4!R12","v":0},{"$f":"Erä4!S12","v":0},{"$f":"Erä4!T12","v":{"$error":"#DIV/0!"}},{"$f":"Erä4!U12","v":{"$error":"#DIV/0!"}},{"$f":"Erä4!V12","v":0},{"$f":"Erä4!W12","v":0},{"$f":"Erä4!X12","v":0},{"$f":"Erä4!Y12","v":0},{"$f":"Erä4!Z12","v":{"$error":"#DIV/0!"}},{"$f":"Erä4!AA12","v":{"$error":"#DIV/0!"}},{"$f":"Erä4!AB12","v":0},{"$f":"Erä4!AC12","v":0},null,{"$f":"Erä4!AE12","v":0},{"$f":"Erä4!AG12","v":0},{"$f":"(K47+Q47+W47+AC47)-(H47+M47+N47+S47+T47+Z47+AG47)","v":0}]
["V",null,null,null,{"$f":"Erä5!D12","v":0},{"$f":"Erä5!E12","v":0},{"$f":"Erä5!F12","v":0},{"$f":"Erä5!G12","v":0},{"$f":"Erä5!H12","v":{"$error":"#DIV/0!"}},{"$f":"Erä5!I12","v":{"$error":"#DIV/0!"}},{"$f":"Erä5!J12","v":0},{"$f":"Erä5!K12","v":0},{"$f":"Erä5!L12","v":0},{"$f":"Erä5!M12","v":0},{"$f":"Erä5!N12","v":{"$error":"#DIV/0!"}},{"$f":"Erä5!O12","v":{"$error":"#DIV/0!"}},{"$f":"Erä5!P12","v":0},{"$f":"Erä5!Q12","v":0},{"$f":"Erä5!R12","v":0},{"$f":"Erä5!S12","v":0},{"$f":"Erä5!T12","v":{"$error":"#DIV/0!"}},{"$f":"Erä5!U12","v":{"$error":"#DIV/0!"}},{"$f":"Erä5!V12","v":0},{"$f":"Erä5!W12","v":0},{"$f":"Erä5!X12","v":0},{"$f":"Erä5!Y12","v":0},{"$f":"Erä5!Z12","v":{"$error":"#DIV/0!"}},{"$f":"Erä5!AA12","v":{"$error":"#DIV/0!"}},{"$f":"Erä5!AB12","v":0},{"$f":"Erä5!AC12","v":0},null,{"$f":"Erä5!AE12","v":0},{"$f":"Erä5!AG12","v":0},{"$f":"(K48+Q48+W48+AC48)-(H48+M48+N48+S48+T48+Z48+AG48)","v":0}]
[null,null,null,"Yhteen",{"$f":"SUM(E44:E48)","v":0},{"$f":"SUM(F44:F48)","v":0},{"$f":"SUM(G44:G48)","v":0},{"$f":"SUM(H44:H48)","v":0},{"$f":"(E49+F49)/(E49+F49+G49+H49)*100","v":{"$error":"#DIV/0!"}},{"$f":"H49/(E49+F49+G49+H49)*100","v":{"$error":"#DIV/0!"}},{"$f":"SUM(K44:K48)","v":0},{"$f":"SUM(L44:L48)","v":0},{"$f":"SUM(M44:M48)","v":0},{"$f":"SUM(N44:N48)","v":0},{"$f":"K49/(K49+L49+N49)*100","v":{"$error":"#DIV/0!"}},{"$f":"N49/(K49+L49+N49)*100","v":{"$error":"#DIV/0!"}},{"$f":"SUM(Q44:Q48)","v":0},{"$f":"SUM(R44:R48)","v":0},{"$f":"SUM(S44:S48)","v":0},{"$f":"SUM(T44:T48)","v":0},{"$f":"Q49/(Q49+R49+T49)*100","v":{"$error":"#DIV/0!"}},{"$f":"T49/(Q49+R49+T49)*100","v":{"$error":"#DIV/0!"}},{"$f":"SUM(W44:W48)","v":0},{"$f":"SUM(X44:X48)","v":0},{"$f":"SUM(Y44:Y48)","v":0},{"$f":"SUM(Z44:Z48)","v":0},{"$f":"(W49+X49)/(W49+X49+Y49+Z49)*100","v":{"$error":"#DIV/0!"}},{"$f":"Z49/(W49+X49+Y49+Z49)*100","v":{"$error":"#DIV/0!"}},{"$f":"SUM(AC44:AC48)","v":0},{"$f":"SUM(AD44:AD48)","v":0},null,{"$f":"SUM(AF44:AF48)","v":0},{"$f":"SUM(AG44:AG48)","v":0},{"$f":"SUM(AH44:AH48)","v":0}]
[]
["I",{"$f":"'Ti1'!A14","v":7},{"$f":"'Ti1'!B14","v":"h"},{"$f":"'Ti1'!C14","v":0},{"$f":"Erä1!D13","v":0},{"$f":"Erä1!E13","v":0},{"$f":"Erä1!F13","v":0},{"$f":"Erä1!G13","v":0},{"$f":"Erä1!H13","v":{"$error":"#DIV/0!"}},{"$f":"Erä1!I13","v":{"$error":"#DIV/0!"}},{"$f":"Erä1!J13","v":0},{"$f":"Erä1!K13","v":0},{"$f":"Erä1!L13","v":0},{"$f":"Erä1!M13","v":0},{"$f":"Erä1!N13","v":{"$error":"#DIV/0!"}},{"$f":"Erä1!O13","v":{"$error":"#DIV/0!"}},{"$f":"Erä1!P13","v":0},{"$f":"Erä1!Q13","v":0},{"$f":"Erä1!R13","v":0},{"$f":"Erä1!S13","v":0},{"$f":"Erä1!T13","v":{"$error":"#DIV/0!"}},{"$f":"Erä1!U13","v":{"$error":"#DIV/0!"}},{"$f":"Erä1!V13","v":0},{"$f":"Erä1!W13","v":0},{"$f":"Erä1!X13","v":0},{"$f":"Erä1!Y13","v":0},{"$f":"Erä1!Z13","v":{"$error":"#DIV/0!"}},{"$f":"Erä1!AA13","v":{"$error":"#DIV/0!"}},{"$f":"Erä1!AB13","v":0},{"$f":"Erä1!AC13","v":0},null,{"$f":"Erä1!AE13","v":0},{"$f":"Erä1!AG13","v":0},{"$f":"(K51+Q51+W51+AC51)-(H51+M51+N51+S51+T51+Z51+AG51)","v":0}]
["II",null,null,null,{"$f":"Erä2!D13","v":0},{"$f":"Erä2!E13","v":0},{"$f":"Erä2!F13","v":0},{"$f":"Erä2!G13","v":0},{"$f":"Erä2!H13","v":{"$error":"#DIV/0!"}},{"$f":"Erä2!I13","v":{"$error":"#DIV/0!"}},{"$f":"Erä2!J13","v":0},{"$f":"Erä2!K13","v":0},{"$f":"Erä2!L13","v":0},{"$f":"Erä2!M13","v":0},{"$f":"Erä2!N13","v":{"$error":"#DIV/0!"}},{"$f":"Erä2!O13","v":{"$error":"#DIV/0!"}},{"$f":"Erä2!P13","v":0},{"$f":"Erä2!Q13","v":0},{"$f":"Erä2!R13","v":0},{"$f":"Erä2!S13","v":0},{"$f":"Erä2!T13","v":{"$error":"#DIV/0!"}},{"$f":"Erä2!U13","v":{"$error":"#DIV/0!"}},{"$f":"Erä2!V13","v":0},{"$f":"Erä2!W13","v":0},{"$f":"Erä2!X13","v":0},{"$f":"Erä2!Y13","v":0},{"$f":"Erä2!Z13","v":{"$error":"#DIV/0!"}},{"$f":"Erä2!AA13","v":{"$error":"#DIV/0!"}},{"$f":"Erä2!AB13","v":0},{"$f":"Erä2!AC13","v":0},null,{"$f":"Erä2!AE13","v":0},{"$f":"Erä2!AG13","v":0},{"$f":"(K52+Q52+W52+AC52)-(H52+M52+N52+S52+T52+Z52+AG52)","v":0}]
["III",null,null,null,{"$f":"Erä3!D13","v":0},{"$f":"Erä3!E13","v":0},{"$f":"Erä3!F13","v":0},{"$f":"Erä3!G13","v":0},{"$f":"Erä3!H13","v":{"$error":"#DIV/0!"}},{"$f":"Erä3!I13","v":{"$error":"#DIV/0!"}},{"$f":"Erä3!J13","v":0},{"$f":"Erä3!K13","v":0},{"$f":"Erä3!L13","v":0},{"$f":"Erä3!M13","v":0},{"$f":"Erä3!N13","v":{"$error":"#DIV/0!"}},{"$f":"Erä3!O13","v":{"$error":"#DIV/0!"}},{"$f":"Erä3!P13","v":0},{"$f":"Erä3!Q13","v":0},{"$f":"Erä3!R13","v":0},{"$f":"Erä3!S13","v":0},{"$f":"Erä3!T13","v":{"$error":"#DIV/0!"}},{"$f":"Erä3!U13","v":{"$error":"#DIV/0!"}},{"$f":"Erä3!V13","v":0},{"$f":"Erä3!W13","v":0},{"$f":"Erä3!X13","v":0},{"$f":"Erä3!Y13","v":0},{"$f":"Erä3!Z13","v":{"$error":"#DIV/0!"}},{"$f":"Erä3!AA13","v":{"$error":"#DIV/0!"}},{"$f":"Erä3!AB13","v":0},{"$f":"Erä3!AC13","v":0},null,{"$f":"Erä3!AE13","v":0},{"$f":"Erä3!AG13","v":0},{"$f":"(K53+Q53+W53+AC53)-(H53+M53+N53+S53+T53+Z53+AG53)","v":0}]
["IV",null,null,null,{"$f":"Erä4!D13","v":0},{"$f":"Erä4!E13","v":0},{"$f":"Erä4!F13","v":0},{"$f":"Erä4!G13","v":0},{"$f":"Erä4!H13","v":{"$error":"#DIV/0!"}},{"$f":"Erä4!I13","v":{"$error":"#DIV/0!"}},{"$f":"Erä4!J13","v":0},{"$f":"Erä4!K13","v":0},{"$f":"Erä4!L13","v":0},{"$f":"Erä4!M13","v":0},{"$f":"Erä4!N13","v":{"$error":"#DIV/0!"}},{"$f":"Erä4!O13","v":{"$error":"#DIV/0!"}},{"$f":"Erä4!P13","v":0},{"$f":"Erä4!Q13","v":0},{"$f":"Erä4!R13","v":0},{"$f":"Erä4!S13","v":0},{"$f":"Erä4!T13","v":{"$error":"#DIV/0!"}},{"$f":"Erä4!U13","v":{"$error":"#DIV/0!"}},{"$f":"Erä4!V13","v":0},{"$f":"Erä4!W13","v":0},{"$f":"Erä4!X13","v":0},{"$f":"Erä4!Y13","v":0},{"$f":"Erä4!Z13","v":{"$error":"#DIV/0!"}},{"$f":"Erä4!AA13","v":{"$error":"#DIV/0!"}},{"$f":"Erä4!AB13","v":0},{"$f":"Erä4!AC13","v":0},null,{"$f":"Erä4!AE13","v":0},{"$f":"Erä4!AG13","v":0},{"$f":"(K54+Q54+W54+AC54)-(H54+M54+N54+S54+T54+Z54+AG54)","v":0}]
["V",null,null,null,{"$f":"Erä5!D13","v":0},{"$f":"Erä5!E13","v":0},{"$f":"Erä5!F13","v":0},{"$f":"Erä5!G13","v":0},{"$f":"Erä5!H13","v":{"$error":"#DIV/0!"}},{"$f":"Erä5!I13","v":{"$error":"#DIV/0!"}},{"$f":"Erä5!J13","v":0},{"$f":"Erä5!K13","v":0},{"$f":"Erä5!L13","v":0},{"$f":"Erä5!M13","v":0},{"$f":"Erä5!N13","v":{"$error":"#DIV/0!"}},{"$f":"Erä5!O13","v":{"$error":"#DIV/0!"}},{"$f":"Erä5!P13","v":0},{"$f":"Erä5!Q13","v":0},{"$f":"Erä5!R13","v":0},{"$f":"Erä5!S13","v":0},{"$f":"Erä5!T13","v":{"$error":"#DIV/0!"}},{"$f":"Erä5!U13","v":{"$error":"#DIV/0!"}},{"$f":"Erä5!V13","v":0},{"$f":"Erä5!W13","v":0},{"$f":"Erä5!X13","v":0},{"$f":"Erä5!Y13","v":0},{"$f":"Erä5!Z13","v":{"$error":"#DIV/0!"}},{"$f":"Erä5!AA13","v":{"$error":"#DIV/0!"}},{"$f":"Erä5!AB13","v":0},{"$f":"Erä5!AC13","v":0},null,{"$f":"Erä5!AE13","v":0},{"$f":"Erä5!AG13","v":0},{"$f":"(K55+Q55+W55+AC55)-(H55+M55+N55+S55+T55+Z55+AG55)","v":0}]
[null,null,null,"Yhteen",{"$f":"SUM(E51:E55)","v":0},{"$f":"SUM(F51:F55)","v":0},{"$f":"SUM(G51:G55)","v":0},{"$f":"SUM(H51:H55)","v":0},{"$f":"(E56+F56)/(E56+F56+G56+H56)*100","v":{"$error":"#DIV/0!"}},{"$f":"H56/(E56+F56+G56+H56)*100","v":{"$error":"#DIV/0!"}},{"$f":"SUM(K51:K55)","v":0},{"$f":"SUM(L51:L55)","v":0},{"$f":"SUM(M51:M55)","v":0},{"$f":"SUM(N51:N55)","v":0},{"$f":"K56/(K56+L56+N56)*100","v":{"$error":"#DIV/0!"}},{"$f":"N56/(K56+L56+N56)*100","v":{"$error":"#DIV/0!"}},{"$f":"SUM(Q51:Q55)","v":0},{"$f":"SUM(R51:R55)","v":0},{"$f":"SUM(S51:S55)","v":0},{"$f":"SUM(T51:T55)","v":0},{"$f":"Q56/(Q56+R56+T56)*100","v":{"$error":"#DIV/0!"}},{"$f":"T56/(Q56+R56+T56)*100","v":{"$error":"#DIV/0!"}},{"$f":"SUM(W51:W55)","v":0},{"$f":"SUM(X51:X55)","v":0},{"$f":"SUM(Y51:Y55)","v":0},{"$f":"SUM(Z51:Z55)","v":0},{"$f":"(W56+X56)/(W56+X56+Y56+Z56)*100","v":{"$error":"#DIV/0!"}},{"$f":"Z56/(W56+X56+Y56+Z56)*100","v":{"$error":"#DIV/0!"}},{"$f":"SUM(AC51:AC55)","v":0},{"$f":"SUM(AD51:AD55)","v":0},null,{"$f":"SUM(AF51:AF55)","v":0},{"$f":"SUM(AG51:AG55)","v":0},{"$f":"SUM(AH51:AH55)","v":0}]
[]
["Eräkohtainen jako pelaajittain"]
[]
[null,null,null,null,"Vast.otto",null,null,null,null,null,"VO-hyökkäys",null,null,null,null,null,"Jatko-hyökkäys",null,null,null,null,null,"Aloitus",null,null,null,null,null,"Torjunta",null,null,"Puol","Tv","+/-"]
["Erä","Nro","Sukunimi","Etunimi",1,2,3,4,"P","M",1,2,"To",3,"P","M",1,2,"To",3,"P","M",1,2,3,4,"P","M",1,2,null,1,1]
["I",{"$f":"'Ti1'!A15","v":8},{"$f":"'Ti1'!B15","v":"kt"},{"$f":"'Ti1'!C15","v":0},{"$f":"Erä1!D14","v":0},{"$f":"Erä1!E14","v":0},{"$f":"Erä1!F14","v":0},{"$f":"Erä1!G14","v":0},{"$f":"Erä1!H14","v":{"$error":"#DIV/0!"}},{"$f":"Erä1!I14","v":{"$error":"#DIV/0!"}},{"$f":"Erä1!J14","v":0},{"$f":"Erä1!K14","v":0},{"$f":"Erä1!L14","v":0},{"$f":"Erä1!M14","v":0},{"$f":"Erä1!N14","v":{"$error":"#DIV/0!"}},{"$f":"Erä1!O14","v":{"$error":"#DIV/0!"}},{"$f":"Erä1!P14","v":0},{"$f":"Erä1!Q14","v":0},{"$f":"Erä1!R14","v":0},{"$f":"Erä1!S14","v":0},{"$f":"Erä1!T14","v":{"$error":"#DIV/0!"}},{"$f":"Erä1!U14","v":{"$error":"#DIV/0!"}},{"$f":"Erä1!V14","v":0},{"$f":"Erä1!W14","v":0},{"$f":"Erä1!X14","v":0},{"$f":"Erä1!Y14","v":0},{"$f":"Erä1!Z14","v":{"$error":"#DIV/0!"}},{"$f":"Erä1!AA14","v":{"$error":"#DIV/0!"}},{"$f":"Erä1!AB14","v":0},{"$f":"Erä1!AC14","v":0},null,{"$f":"Erä1!AE14","v":0},{"$f":"Erä1!AG14","v":0},{"$f":"(K62+Q62+W62+AC62)-(H62+M62+N62+S62+T62+Z62+AG62)","v":0}]
["II",null,null,null,{"$f":"Erä2!D14","v":0},{"$f":"Erä2!E14","v":0},{"$f":"Erä2!F14","v":0},{"$f":"Erä2!G14","v":0},{"$f":"Erä2!H14","v":{"$error":"#DIV/0!"}},{"$f":"Erä2!I14","v":{"$error":"#DIV/0!"}},{"$f":"Erä2!J14","v":0},{"$f":"Erä2!K14","v":0},{"$f":"Erä2!L14","v":0},{"$f":"Erä2!M14","v":0},{"$f":"Erä2!N14","v":{"$error":"#DIV/0!"}},{"$f":"Erä2!O14","v":{"$error":"#DIV/0!"}},{"$f":"Erä2!P14","v":0},{"$f":"Erä2!Q14","v":0},{"$f":"Erä2!R14","v":0},{"$f":"Erä2!S14","v":0},{"$f":"Erä2!T14","v":{"$error":"#DIV/0!"}},{"$f":"Erä2!U14","v":{"$error":"#DIV/0!"}},{"$f":"Erä2!V14","v":0},{"$f":"Erä2!W14","v":0},{"$f":"Erä2!X14","v":0},{"$f":"Erä2!Y14","v":0},{"$f":"Erä2!Z14","v":{"$error":"#DIV/0!"}},{"$f":"Erä2!AA14","v":{"$error":"#DIV/0!"}},{"$f":"Erä2!AB14","v":0},{"$f":"Erä2!AC14","v":0},null,{"$f":"Erä2!AE14","v":0},{"$f":"Erä2!AG14","v":0},{"$f":"(K63+Q63+W63+AC63)-(H63+M63+N63+S63+T63+Z63+AG63)","v":0}]
["III",null,null,null,{"$f":"Erä3!D14","v":0},{"$f":"Erä3!E14","v":0},{"$f":"Erä3!F14","v":0},{"$f":"Erä3!G14","v":0},{"$f":"Erä3!H14","v":{"$error":"#DIV/0!"}},{"$f":"Erä3!I14","v":{"$error":"#DIV/0!"}},{"$f":"Erä3!J14","v":0},{"$f":"Erä3!K14","v":0},{"$f":"Erä3!L14","v":0},{"$f":"Erä3!M14","v":0},{"$f":"Erä3!N14","v":{"$error":"#DIV/0!"}},{"$f":"Erä3!O14","v":{"$error":"#DIV/0!"}},{"$f":"Erä3!P14","v":0},{"$f":"Erä3!Q14","v":0},{"$f":"Erä3!R14","v":0},{"$f":"Erä3!S14","v":0},{"$f":"Erä3!T14","v":{"$error":"#DIV/0!"}},{"$f":"Erä3!U14","v":{"$error":"#DIV/0!"}},{"$f":"Erä3!V14","v":0},{"$f":"Erä3!W14","v":0},{"$f":"Erä3!X14","v":0},{"$f":"Erä3!Y14","v":0},{"$f":"Erä3!Z14","v":{"$error":"#DIV/0!"}},{"$f":"Erä3!AA14","v":{"$error":"#DIV/0!"}},{"$f":"Erä3!AB14","v":0},{"$f":"Erä3!AC14","v":0},null,{"$f":"Erä3!AE14","v":0},{"$f":"Erä3!AG14","v":0},{"$f":"(K64+Q64+W64+AC64)-(H64+M64+N64+S64+T64+Z64+AG64)","v":0}]
["IV",null,null,null,{"$f":"Erä4!D14","v":0},{"$f":"Erä4!E14","v":0},{"$f":"Erä4!F14","v":0},{"$f":"Erä4!G14","v":0},{"$f":"Erä4!H14","v":{"$error":"#DIV/0!"}},{"$f":"Erä4!I14","v":{"$error":"#DIV/0!"}},{"$f":"Erä4!J14","v":0},{"$f":"Erä4!K14","v":0},{"$f":"Erä4!L14","v":0},{"$f":"Erä4!M14","v":0},{"$f":"Erä4!N14","v":{"$error":"#DIV/0!"}},{"$f":"Erä4!O14","v":{"$error":"#DIV/0!"}},{"$f":"Erä4!P14","v":0},{"$f":"Erä4!Q14","v":0},{"$f":"Erä4!R14","v":0},{"$f":"Erä4!S14","v":0},{"$f":"Erä4!T14","v":{"$error":"#DIV/0!"}},{"$f":"Erä4!U14","v":{"$error":"#DIV/0!"}},{"$f":"Erä4!V14","v":0},{"$f":"Erä4!W14","v":0},{"$f":"Erä4!X14","v":0},{"$f":"Erä4!Y14","v":0},{"$f":"Erä4!Z14","v":{"$error":"#DIV/0!"}},{"$f":"Erä4!AA14","v":{"$error":"#DIV/0!"}},{"$f":"Erä4!AB14","v":0},{"$f":"Erä4!AC14","v":0},null,{"$f":"Erä4!AE14","v":0},{"$f":"Erä4!AG14","v":0},{"$f":"(K65+Q65+W65+AC65)-(H65+M65+N65+S65+T65+Z65+AG65)","v":0}]
["V",null,null,null,{"$f":"Erä5!D14","v":0},{"$f":"Erä5!E14","v":0},{"$f":"Erä5!F14","v":0},{"$f":"Erä5!G14","v":0},{"$f":"Erä5!H14","v":{"$error":"#DIV/0!"}},{"$f":"Erä5!I14","v":{"$error":"#DIV/0!"}},{"$f":"Erä5!J14","v":0},{"$f":"Erä5!K14","v":0},{"$f":"Erä5!L14","v":0},{"$f":"Erä5!M14","v":0},{"$f":"Erä5!N14","v":{"$error":"#DIV/0!"}},{"$f":"Erä5!O14","v":{"$error":"#DIV/0!"}},{"$f":"Erä5!P14","v":0},{"$f":"Erä5!Q14","v":0},{"$f":"Erä5!R14","v":0},{"$f":"Erä5!S14","v":0},{"$f":"Erä5!T14","v":{"$error":"#DIV/0!"}},{"$f":"Erä5!U14","v":{"$error":"#DIV/0!"}},{"$f":"Erä5!V14","v":0},{"$f":"Erä5!W14","v":0},{"$f":"Erä5!X14","v":0},{"$f":"Erä5!Y14","v":0},{"$f":"Erä5!Z14","v":{"$error":"#DIV/0!"}},{"$f":"Erä5!AA14","v":{"$error":"#DIV/0!"}},{"$f":"Erä5!AB14","v":0},{"$f":"Erä5!AC14","v":0},null,{"$f":"Erä5!AE14","v":0},{"$f":"Erä5!AG14","v":0},{"$f":"(K66+Q66+W66+AC66)-(H66+M66+N66+S66+T66+Z66+AG66)","v":0}]
[null,null,null,"Yhteen",{"$f":"SUM(E62:E66)","v":0},{"$f":"SUM(F62:F66)","v":0},{"$f":"SUM(G62:G66)","v":0},{"$f":"SUM(H62:H66)","v":0},{"$f":"(E67+F67)/(E67+F67+G67+H67)*100","v":{"$error":"#DIV/0!"}},{"$f":"H67/(E67+F67+G67+H67)*100","v":{"$error":"#DIV/0!"}},{"$f":"SUM(K62:K66)","v":0},{"$f":"SUM(L62:L66)","v":0},{"$f":"SUM(M62:M66)","v":0},{"$f":"SUM(N62:N66)","v":0},{"$f":"K67/(K67+L67+N67)*100","v":{"$error":"#DIV/0!"}},{"$f":"N67/(K67+L67+N67)*100","v":{"$error":"#DIV/0!"}},{"$f":"SUM(Q62:Q66)","v":0},{"$f":"SUM(R62:R66)","v":0},{"$f":"SUM(S62:S66)","v":0},{"$f":"SUM(T62:T66)","v":0},{"$f":"Q67/(Q67+R67+T67)*100","v":{"$error":"#DIV/0!"}},{"$f":"T67/(Q67+R67+T67)*100","v":{"$error":"#DIV/0!"}},{"$f":"SUM(W62:W66)","v":0},{"$f":"SUM(X62:X66)","v":0},{"$f":"SUM(Y62:Y66)","v":0},{"$f":"SUM(Z62:Z66)","v":0},{"$f":"(W67+X67)/(W67+X67+Y67+Z67)*100","v":{"$error":"#DIV/0!"}},{"$f":"Z67/(W67+X67+Y67+Z67)*100","v":{"$error":"#DIV/0!"}},{"$f":"SUM(AC62:AC66)","v":0},{"$f":"SUM(AD62:AD66)","v":0},null,{"$f":"SUM(AF62:AF66)","v":0},{"$f":"SUM(AG62:AG66)","v":0},{"$f":"SUM(AH62:AH66)","v":0}]
[]
["I",{"$f":"'Ti1'!A16","v":9},{"$f":"'Ti1'!B16","v":"kt"},{"$f":"'Ti1'!C16","v":0},{"$f":"Erä1!D15","v":0},{"$f":"Erä1!E15","v":0},{"$f":"Erä1!F15","v":0},{"$f":"Erä1!G15","v":0},{"$f":"Erä1!H15","v":{"$error":"#DIV/0!"}},{"$f":"Erä1!I15","v":{"$error":"#DIV/0!"}},{"$f":"Erä1!J15","v":0},{"$f":"Erä1!K15","v":0},{"$f":"Erä1!L15","v":0},{"$f":"Erä1!M15","v":0},{"$f":"Erä1!N15","v":{"$error":"#DIV/0!"}},{"$f":"Erä1!O15","v":{"$error":"#DIV/0!"}},{"$f":"Erä1!P15","v":0},{"$f":"Erä1!Q15","v":0},{"$f":"Erä1!R15","v":0},{"$f":"Erä1!S15","v":0},{"$f":"Erä1!T15","v":{"$error":"#DIV/0!"}},{"$f":"Erä1!U15","v":{"$error":"#DIV/0!"}},{"$f":"Erä1!V15","v":0},{"$f":"Erä1!W15","v":0},{"$f":"Erä1!X15","v":0},{"$f":"Erä1!Y15","v":0},{"$f":"Erä1!Z15","v":{"$error":"#DIV/0!"}},{"$f":"Erä1!AA15","v":{"$error":"#DIV/0!"}},{"$f":"Erä1!AB15","v":0},{"$f":"Erä1!AC15","v":0},null,{"$f":"Erä1!AE15","v":0},{"$f":"Erä1!AG15","v":0},{"$f":"(K69+Q69+W69+AC69)-(H69+M69+N69+S69+T69+Z69+AG69)","v":0}]
["II",null,null,null,{"$f":"Erä2!D15","v":0},{"$f":"Erä2!E15","v":0},{"$f":"Erä2!F15","v":0},{"$f":"Erä2!G15","v":0},{"$f":"Erä2!H15","v":{"$error":"#DIV/0!"}},{"$f":"Erä2!I15","v":{"$error":"#DIV/0!"}},{"$f":"Erä2!J15","v":0},{"$f":"Erä2!K15","v":0},{"$f":"Erä2!L15","v":0},{"$f":"Erä2!M15","v":0},{"$f":"Erä2!N15","v":{"$error":"#DIV/0!"}},{"$f":"Erä2!O15","v":{"$error":"#DIV/0!"}},{"$f":"Erä2!P15","v":0},{"$f":"Erä2!Q15","v":0},{"$f":"Erä2!R15","v":0},{"$f":"Erä2!S15","v":0},{"$f":"Erä2!T15","v":{"$error":"#DIV/0!"}},{"$f":"Erä2!U15","v":{"$error":"#DIV/0!"}},{"$f":"Erä2!V15","v":0},{"$f":"Erä2!W15","v":0},{"$f":"Erä2!X15","v":0},{"$f":"Erä2!Y15","v":0},{"$f":"Erä2!Z15","v":{"$error":"#DIV/0!"}},{"$f":"Erä2!AA15","v":{"$error":"#DIV/0!"}},{"$f":"Erä2!AB15","v":0},{"$f":"Erä2!AC15","v":0},null,{"$f":"Erä2!AE15","v":0},{"$f":"Erä2!AG15","v":0},{"$f":"(K70+Q70+W70+AC70)-(H70+M70+N70+S70+T70+Z70+AG70)","v":0}]
["III",null,null,null,{"$f":"Erä3!D15","v":0},{"$f":"Erä3!E15","v":0},{"$f":"Erä3!F15","v":0},{"$f":"Erä3!G15","v":0},{"$f":"Erä3!H15","v":{"$error":"#DIV/0!"}},{"$f":"Erä3!I15","v":{"$error":"#DIV/0!"}},{"$f":"Erä3!J15","v":0},{"$f":"Erä3!K15","v":0},{"$f":"Erä3!L15","v":0},{"$f":"Erä3!M15","v":0},{"$f":"Erä3!N15","v":{"$error":"#DIV/0!"}},{"$f":"Erä3!O15","v":{"$error":"#DIV/0!"}},{"$f":"Erä3!P15","v":0},{"$f":"Erä3!Q15","v":0},{"$f":"Erä3!R15","v":0},{"$f":"Erä3!S15","v":0},{"$f":"Erä3!T15","v":{"$error":"#DIV/0!"}},{"$f":"Erä3!U15","v":{"$error":"#DIV/0!"}},{"$f":"Erä3!V15","v":0},{"$f":"Erä3!W15","v":0},{"$f":"Erä3!X15","v":0},{"$f":"Erä3!Y15","v":0},{"$f":"Erä3!Z15","v":{"$error":"#DIV/0!"}},{"$f":"Erä3!AA15","v":{"$error":"#DIV/0!"}},{"$f":"Erä3!AB15","v":0},{"$f":"Erä3!AC15","v":0},null,{"$f":"Erä3!AE15","v":0},{"$f":"Erä3!AG15","v":0},{"$f":"(K71+Q71+W71+AC71)-(H71+M71+N71+S71+T71+Z71+AG71)","v":0}]
["IV",null,null,null,{"$f":"Erä4!D15","v":0},{"$f":"Erä4!E15","v":0},{"$f":"Erä4!F15","v":0},{"$f":"Erä4!G15","v":0},{"$f":"Erä4!H15","v":{"$error":"#DIV/0!"}},{"$f":"Erä4!I15","v":{"$error":"#DIV/0!"}},{"$f":"Erä4!J15","v":0},{"$f":"Erä4!K15","v":0},{"$f":"Erä4!L15","v":0},{"$f":"Erä4!M15","v":0},{"$f":"Erä4!N15","v":{"$error":"#DIV/0!"}},{"$f":"Erä4!O15","v":{"$error":"#DIV/0!"}},{"$f":"Erä4!P15","v":0},{"$f":"Erä4!Q15","v":0},{"$f":"Erä4!R15","v":0},{"$f":"Erä4!S15","v":0},{"$f":"Erä4!T15","v":{"$error":"#DIV/0!"}},{"$f":"Erä4!U15","v":{"$error":"#DIV/0!"}},{"$f":"Erä4!V15","v":0},{"$f":"Erä4!W15","v":0},{"$f":"Erä4!X15","v":0},{"$f":"Erä4!Y15","v":0},{"$f":"Erä4!Z15","v":{"$error":"#DIV/0!"}},{"$f":"Erä4!AA15","v":{"$error":"#DIV/0!"}},{"$f":"Erä4!AB15","v":0},{"$f":"Erä4!AC15","v":0},null,{"$f":"Erä4!AE15","v":0},{"$f":"Erä4!AG15","v":0},{"$f":"(K72+Q72+W72+AC72)-(H72+M72+N72+S72+T72+Z72+AG72)","v":0}]
["V",null,null,null,{"$f":"Erä5!D15","v":0},{"$f":"Erä5!E15","v":0},{"$f":"Erä5!F15","v":0},{"$f":"Erä5!G15","v":0},{"$f":"Erä5!H15","v":{"$error":"#DIV/0!"}},{"$f":"Erä5!I15","v":{"$error":"#DIV/0!"}},{"$f":"Erä5!J15","v":0},{"$f":"Erä5!K15","v":0},{"$f":"Erä5!L15","v":0},{"$f":"Erä5!M15","v":0},{"$f":"Erä5!N15","v":{"$error":"#DIV/0!"}},{"$f":"Erä5!O15","v":{"$error":"#DIV/0!"}},{"$f":"Erä5!P15","v":0},{"$f":"Erä5!Q15","v":0},{"$f":"Erä5!R15","v":0},{"$f":"Erä5!S15","v":0},{"$f":"Erä5!T15","v":{"$error":"#DIV/0!"}},{"$f":"Erä5!U15","v":{"$error":"#DIV/0!"}},{"$f":"Erä5!V15","v":0},{"$f":"Erä5!W15","v":0},{"$f":"Erä5!X15","v":0},{"$f":"Erä5!Y15","v":0},{"$f":"Erä5!Z15","v":{"$error":"#DIV/0!"}},{"$f":"Erä5!AA15","v":{"$error":"#DIV/0!"}},{"$f":"Erä5!AB15","v":0},{"$f":"Erä5!AC15","v":0},null,{"$f":"Erä5!AE15","v":0},{"$f":"Erä5!AG15","v":0},{"$f":"(K73+Q73+W73+AC73)-(H73+M73+N73+S73+T73+Z73+AG73)","v":0}]
[null,null,null,"Yhteen",{"$f":"SUM(E69:E73)","v":0},{"$f":"SUM(F69:F73)","v":0},{"$f":"SUM(G69:G73)","v":0},{"$f":"SUM(H69:H73)","v":0},{"$f":"(E74+F74)/(E74+F74+G74+H74)*100","v":{"$error":"#DIV/0!"}},{"$f":"H74/(E74+F74+G74+H74)*100","v":{"$error":"#DIV/0!"}},{"$f":"SUM(K69:K73)","v":0},{"$f":"SUM(L69:L73)","v":0},{"$f":"SUM(M69:M73)","v":0},{"$f":"SUM(N69:N73)","v":0},{"$f":"K74/(K74+L74+N74)*100","v":{"$error":"#DIV/0!"}},{"$f":"N74/(K74+L74+N74)*100","v":{"$error":"#DIV/0!"}},{"$f":"SUM(Q69:Q73)","v":0},{"$f":"SUM(R69:R73)","v":0},{"$f":"SUM(S69:S73)","v":0},{"$f":"SUM(T69:T73)","v":0},{"$f":"Q74/(Q74+R74+T74)*100","v":{"$error":"#DIV/0!"}},{"$f":"T74/(Q74+R74+T74)*100","v":{"$error":"#DIV/0!"}},{"$f":"SUM(W69:W73)","v":0},{"$f":"SUM(X69:X73)","v":0},{"$f":"SUM(Y69:Y73)","v":0},{"$f":"SUM(Z69:Z73)","v":0},{"$f":"(W74+X74)/(W74+X74+Y74+Z74)*100","v":{"$error":"#DIV/0!"}},{"$f":"Z74/(W74+X74+Y74+Z74)*100","v":{"$error":"#DIV/0!"}},{"$f":"SUM(AC69:AC73)","v":0},{"$f":"SUM(AD69:AD73)","v":0},null,{"$f":"SUM(AF69:AF73)","v":0},{"$f":"SUM(AG69:AG73)","v":0},{"$f":"SUM(AH69:AH73)","v":0}]
[]
["I",{"$f":"'Ti1'!A17","v":10},{"$f":"'Ti1'!B17","v":"kt"},{"$f":"'Ti1'!C17","v":0},{"$f":"Erä1!D16","v":0},{"$f":"Erä1!E16","v":0},{"$f":"Erä1!F16","v":0},{"$f":"Erä1!G16","v":0},{"$f":"Erä1!H16","v":{"$error":"#DIV/0!"}},{"$f":"Erä1!I16","v":{"$error":"#DIV/0!"}},{"$f":"Erä1!J16","v":0},{"$f":"Erä1!K16","v":0},{"$f":"Erä1!L16","v":0},{"$f":"Erä1!M16","v":0},{"$f":"Erä1!N16","v":{"$error":"#DIV/0!"}},{"$f":"Erä1!O16","v":{"$error":"#DIV/0!"}},{"$f":"Erä1!P16","v":0},{"$f":"Erä1!Q16","v":0},{"$f":"Erä1!R16","v":0},{"$f":"Erä1!S16","v":0},{"$f":"Erä1!T16","v":{"$error":"#DIV/0!"}},{"$f":"Erä1!U16","v":{"$error":"#DIV/0!"}},{"$f":"Erä1!V16","v":0},{"$f":"Erä1!W16","v":0},{"$f":"Erä1!X16","v":0},{"$f":"Erä1!Y16","v":0},{"$f":"Erä1!Z16","v":{"$error":"#DIV/0!"}},{"$f":"Erä1!AA16","v":{"$error":"#DIV/0!"}},{"$f":"Erä1!AB16","v":0},{"$f":"Erä1!AC16","v":0},null,{"$f":"Erä1!AE16","v":0},{"$f":"Erä1!AG16","v":0},{"$f":"(K76+Q76+W76+AC76)-(H76+M76+N76+S76+T76+Z76+AG76)","v":0}]
["II",null,null,null,{"$f":"Erä2!D16","v":0},{"$f":"Erä2!E16","v":0},{"$f":"Erä2!F16","v":0},{"$f":"Erä2!G16","v":0},{"$f":"Erä2!H16","v":{"$error":"#DIV/0!"}},{"$f":"Erä2!I16","v":{"$error":"#DIV/0!"}},{"$f":"Erä2!J16","v":0},{"$f":"Erä2!K16","v":0},{"$f":"Erä2!L16","v":0},{"$f":"Erä2!M16","v":0},{"$f":"Erä2!N16","v":{"$error":"#DIV/0!"}},{"$f":"Erä2!O16","v":{"$error":"#DIV/0!"}},{"$f":"Erä2!P16","v":0},{"$f":"Erä2!Q16","v":0},{"$f":"Erä2!R16","v":0},{"$f":"Erä2!S16","v":0},{"$f":"Erä2!T16","v":{"$error":"#DIV/0!"}},{"$f":"Erä2!U16","v":{"$error":"#DIV/0!"}},{"$f":"Erä2!V16","v":0},{"$f":"Erä2!W16","v":0},{"$f":"Erä2!X16","v":0},{"$f":"Erä2!Y16","v":0},{"$f":"Erä2!Z16","v":{"$error":"#DIV/0!"}},{"$f":"Erä2!AA16","v":{"$error":"#DIV/0!"}},{"$f":"Erä2!AB16","v":0},{"$f":"Erä2!AC16","v":0},null,{"$f":"Erä2!AE16","v":0},{"$f":"Erä2!AG16","v":0},{"$f":"(K77+Q77+W77+AC77)-(H77+M77+N77+S77+T77+Z77+AG77)","v":0}]
["III",null,null,null,{"$f":"Erä3!D16","v":0},{"$f":"Erä3!E16","v":0},{"$f":"Erä3!F16","v":0},{"$f":"Erä3!G16","v":0},{"$f":"Erä3!H16","v":{"$error":"#DIV/0!"}},{"$f":"Erä3!I16","v":{"$error":"#DIV/0!"}},{"$f":"Erä3!J16","v":0},{"$f":"Erä3!K16","v":0},{"$f":"Erä3!L16","v":0},{"$f":"Erä3!M16","v":0},{"$f":"Erä3!N16","v":{"$error":"#DIV/0!"}},{"$f":"Erä3!O16","v":{"$error":"#DIV/0!"}},{"$f":"Erä3!P16","v":0},{"$f":"Erä3!Q16","v":0},{"$f":"Erä3!R16","v":0},{"$f":"Erä3!S16","v":0},{"$f":"Erä3!T16","v":{"$error":"#DIV/0!"}},{"$f":"Erä3!U16","v":{"$error":"#DIV/0!"}},{"$f":"Erä3!V16","v":0},{"$f":"Erä3!W16","v":0},{"$f":"Erä3!X16","v":0},{"$f":"Erä3!Y16","v":0},{"$f":"Erä3!Z16","v":{"$error":"#DIV/0!"}},{"$f":"Erä3!AA16","v":{"$error":"#DIV/0!"}},{"$f":"Erä3!AB16","v":0},{"$f":"Erä3!AC16","v":0},null,{"$f":"Erä3!AE16","v":0},{"$f":"Erä3!AG16","v":0},{"$f":"(K78+Q78+W78+AC78)-(H78+M78+N78+S78+T78+Z78+AG78)","v":0}]
["IV",null,null,null,{"$f":"Erä4!D16","v":0},{"$f":"Erä4!E16","v":0},{"$f":"Erä4!F16","v":0},{"$f":"Erä4!G16","v":0},{"$f":"Erä4!H16","v":{"$error":"#DIV/0!"}},{"$f":"Erä4!I16","v":{"$error":"#DIV/0!"}},{"$f":"Erä4!J16","v":0},{"$f":"Erä4!K16","v":0},{"$f":"Erä4!L16","v":0},{"$f":"Erä4!M16","v":0},{"$f":"Erä4!N16","v":{"$error":"#DIV/0!"}},{"$f":"Erä4!O16","v":{"$error":"#DIV/0!"}},{"$f":"Erä4!P16","v":0},{"$f":"Erä4!Q16","v":0},{"$f":"Erä4!R16","v":0},{"$f":"Erä4!S16","v":0},{"$f":"Erä4!T16","v":{"$error":"#DIV/0!"}},{"$f":"Erä4!U16","v":{"$error":"#DIV/0!"}},{"$f":"Erä4!V16","v":0},{"$f":"Erä4!W16","v":0},{"$f":"Erä4!X16","v":0},{"$f":"Erä4!Y16","v":0},{"$f":"Erä4!Z16","v":{"$error":"#DIV/0!"}},{"$f":"Erä4!AA16","v":{"$error":"#DIV/0!"}},{"$f":"Erä4!AB16","v":0},{"$f":"Erä4!AC16","v":0},null,{"$f":"Erä4!AE16","v":0},{"$f":"Erä4!AG16","v":0},{"$f":"(K79+Q79+W79+AC79)-(H79+M79+N79+S79+T79+Z79+AG79)","v":0}]
["V",null,null,null,{"$f":"Erä5!D16","v":0},{"$f":"Erä5!E16","v":0},{"$f":"Erä5!F16","v":0},{"$f":"Erä5!G16","v":0},{"$f":"Erä5!H16","v":{"$error":"#DIV/0!"}},{"$f":"Erä5!I16","v":{"$error":"#DIV/0!"}},{"$f":"Erä5!J16","v":0},{"$f":"Erä5!K16","v":0},{"$f":"Erä5!L16","v":0},{"$f":"Erä5!M16","v":0},{"$f":"Erä5!N16","v":{"$error":"#DIV/0!"}},{"$f":"Erä5!O16","v":{"$error":"#DIV/0!"}},{"$f":"Erä5!P16","v":0},{"$f":"Erä5!Q16","v":0},{"$f":"Erä5!R16","v":0},{"$f":"Erä5!S16","v":0},{"$f":"Erä5!T16","v":{"$error":"#DIV/0!"}},{"$f":"Erä5!U16","v":{"$error":"#DIV/0!"}},{"$f":"Erä5!V16","v":0},{"$f":"Erä5!W16","v":0},{"$f":"Erä5!X16","v":0},{"$f":"Erä5!Y16","v":0},{"$f":"Erä5!Z16","v":{"$error":"#DIV/0!"}},{"$f":"Erä5!AA16","v":{"$error":"#DIV/0!"}},{"$f":"Erä5!AB16","v":0},{"$f":"Erä5!AC16","v":0},null,{"$f":"Erä5!AE16","v":0},{"$f":"Erä5!AG16","v":0},{"$f":"(K80+Q80+W80+AC80)-(H80+M80+N80+S80+T80+Z80+AG80)","v":0}]
[null,null,null,"Yhteen",{"$f":"SUM(E76:E80)","v":0},{"$f":"SUM(F76:F80)","v":0},{"$f":"SUM(G76:G80)","v":0},{"$f":"SUM(H76:H80)","v":0},{"$f":"(E81+F81)/(E81+F81+G81+H81)*100","v":{"$error":"#DIV/0!"}},{"$f":"H81/(E81+F81+G81+H81)*100","v":{"$error":"#DIV/0!"}},{"$f":"SUM(K76:K80)","v":0},{"$f":"SUM(L76:L80)","v":0},{"$f":"SUM(M76:M80)","v":0},{"$f":"SUM(N76:N80)","v":0},{"$f":"K81/(K81+L81+N81)*100","v":{"$error":"#DIV/0!"}},{"$f":"N81/(K81+L81+N81)*100","v":{"$error":"#DIV/0!"}},{"$f":"SUM(Q76:Q80)","v":0},{"$f":"SUM(R76:R80)","v":0},{"$f":"SUM(S76:S80)","v":0},{"$f":"SUM(T76:T80)","v":0},{"$f":"Q81/(Q81+R81+T81)*100","v":{"$error":"#DIV/0!"}},{"$f":"T81/(Q81+R81+T81)*100","v":{"$error":"#DIV/0!"}},{"$f":"SUM(W76:W80)","v":0},{"$f":"SUM(X76:X80)","v":0},{"$f":"SUM(Y76:Y80)","v":0},{"$f":"SUM(Z76:Z80)","v":0},{"$f":"(W81+X81)/(W81+X81+Y81+Z81)*100","v":{"$error":"#DIV/0!"}},{"$f":"Z81/(W81+X81+Y81+Z81)*100","v":{"$error":"#DIV/0!"}},{"$f":"SUM(AC76:AC80)","v":0},{"$f":"SUM(AD76:AD80)","v":0},null,{"$f":"SUM(AF76:AF80)","v":0},{"$f":"SUM(AG76:AG80)","v":0},{"$f":"SUM(AH76:AH80)","v":0}]
[]
["I",{"$f":"'Ti1'!A18","v":11},{"$f":"'Ti1'!B18","v":"p"},{"$f":"'Ti1'!C18","v":0},{"$f":"Erä1!D17","v":0},{"$f":"Erä1!E17","v":0},{"$f":"Erä1!F17","v":0},{"$f":"Erä1!G17","v":0},{"$f":"Erä1!H17","v":{"$error":"#DIV/0!"}},{"$f":"Erä1!I17","v":{"$error":"#DIV/0!"}},{"$f":"Erä1!J17","v":0},{"$f":"Erä1!K17","v":0},{"$f":"Erä1!L17","v":0},{"$f":"Erä1!M17","v":0},{"$f":"Erä1!N17","v":{"$error":"#DIV/0!"}},{"$f":"Erä1!O17","v":{"$error":"#DIV/0!"}},{"$f":"Erä1!P17","v":0},{"$f":"Erä1!Q17","v":0},{"$f":"Erä1!R17","v":0},{"$f":"Erä1!S17","v":0},{"$f":"Erä1!T17","v":{"$error":"#DIV/0!"}},{"$f":"Erä1!U17","v":{"$error":"#DIV/0!"}},{"$f":"Erä1!V17","v":0},{"$f":"Erä1!W17","v":0},{"$f":"Erä1!X17","v":0},{"$f":"Erä1!Y17","v":0},{"$f":"Erä1!Z17","v":{"$error":"#DIV/0!"}},{"$f":"Erä1!AA17","v":{"$error":"#DIV/0!"}},{"$f":"Erä1!AB17","v":0},{"$f":"Erä1!AC17","v":0},null,{"$f":"Erä1!AE17","v":0},{"$f":"Erä1!AG17","v":0},{"$f":"(K83+Q83+W83+AC83)-(H83+M83+N83+S83+T83+Z83+AG83)","v":0}]
["II",null,null,null,{"$f":"Erä2!D17","v":0},{"$f":"Erä2!E17","v":0},{"$f":"Erä2!F17","v":0},{"$f":"Erä2!G17","v":0},{"$f":"Erä2!H17","v":{"$error":"#DIV/0!"}},{"$f":"Erä2!I17","v":{"$error":"#DIV/0!"}},{"$f":"Erä2!J17","v":0},{"$f":"Erä2!K17","v":0},{"$f":"Erä2!L17","v":0},{"$f":"Erä2!M17","v":0},{"$f":"Erä2!N17","v":{"$error":"#DIV/0!"}},{"$f":"Erä2!O17","v":{"$error":"#DIV/0!"}},{"$f":"Erä2!P17","v":0},{"$f":"Erä2!Q17","v":0},{"$f":"Erä2!R17","v":0},{"$f":"Erä2!S17","v":0},{"$f":"Erä2!T17","v":{"$error":"#DIV/0!"}},{"$f":"Erä2!U17","v":{"$error":"#DIV/0!"}},{"$f":"Erä2!V17","v":0},{"$f":"Erä2!W17","v":0},{"$f":"Erä2!X17","v":0},{"$f":"Erä2!Y17","v":0},{"$f":"Erä2!Z17","v":{"$error":"#DIV/0!"}},{"$f":"Erä2!AA17","v":{"$error":"#DIV/0!"}},{"$f":"Erä2!AB17","v":0},{"$f":"Erä2!AC17","v":0},null,{"$f":"Erä2!AE17","v":0},{"$f":"Erä2!AG17","v":0},{"$f":"(K84+Q84+W84+AC84)-(H84+M84+N84+S84+T84+Z84+AG84)","v":0}]
["III",null,null,null,{"$f":"Erä3!D17","v":0},{"$f":"Erä3!E17","v":0},{"$f":"Erä3!F17","v":0},{"$f":"Erä3!G17","v":0},{"$f":"Erä3!H17","v":{"$error":"#DIV/0!"}},{"$f":"Erä3!I17","v":{"$error":"#DIV/0!"}},{"$f":"Erä3!J17","v":0},{"$f":"Erä3!K17","v":0},{"$f":"Erä3!L17","v":0},{"$f":"Erä3!M17","v":0},{"$f":"Erä3!N17","v":{"$error":"#DIV/0!"}},{"$f":"Erä3!O17","v":{"$error":"#DIV/0!"}},{"$f":"Erä3!P17","v":0},{"$f":"Erä3!Q17","v":0},{"$f":"Erä3!R17","v":0},{"$f":"Erä3!S17","v":0},{"$f":"Erä3!T17","v":{"$error":"#DIV/0!"}},{"$f":"Erä3!U17","v":{"$error":"#DIV/0!"}},{"$f":"Erä3!V17","v":0},{"$f":"Erä3!W17","v":0},{"$f":"Erä3!X17","v":0},{"$f":"Erä3!Y17","v":0},{"$f":"Erä3!Z17","v":{"$error":"#DIV/0!"}},{"$f":"Erä3!AA17","v":{"$error":"#DIV/0!"}},{"$f":"Erä3!AB17","v":0},{"$f":"Erä3!AC17","v":0},null,{"$f":"Erä3!AE17","v":0},{"$f":"Erä3!AG17","v":0},{"$f":"(K85+Q85+W85+AC85)-(H85+M85+N85+S85+T85+Z85+AG85)","v":0}]
["IV",null,null,null,{"$f":"Erä4!D17","v":0},{"$f":"Erä4!E17","v":0},{"$f":"Erä4!F17","v":0},{"$f":"Erä4!G17","v":0},{"$f":"Erä4!H17","v":{"$error":"#DIV/0!"}},{"$f":"Erä4!I17","v":{"$error":"#DIV/0!"}},{"$f":"Erä4!J17","v":0},{"$f":"Erä4!K17","v":0},{"$f":"Erä4!L17","v":0},{"$f":"Erä4!M17","v":0},{"$f":"Erä4!N17","v":{"$error":"#DIV/0!"}},{"$f":"Erä4!O17","v":{"$error":"#DIV/0!"}},{"$f":"Erä4!P17","v":0},{"$f":"Erä4!Q17","v":0},{"$f":"Erä4!R17","v":0},{"$f":"Erä4!S17","v":0},{"$f":"Erä4!T17","v":{"$error":"#DIV/0!"}},{"$f":"Erä4!U17","v":{"$error":"#DIV/0!"}},{"$f":"Erä4!V17","v":0},{"$f":"Erä4!W17","v":0},{"$f":"Erä4!X17","v":0},{"$f":"Erä4!Y17","v":0},{"$f":"Erä4!Z17","v":{"$error":"#DIV/0!"}},{"$f":"Erä4!AA17","v":{"$error":"#DIV/0!"}},{"$f":"Erä4!AB17","v":0},{"$f":"Erä4!AC17","v":0},null,{"$f":"Erä4!AE17","v":0},{"$f":"Erä4!AG17","v":0},{"$f":"(K86+Q86+W86+AC86)-(H86+M86+N86+S86+T86+Z86+AG86)","v":0}]
["V",null,null,null,{"$f":"Erä5!D17","v":0},{"$f":"Erä5!E17","v":0},{"$f":"Erä5!F17","v":0},{"$f":"Erä5!G17","v":0},{"$f":"Erä5!H17","v":{"$error":"#DIV/0!"}},{"$f":"Erä5!I17","v":{"$error":"#DIV/0!"}},{"$f":"Erä5!J17","v":0},{"$f":"Erä5!K17","v":0},{"$f":"Erä5!L17","v":0},{"$f":"Erä5!M17","v":0},{"$f":"Erä5!N17","v":{"$error":"#DIV/0!"}},{"$f":"Erä5!O17","v":{"$error":"#DIV/0!"}},{"$f":"Erä5!P17","v":0},{"$f":"Erä5!Q17","v":0},{"$f":"Erä5!R17","v":0},{"$f":"Erä5!S17","v":0},{"$f":"Erä5!T17","v":{"$error":"#DIV/0!"}},{"$f":"Erä5!U17","v":{"$error":"#DIV/0!"}},{"$f":"Erä5!V17","v":0},{"$f":"Erä5!W17","v":0},{"$f":"Erä5!X17","v":0},{"$f":"Erä5!Y17","v":0},{"$f":"Erä5!Z17","v":{"$error":"#DIV/0!"}},{"$f":"Erä5!AA17","v":{"$error":"#DIV/0!"}},{"$f":"Erä5!AB17","v":0},{"$f":"Erä5!AC17","v":0},null,{"$f":"Erä5!AE17","v":0},{"$f":"Erä5!AG17","v":0},{"$f":"(K87+Q87+W87+AC87)-(H87+M87+N87+S87+T87+Z87+AG87)","v":0}]
[null,null,null,"Yhteen",{"$f":"SUM(E83:E87)","v":0},{"$f":"SUM(F83:F87)","v":0},{"$f":"SUM(G83:G87)","v":0},{"$f":"SUM(H83:H87)","v":0},{"$f":"(E88+F88)/(E88+F88+G88+H88)*100","v":{"$error":"#DIV/0!"}},{"$f":"H88/(E88+F88+G88+H88)*100","v":{"$error":"#DIV/0!"}},{"$f":"SUM(K83:K87)","v":0},{"$f":"SUM(L83:L87)","v":0},{"$f":"SUM(M83:M87)","v":0},{"$f":"SUM(N83:N87)","v":0},{"$f":"K88/(K88+L88+N88)*100","v":{"$error":"#DIV/0!"}},{"$f":"N88/(K88+L88+N88)*100","v":{"$error":"#DIV/0!"}},{"$f":"SUM(Q83:Q87)","v":0},{"$f":"SUM(R83:R87)","v":0},{"$f":"SUM(S83:S87)","v":0},{"$f":"SUM(T83:T87)","v":0},{"$f":"Q88/(Q88+R88+T88)*100","v":{"$error":"#DIV/0!"}},{"$f":"T88/(Q88+R88+T88)*100","v":{"$error":"#DIV/0!"}},{"$f":"SUM(W83:W87)","v":0},{"$f":"SUM(X83:X87)","v":0},{"$f":"SUM(Y83:Y87)","v":0},{"$f":"SUM(Z83:Z87)","v":0},{"$f":"(W88+X88)/(W88+X88+Y88+Z88)*100","v":{"$error":"#DIV/0!"}},{"$f":"Z88/(W88+X88+Y88+Z88)*100","v":{"$error":"#DIV/0!"}},{"$f":"SUM(AC83:AC87)","v":0},{"$f":"SUM(AD83:AD87)","v":0},null,{"$f":"SUM(AF83:AF87)","v":0},{"$f":"SUM(AG83:AG87)","v":0},{"$f":"SUM(AH83:AH87)","v":0}]
[]
["I",{"$f":"'Ti1'!A19","v":12},{"$f":"'Ti1'!B19","v":"p"},{"$f":"'Ti1'!C19","v":0},{"$f":"Erä1!D18","v":0},{"$f":"Erä1!E18","v":0},{"$f":"Erä1!F18","v":0},{"$f":"Erä1!G18","v":0},{"$f":"Erä1!H18","v":{"$error":"#DIV/0!"}},{"$f":"Erä1!I18","v":{"$error":"#DIV/0!"}},{"$f":"Erä1!J18","v":0},{"$f":"Erä1!K18","v":0},{"$f":"Erä1!L18","v":0},{"$f":"Erä1!M18","v":0},{"$f":"Erä1!N18","v":{"$error":"#DIV/0!"}},{"$f":"Erä1!O18","v":{"$error":"#DIV/0!"}},{"$f":"Erä1!P18","v":0},{"$f":"Erä1!Q18","v":0},{"$f":"Erä1!R18","v":0},{"$f":"Erä1!S18","v":0},{"$f":"Erä1!T18","v":{"$error":"#DIV/0!"}},{"$f":"Erä1!U18","v":{"$error":"#DIV/0!"}},{"$f":"Erä1!V18","v":0},{"$f":"Erä1!W18","v":0},{"$f":"Erä1!X18","v":0},{"$f":"Erä1!Y18","v":0},{"$f":"Erä1!Z18","v":{"$error":"#DIV/0!"}},{"$f":"Erä1!AA18","v":{"$error":"#DIV/0!"}},{"$f":"Erä1!AB18","v":0},{"$f":"Erä1!AC18","v":0},null,{"$f":"Erä1!AE18","v":0},{"$f":"Erä1!AG18","v":0},{"$f":"(K90+Q90+W90+AC90)-(H90+M90+N90+S90+T90+Z90+AG90)","v":0}]
["II",null,null,null,{"$f":"Erä2!D18","v":0},{"$f":"Erä2!E18","v":0},{"$f":"Erä2!F18","v":0},{"$f":"Erä2!G18","v":0},{"$f":"Erä2!H18","v":{"$error":"#DIV/0!"}},{"$f":"Erä2!I18","v":{"$error":"#DIV/0!"}},{"$f":"Erä2!J18","v":0},{"$f":"Erä2!K18","v":0},{"$f":"Erä2!L18","v":0},{"$f":"Erä2!M18","v":0},{"$f":"Erä2!N18","v":{"$error":"#DIV/0!"}},{"$f":"Erä2!O18","v":{"$error":"#DIV/0!"}},{"$f":"Erä2!P18","v":0},{"$f":"Erä2!Q18","v":0},{"$f":"Erä2!R18","v":0},{"$f":"Erä2!S18","v":0},{"$f":"Erä2!T18","v":{"$error":"#DIV/0!"}},{"$f":"Erä2!U18","v":{"$error":"#DIV/0!"}},{"$f":"Erä2!V18","v":0},{"$f":"Erä2!W18","v":0},{"$f":"Erä2!X18","v":0},{"$f":"Erä2!Y18","v":0},{"$f":"Erä2!Z18","v":{"$error":"#DIV/0!"}},{"$f":"Erä2!AA18","v":{"$error":"#DIV/0!"}},{"$f":"Erä2!AB18","v":0},{"$f":"Erä2!AC18","v":0},null,{"$f":"Erä2!AE18","v":0},{"$f":"Erä2!AG18","v":0},{"$f":"(K91+Q91+W91+AC91)-(H91+M91+N91+S91+T91+Z91+AG91)","v":0}]
["III",null,null,null,{"$f":"Erä3!D18","v":0},{"$f":"Erä3!E18","v":0},{"$f":"Erä3!F18","v":0},{"$f":"Erä3!G18","v":0},{"$f":"Erä3!H18","v":{"$error":"#DIV/0!"}},{"$f":"Erä3!I18","v":{"$error":"#DIV/0!"}},{"$f":"Erä3!J18","v":0},{"$f":"Erä3!K18","v":0},{"$f":"Erä3!L18","v":0},{"$f":"Erä3!M18","v":0},{"$f":"Erä3!N18","v":{"$error":"#DIV/0!"}},{"$f":"Erä3!O18","v":{"$error":"#DIV/0!"}},{"$f":"Erä3!P18","v":0},{"$f":"Erä3!Q18","v":0},{"$f":"Erä3!R18","v":0},{"$f":"Erä3!S18","v":0},{"$f":"Erä3!T18","v":{"$error":"#DIV/0!"}},{"$f":"Erä3!U18","v":{"$error":"#DIV/0!"}},{"$f":"Erä3!V18","v":0},{"$f":"Erä3!W18","v":0},{"$f":"Erä3!X18","v":0},{"$f":"Erä3!Y18","v":0},{"$f":"Erä3!Z18","v":{"$error":"#DIV/0!"}},{"$f":"Erä3!AA18","v":{"$error":"#DIV/0!"}},{"$f":"Erä3!AB18","v":0},{"$f":"Erä3!AC18","v":0},null,{"$f":"Erä3!AE18","v":0},{"$f":"Erä3!AG18","v":0},{"$f":"(K92+Q92+W92+AC92)-(H92+M92+N92+S92+T92+Z92+AG92)","v":0}]
["IV",null,null,null,{"$f":"Erä4!D18","v":0},{"$f":"Erä4!E18","v":0},{"$f":"Erä4!F18","v":0},{"$f":"Erä4!G18","v":0},{"$f":"Erä4!H18","v":{"$error":"#DIV/0!"}},{"$f":"Erä4!I18","v":{"$error":"#DIV/0!"}},{"$f":"Erä4!J18","v":0},{"$f":"Erä4!K18","v":0},{"$f":"Erä4!L18","v":0},{"$f":"Erä4!M18","v":0},{"$f":"Erä4!N18","v":{"$error":"#DIV/0!"}},{"$f":"Erä4!O18","v":{"$error":"#DIV/0!"}},{"$f":"Erä4!P18","v":0},{"$f":"Erä4!Q18","v":0},{"$f":"Erä4!R18","v":0},{"$f":"Erä4!S18","v":0},{"$f":"Erä4!T18","v":{"$error":"#DIV/0!"}},{"$f":"Erä4!U18","v":{"$error":"#DIV/0!"}},{"$f":"Erä4!V18","v":0},{"$f":"Erä4!W18","v":0},{"$f":"Erä4!X18","v":0},{"$f":"Erä4!Y18","v":0},{"$f":"Erä4!Z18","v":{"$error":"#DIV/0!"}},{"$f":"Erä4!AA18","v":{"$error":"#DIV/0!"}},{"$f":"Erä4!AB18","v":0},{"$f":"Erä4!AC18","v":0},null,{"$f":"Erä4!AE18","v":0},{"$f":"Erä4!AG18","v":0},{"$f":"(K93+Q93+W93+AC93)-(H93+M93+N93+S93+T93+Z93+AG93)","v":0}]
["V",null,null,null,{"$f":"Erä5!D18","v":0},{"$f":"Erä5!E18","v":0},{"$f":"Erä5!F18","v":0},{"$f":"Erä5!G18","v":0},{"$f":"Erä5!H18","v":{"$error":"#DIV/0!"}},{"$f":"Erä5!I18","v":{"$error":"#DIV/0!"}},{"$f":"Erä5!J18","v":0},{"$f":"Erä5!K18","v":0},{"$f":"Erä5!L18","v":0},{"$f":"Erä5!M18","v":0},{"$f":"Erä5!N18","v":{"$error":"#DIV/0!"}},{"$f":"Erä5!O18","v":{"$error":"#DIV/0!"}},{"$f":"Erä5!P18","v":0},{"$f":"Erä5!Q18","v":0},{"$f":"Erä5!R18","v":0},{"$f":"Erä5!S18","v":0},{"$f":"Erä5!T18","v":{"$error":"#DIV/0!"}},{"$f":"Erä5!U18","v":{"$error":"#DIV/0!"}},{"$f":"Erä5!V18","v":0},{"$f":"Erä5!W18","v":0},{"$f":"Erä5!X18","v":0},{"$f":"Erä5!Y18","v":0},{"$f":"Erä5!Z18","v":{"$error":"#DIV/0!"}},{"$f":"Erä5!AA18","v":{"$error":"#DIV/0!"}},{"$f":"Erä5!AB18","v":0},{"$f":"Erä5!AC18","v":0},null,{"$f":"Erä5!AE18","v":0},{"$f":"Erä5!AG18","v":0},{"$f":"(K94+Q94+W94+AC94)-(H94+M94+N94+S94+T94+Z94+AG94)","v":0}]
[null,null,null,"Yhteen",{"$f":"SUM(E90:E94)","v":0},{"$f":"SUM(F90:F94)","v":0},{"$f":"SUM(G90:G94)","v":0},{"$f":"SUM(H90:H94)","v":0},{"$f":"(E95+F95)/(E95+F95+G95+H95)*100","v":{"$error":"#DIV/0!"}},{"$f":"H95/(E95+F95+G95+H95)*100","v":{"$error":"#DIV/0!"}},{"$f":"SUM(K90:K94)","v":0},{"$f":"SUM(L90:L94)","v":0},{"$f":"SUM(M90:M94)","v":0},{"$f":"SUM(N90:N94)","v":0},{"$f":"K95/(K95+L95+N95)*100","v":{"$error":"#DIV/0!"}},{"$f":"N95/(K95+L95+N95)*100","v":{"$error":"#DIV/0!"}},{"$f":"SUM(Q90:Q94)","v":0},{"$f":"SUM(R90:R94)","v":0},{"$f":"SUM(S90:S94)","v":0},{"$f":"SUM(T90:T94)","v":0},{"$f":"Q95/(Q95+R95+T95)*100","v":{"$error":"#DIV/0!"}},{"$f":"T95/(Q95+R95+T95)*100","v":{"$error":"#DIV/0!"}},{"$f":"SUM(W90:W94)","v":0},{"$f":"SUM(X90:X94)","v":0},{"$f":"SUM(Y90:Y94)","v":0},{"$f":"SUM(Z90:Z94)","v":0},{"$f":"(W95+X95)/(W95+X95+Y95+Z95)*100","v":{"$error":"#DIV/0!"}},{"$f":"Z95/(W95+X95+Y95+Z95)*100","v":{"$error":"#DIV/0!"}},{"$f":"SUM(AC90:AC94)","v":0},{"$f":"SUM(AD90:AD94)","v":0},null,{"$f":"SUM(AF90:AF94)","v":0},{"$f":"SUM(AG90:AG94)","v":0},{"$f":"SUM(AH90:AH94)","v":0}]
[]
["I",{"$f":"'Ti1'!A20","v":0},{"$f":"'Ti1'!B20","v":0},{"$f":"'Ti1'!C20","v":0},{"$f":"Erä1!D19","v":0},{"$f":"Erä1!E19","v":0},{"$f":"Erä1!F19","v":0},{"$f":"Erä1!G19","v":0},{"$f":"Erä1!H19","v":{"$error":"#DIV/0!"}},{"$f":"Erä1!I19","v":{"$error":"#DIV/0!"}},{"$f":"Erä1!J19","v":0},{"$f":"Erä1!K19","v":0},{"$f":"Erä1!L19","v":0},{"$f":"Erä1!M19","v":0},{"$f":"Erä1!N19","v":{"$error":"#DIV/0!"}},{"$f":"Erä1!O19","v":{"$error":"#DIV/0!"}},{"$f":"Erä1!P19","v":0},{"$f":"Erä1!Q19","v":0},{"$f":"Erä1!R19","v":0},{"$f":"Erä1!S19","v":0},{"$f":"Erä1!T19","v":{"$error":"#DIV/0!"}},{"$f":"Erä1!U19","v":{"$error":"#DIV/0!"}},{"$f":"Erä1!V19","v":0},{"$f":"Erä1!W19","v":0},{"$f":"Erä1!X19","v":0},{"$f":"Erä1!Y19","v":0},{"$f":"Erä1!Z19","v":{"$error":"#DIV/0!"}},{"$f":"Erä1!AA19","v":{"$error":"#DIV/0!"}},{"$f":"Erä1!AB19","v":0},{"$f":"Erä1!AC19","v":0},null,{"$f":"Erä1!AE19","v":0},{"$f":"Erä1!AG19","v":0},{"$f":"(K97+Q97+W97+AC97)-(H97+M97+N97+S97+T97+Z97+AG97)","v":0}]
["II",null,null,null,{"$f":"Erä2!D19","v":0},{"$f":"Erä2!E19","v":0},{"$f":"Erä2!F19","v":0},{"$f":"Erä2!G19","v":0},{"$f":"Erä2!H19","v":{"$error":"#DIV/0!"}},{"$f":"Erä2!I19","v":{"$error":"#DIV/0!"}},{"$f":"Erä2!J19","v":0},{"$f":"Erä2!K19","v":0},{"$f":"Erä2!L19","v":0},{"$f":"Erä2!M19","v":0},{"$f":"Erä2!N19","v":{"$error":"#DIV/0!"}},{"$f":"Erä2!O19","v":{"$error":"#DIV/0!"}},{"$f":"Erä2!P19","v":0},{"$f":"Erä2!Q19","v":0},{"$f":"Erä2!R19","v":0},{"$f":"Erä2!S19","v":0},{"$f":"Erä2!T19","v":{"$error":"#DIV/0!"}},{"$f":"Erä2!U19","v":{"$error":"#DIV/0!"}},{"$f":"Erä2!V19","v":0},{"$f":"Erä2!W19","v":0},{"$f":"Erä2!X19","v":0},{"$f":"Erä2!Y19","v":0},{"$f":"Erä2!Z19","v":{"$error":"#DIV/0!"}},{"$f":"Erä2!AA19","v":{"$error":"#DIV/0!"}},{"$f":"Erä2!AB19","v":0},{"$f":"Erä2!AC19","v":0},null,{"$f":"Erä2!AE19","v":0},{"$f":"Erä2!AG19","v":0},{"$f":"(K98+Q98+W98+AC98)-(H98+M98+N98+S98+T98+Z98+AG98)","v":0}]
["III",null,null,null,{"$f":"Erä3!D19","v":0},{"$f":"Erä3!E19","v":0},{"$f":"Erä3!F19","v":0},{"$f":"Erä3!G19","v":0},{"$f":"Erä3!H19","v":{"$error":"#DIV/0!"}},{"$f":"Erä3!I19","v":{"$error":"#DIV/0!"}},{"$f":"Erä3!J19","v":0},{"$f":"Erä3!K19","v":0},{"$f":"Erä3!L19","v":0},{"$f":"Erä3!M19","v":0},{"$f":"Erä3!N19","v":{"$error":"#DIV/0!"}},{"$f":"Erä3!O19","v":{"$error":"#DIV/0!"}},{"$f":"Erä3!P19","v":0},{"$f":"Erä3!Q19","v":0},{"$f":"Erä3!R19","v":0},{"$f":"Erä3!S19","v":0},{"$f":"Erä3!T19","v":{"$error":"#DIV/0!"}},{"$f":"Erä3!U19","v":{"$error":"#DIV/0!"}},{"$f":"Erä3!V19","v":0},{"$f":"Erä3!W19","v":0},{"$f":"Erä3!X19","v":0},{"$f":"Erä3!Y19","v":0},{"$f":"Erä3!Z19","v":{"$error":"#DIV/0!"}},{"$f":"Erä3!AA19","v":{"$error":"#DIV/0!"}},{"$f":"Erä3!AB19","v":0},{"$f":"Erä3!AC19","v":0},null,{"$f":"Erä3!AE19","v":0},{"$f":"Erä3!AG19","v":0},{"$f":"(K99+Q99+W99+AC99)-(H99+M99+N99+S99+T99+Z99+AG99)","v":0}]
["IV",null,null,null,{"$f":"Erä4!D19","v":0},{"$f":"Erä4!E19","v":0},{"$f":"Erä4!F19","v":0},{"$f":"Erä4!G19","v":0},{"$f":"Erä4!H19","v":{"$error":"#DIV/0!"}},{"$f":"Erä4!I19","v":{"$error":"#DIV/0!"}},{"$f":"Erä4!J19","v":0},{"$f":"Erä4!K19","v":0},{"$f":"Erä4!L19","v":0},{"$f":"Erä4!M19","v":0},{"$f":"Erä4!N19","v":{"$error":"#DIV/0!"}},{"$f":"Erä4!O19","v":{"$error":"#DIV/0!"}},{"$f":"Erä4!P19","v":0},{"$f":"Erä4!Q19","v":0},{"$f":"Erä4!R19","v":0},{"$f":"Erä4!S19","v":0},{"$f":"Erä4!T19","v":{"$error":"#DIV/0!"}},{"$f":"Erä4!U19","v":{"$error":"#DIV/0!"}},{"$f":"Erä4!V19","v":0},{"$f":"Erä4!W19","v":0},{"$f":"Erä4!X19","v":0},{"$f":"Erä4!Y19","v":0},{"$f":"Erä4!Z19","v":{"$error":"#DIV/0!"}},{"$f":"Erä4!AA19","v":{"$error":"#DIV/0!"}},{"$f":"Erä4!AB19","v":0},{"$f":"Erä4!AC19","v":0},null,{"$f":"Erä4!AE19","v":0},{"$f":"Erä4!AG19","v":0},{"$f":"(K100+Q100+W100+AC100)-(H100+M100+N100+S100+T100+Z100+AG100)","v":0}]
["V",null,null,null,{"$f":"Erä5!D19","v":0},{"$f":"Erä5!E19","v":0},{"$f":"Erä5!F19","v":0},{"$f":"Erä5!G19","v":0},{"$f":"Erä5!H19","v":{"$error":"#DIV/0!"}},{"$f":"Erä5!I19","v":{"$error":"#DIV/0!"}},{"$f":"Erä5!J19","v":0},{"$f":"Erä5!K19","v":0},{"$f":"Erä5!L19","v":0},{"$f":"Erä5!M19","v":0},{"$f":"Erä5!N19","v":{"$error":"#DIV/0!"}},{"$f":"Erä5!O19","v":{"$error":"#DIV/0!"}},{"$f":"Erä5!P19","v":0},{"$f":"Erä5!Q19","v":0},{"$f":"Erä5!R19","v":0},{"$f":"Erä5!S19","v":0},{"$f":"Erä5!T19","v":{"$error":"#DIV/0!"}},{"$f":"Erä5!U19","v":{"$error":"#DIV/0!"}},{"$f":"Erä5!V19","v":0},{"$f":"Erä5!W19","v":0},{"$f":"Erä5!X19","v":0},{"$f":"Erä5!Y19","v":0},{"$f":"Erä5!Z19","v":{"$error":"#DIV/0!"}},{"$f":"Erä5!AA19","v":{"$error":"#DIV/0!"}},{"$f":"Erä5!AB19","v":0},{"$f":"Erä5!AC19","v":0},{"$f":"Erä5!AD19","v":0},{"$f":"Erä5!AE19","v":0},{"$f":"Erä5!AF19","v":0},{"$f":"(K101+Q101+W101+AC101)-(H101+M101+N101+S101+T101+Z101+AG101)","v":0}]
[null,null,null,"Yhteen",{"$f":"SUM(E97:E101)","v":0},{"$f":"SUM(F97:F101)","v":0},{"$f":"SUM(G97:G101)","v":0},{"$f":"SUM(H97:H101)","v":0},{"$f":"(E102+F102)/(E102+F102+G102+H102)*100","v":{"$error":"#DIV/0!"}},{"$f":"H102/(E102+F102+G102+H102)*100","v":{"$error":"#DIV/0!"}},{"$f":"SUM(K97:K101)","v":0},{"$f":"SUM(L97:L101)","v":0},{"$f":"SUM(M97:M101)","v":0},{"$f":"SUM(N97:N101)","v":0},{"$f":"K102/(K102+L102+N102)*100","v":{"$error":"#DIV/0!"}},{"$f":"N102/(K102+L102+N102)*100","v":{"$error":"#DIV/0!"}},{"$f":"SUM(Q97:Q101)","v":0},{"$f":"SUM(R97:R101)","v":0},{"$f":"SUM(S97:S101)","v":0},{"$f":"SUM(T97:T101)","v":0},{"$f":"Q102/(Q102+R102+T102)*100","v":{"$error":"#DIV/0!"}},{"$f":"T102/(Q102+R102+T102)*100","v":{"$error":"#DIV/0!"}},{"$f":"SUM(W97:W101)","v":0},{"$f":"SUM(X97:X101)","v":0},{"$f":"SUM(Y97:Y101)","v":0},{"$f":"SUM(Z97:Z101)","v":0},{"$f":"(W102+X102)/(W102+X102+Y102+Z102)*100","v":{"$error":"#DIV/0!"}},{"$f":"Z102/(W102+X102+Y102+Z102)*100","v":{"$error":"#DIV/0!"}},{"$f":"SUM(AC97:AC101)","v":0},{"$f":"SUM(AD97:AD101)","v":0},null,{"$f":"SUM(AF97:AF101)","v":0},{"$f":"SUM(AG97:AG101)","v":0},{"$f":"SUM(AH97:AH101)","v":0}]
[]
[]
["KOKO JOUKKUE",null,null,null,"Vast.otto",null,null,null,null,null,"VO-hyökkäys",null,null,null,null,null,"Jatko-hyökkäys",null,null,null,null,null,"Aloitus",null,null,null,null,null,"Torjunta",null,null,"Puol","Tv","+/-"]
[null,null,null,null,1,2,3,4,"P","M",1,2,"To",3,"P","M",1,2,"To",3,"P","M",1,2,3,4,"P","M",1,2,null,1,1]
[null,null,"I","erä",{"$f":"Erä1!D21","v":0},{"$f":"Erä1!E21","v":0},{"$f":"Erä1!F21","v":0},{"$f":"Erä1!G21","v":0},{"$f":"Erä1!H21","v":{"$error":"#DIV/0!"}},{"$f":"Erä1!I21","v":{"$error":"#DIV/0!"}},{"$f":"Erä1!J21","v":0},{"$f":"Erä1!K21","v":0},{"$f":"Erä1!L21","v":0},{"$f":"Erä1!M21","v":0},{"$f":"Erä1!N21","v":{"$error":"#DIV/0!"}},{"$f":"Erä1!O21","v":{"$error":"#DIV/0!"}},{"$f":"Erä1!P21","v":0},{"$f":"Erä1!Q21","v":0},{"$f":"Erä1!R21","v":0},{"$f":"Erä1!S21","v":0},{"$f":"Erä1!T21","v":{"$error":"#DIV/0!"}},{"$f":"Erä1!U21","v":{"$error":"#DIV/0!"}},{"$f":"Erä1!V21","v":0},{"$f":"Erä1!W21","v":0},{"$f":"Erä1!X21","v":0},{"$f":"Erä1!Y21","v":0},{"$f":"Erä1!Z21","v":{"$error":"#DIV/0!"}},{"$f":"Erä1!AA21","v":{"$error":"#DIV/0!"}},{"$f":"Erä1!AB21","v":0},{"$f":"Erä1!AC21","v":0},null,{"$f":"Erä1!AE21","v":0},{"$f":"Erä1!AG21","v":0},{"$f":"(K107+Q107+W107+AC107)-(H107+M107+N107+S107+T107+Z107+AG107)","v":0}]
[null,null,"II","erä",{"$f":"Erä2!D21","v":0},{"$f":"Erä2!E21","v":0},{"$f":"Erä2!F21","v":0},{"$f":"Erä2!G21","v":0},{"$f":"Erä2!H21","v":{"$error":"#DIV/0!"}},{"$f":"Erä2!I21","v":{"$error":"#DIV/0!"}},{"$f":"Erä2!J21","v":0},{"$f":"Erä2!K21","v":0},{"$f":"Erä2!L21","v":0},{"$f":"Erä2!M21","v":0},{"$f":"Erä2!N21","v":{"$error":"#DIV/0!"}},{"$f":"Erä2!O21","v":{"$error":"#DIV/0!"}},{"$f":"Erä2!P21","v":0},{"$f":"Erä2!Q21","v":0},{"$f":"Erä2!R21","v":0},{"$f":"Erä2!S21","v":0},{"$f":"Erä2!T21","v":{"$error":"#DIV/0!"}},{"$f":"Erä2!U21","v":{"$error":"#DIV/0!"}},{"$f":"Erä2!V21","v":0},{"$f":"Erä2!W21","v":0},{"$f":"Erä2!X21","v":0},{"$f":"Erä2!Y21","v":0},{"$f":"Erä2!Z21","v":{"$error":"#DIV/0!"}},{"$f":"Erä2!AA21","v":{"$error":"#DIV/0!"}},{"$f":"Erä2!AB21","v":0},{"$f":"Erä2!AC21","v":0},null,{"$f":"Erä2!AE21","v":0},{"$f":"Erä2!AG21","v":0},{"$f":"(K108+Q108+W108+AC108)-(H108+M108+N108+S108+T108+Z108+AG108)","v":0}]
[null,null,"III","erä",{"$f":"Erä3!D21","v":0},{"$f":"Erä3!E21","v":0},{"$f":"Erä3!F21","v":0},{"$f":"Erä3!G21","v":0},{"$f":"Erä3!H21","v":{"$error":"#DIV/0!"}},{"$f":"Erä3!I21","v":{"$error":"#DIV/0!"}},{"$f":"Erä3!J21","v":0},{"$f":"Erä3!K21","v":0},{"$f":"Erä3!L21","v":0},{"$f":"Erä3!M21","v":0},{"$f":"Erä3!N21","v":{"$error":"#DIV/0!"}},{"$f":"Erä3!O21","v":{"$error":"#DIV/0!"}},{"$f":"Erä3!P21","v":0},{"$f":"Erä3!Q21","v":0},{"$f":"Erä3!R21","v":0},{"$f":"Erä3!S21","v":0},{"$f":"Erä3!T21","v":{"$error":"#DIV/0!"}},{"$f":"Erä3!U21","v":{"$error":"#DIV/0!"}},{"$f":"Erä3!V21","v":0},{"$f":"Erä3!W21","v":0},{"$f":"Erä3!X21","v":0},{"$f":"Erä3!Y21","v":0},{"$f":"Erä3!Z21","v":{"$error":"#DIV/0!"}},{"$f":"Erä3!AA21","v":{"$error":"#DIV/0!"}},{"$f":"Erä3!AB21","v":0},{"$f":"Erä3!AC21","v":0},null,{"$f":"Erä3!AE21","v":0},{"$f":"Erä3!AG21","v":0},{"$f":"(K109+Q109+W109+AC109)-(H109+M109+N109+S109+T109+Z109+AG109)","v":0}]
[null,null,"IV","erä",{"$f":"Erä4!D21","v":0},{"$f":"Erä4!E21","v":0},{"$f":"Erä4!F21","v":0},{"$f":"Erä4!G21","v":0},{"$f":"Erä4!H21","v":{"$error":"#DIV/0!"}},{"$f":"Erä4!I21","v":{"$error":"#DIV/0!"}},{"$f":"Erä4!J21","v":0},{"$f":"Erä4!K21","v":0},{"$f":"Erä4!L21","v":0},{"$f":"Erä4!M21","v":0},{"$f":"Erä4!N21","v":{"$error":"#DIV/0!"}},{"$f":"Erä4!O21","v":{"$error":"#DIV/0!"}},{"$f":"Erä4!P21","v":0},{"$f":"Erä4!Q21","v":0},{"$f":"Erä4!R21","v":0},{"$f":"Erä4!S21","v":0},{"$f":"Erä4!T21","v":{"$error":"#DIV/0!"}},{"$f":"Erä4!U21","v":{"$error":"#DIV/0!"}},{"$f":"Erä4!V21","v":0},{"$f":"Erä4!W21","v":0},{"$f":"Erä4!X21","v":0},{"$f":"Erä4!Y21","v":0},{"$f":"Erä4!Z21","v":{"$error":"#DIV/0!"}},{"$f":"Erä4!AA21","v":{"$error":"#DIV/0!"}},{"$f":"Erä4!AB21","v":0},{"$f":"Erä4!AC21","v":0},null,{"$f":"Erä4!AE21","v":0},{"$f":"Erä4!AG21","v":0},{"$f":"(K110+Q110+W110+AC110)-(H110+M110+N110+S110+T110+Z110+AG110)","v":0}]
[null,null,"V","erä",{"$f":"Erä5!D21","v":0},{"$f":"Erä5!E21","v":0},{"$f":"Erä5!F21","v":0},{"$f":"Erä5!G21","v":0},{"$f":"Erä5!H21","v":{"$error":"#DIV/0!"}},{"$f":"Erä5!I21","v":{"$error":"#DIV/0!"}},{"$f":"Erä5!J21","v":0},{"$f":"Erä5!K21","v":0},{"$f":"Erä5!L21","v":0},{"$f":"Erä5!M21","v":0},{"$f":"Erä5!N21","v":{"$error":"#DIV/0!"}},{"$f":"Erä5!O21","v":{"$error":"#DIV/0!"}},{"$f":"Erä5!P21","v":0},{"$f":"Erä5!Q21","v":0},{"$f":"Erä5!R21","v":0},{"$f":"Erä5!S21","v":0},{"$f":"Erä5!T21","v":{"$error":"#DIV/0!"}},{"$f":"Erä5!U21","v":{"$error":"#DIV/0!"}},{"$f":"Erä5!V21","v":0},{"$f":"Erä5!W21","v":0},{"$f":"Erä5!X21","v":0},{"$f":"Erä5!Y21","v":0},{"$f":"Erä5!Z21","v":{"$error":"#DIV/0!"}},{"$f":"Erä5!AA21","v":{"$error":"#DIV/0!"}},{"$f":"Erä5!AB21","v":0},{"$f":"Erä5!AC21","v":0},null,{"$f":"Erä5!AE21","v":0},{"$f":"Erä5!AG21","v":0},{"$f":"(K111+Q111+W111+AC111)-(H111+M111+N111+S111+T111+Z111+AG111)","v":0}]
[null,null,"JOUKKUE","Yhteen",{"$f":"SUM(E107:E111)","v":0},{"$f":"SUM(F107:F111)","v":0},{"$f":"SUM(G107:G111)","v":0},{"$f":"SUM(H107:H111)","v":0},{"$f":"(E112+F112)/(E112+F112+G112+H112)*100","v":{"$error":"#DIV/0!"}},{"$f":"H112/(E112+F112+G112+H112)*100","v":{"$error":"#DIV/0!"}},{"$f":"SUM(K107:K111)","v":0},{"$f":"SUM(L107:L111)","v":0},{"$f":"SUM(M107:M111)","v":0},{"$f":"SUM(N107:N111)","v":0},{"$f":"K112/(K112+L112+N112)*100","v":{"$error":"#DIV/0!"}},{"$f":"N112/(K112+L112+N112)*100","v":{"$error":"#DIV/0!"}},{"$f":"SUM(Q107:Q111)","v":0},{"$f":"SUM(R107:R111)","v":0},{"$f":"SUM(S107:S111)","v":0},{"$f":"SUM(T107:T111)","v":0},{"$f":"Q112/(Q112+R112+T112)*100","v":{"$error":"#DIV/0!"}},{"$f":"T112/(Q112+R112+T112)*100","v":{"$error":"#DIV/0!"}},{"$f":"SUM(W107:W111)","v":0},{"$f":"SUM(X107:X111)","v":0},{"$f":"SUM(Y107:Y111)","v":0},{"$f":"SUM(Z107:Z111)","v":0},{"$f":"(W112+X112)/(W112+X112+Y112+Z112)*100","v":{"$error":"#DIV/0!"}},{"$f":"Z112/(W112+X112+Y112+Z112)*100","v":{"$error":"#DIV/0!"}},{"$f":"SUM(AC107:AC111)","v":0},{"$f":"SUM(AD107:AD111)","v":0},null,{"$f":"SUM(AF107:AF111)","v":0},{"$f":"SUM(AG107:AG111)","v":0},{"$f":"SUM(AH107:AH111)","v":0}]