Workbook

Sheet Talousarvio koko hanke
A1: HANKKEEN TALOUSARVIO | H1: OHJE
A2: Päivämäärä | H2: *Tämä talousarviotaulukko täyttyy automaattisesti sitä mukaa, kun täytät talousarviotaulukot, "Hankehallinnoija" ja "Osatoteuttajat". *Mikäli hankkeeseen on suunniteltu suuria palveluostoja, täytä ne tiedot "Suurten kuluerien erittely"-välilehdelle.
A3: Tyhjä rivi
A4: HAKIJA JA HANKE
A5: Toteuttaja/Siirron saaja
A6: Y-tunnus
A7: Hankkeen ja/tai osahankkeen nimi
A9: Huom! Lomake laskee automaattisesti sinisellä olevat summarivit, kun vuosikohtaiset ja yksityiskohtaisemmat tiedot on viety lomakkeeseen.
A10: Tyhjä rivi
A11: Budjettivuosi | B11: 2027 | C11: Yhteensä
A12: Henkilöstökulut | B12: =Hankehallinnoija!B12 -> 0 | C12: =SUM(B12:B12) -> 0
A13: Tyhjä rivi
A14: Vapaaehtoiset henkilöstökulut | B14: =Hankehallinnoija!B14 -> 0 | C14: =SUM(B14:B14) -> 0
A16: Palvelujen ostot
A17: Asiantuntijapalvelut | B17: =Hankehallinnoija!B17 -> 0 | C17: =SUM(B17:B17) -> 0
A18: Taloushallintopalvelut | B18: =Hankehallinnoija!B18 -> 0 | C18: =SUM(B18:B18) -> 0
A19: Viestintäpalvelut | B19: =Hankehallinnoija!B19 -> 0 | C19: =SUM(B19:B19) -> 0
A20: Muut palvelujen ostot | B20: =Hankehallinnoija!B20 -> 0 | C20: =SUM(B20:B20) -> 0
A21: Palvelujen ostot yhteensä | B21: =SUM(B17:B20) -> 0 | C21: =SUM(B21:B21) -> 0
A22: Tyhjä rivi
A23: Matkakulut | B23: =Hankehallinnoija!B23 -> 0 | C23: =SUM(B23:B23) -> 0
A24: Tyhjä rivi
A25: Materiaalikulut | B25: =Hankehallinnoija!B25 -> 0 | C25: =SUM(B25:B25) -> 0
A26: Tyhjä rivi
A27: Toimitilakulut | B27: =Hankehallinnoija!B27 -> 0 | C27: =SUM(B27:B27) -> 0
A28: Tyhjä rivi
A29: Investointikulut
A30: Ohjelmistot | B30: =Hankehallinnoija!B30 -> 0 | C30: =SUM(B30:B30) -> 0
A31: Puhelin- ja ICT-laitehankinnat | B31: =Hankehallinnoija!B31 -> 0 | C31: =SUM(B31:B31) -> 0
A32: Koneet ja kalusto | B32: =Hankehallinnoija!B32 -> 0 | C32: =SUM(B32:B32) -> 0
A33: Muut investointikulut | B33: =Hankehallinnoija!B33 -> 0 | C33: =SUM(B33:B33) -> 0
A34: Investointikulut yhteensä | B34: =SUM(B30:B33) -> 0 | C34: =SUM(B34:B34) -> 0
A35: Tyhjä rivi
A36: Muut kulut | B36: =Hankehallinnoija!B36 -> 0 | C36: =SUM(B36:B36) -> 0
A38: Edelleen välitettävä avustus yhteensä | B38: =Osatoteuttajat!AA47 -> 0 | C38: =B38 -> 0
A40: Kulut yhteensä | B40: =SUM(B12,B14,B21,B23,B25,B27,B34,B36,B38) -> 0 | C40: =SUM(B40:B40) -> 0
A41: Tyhjä rivi
A42: Hankkeesta saatavat tuotot | B42: =Hankehallinnoija!B40 -> 0 | C42: =SUM(B42:B42) -> 0
A43: Muut hankkeeseen kohdistettavat tuotot | B43: =Hankehallinnoija!B41 -> 0 | C43: =SUM(B43:B43) -> 0
A44: Valtionavustukseen oikeuttavat kustannukset | B44: =(B40-(B42+B43)) -> 0 | C44: =SUM(B44:B44) -> 0
A45: Hanketoimijoiden omarahoitus | B45: =Hankehallinnoija!B43 -> 0 | C45: =SUM(B45:B45) -> 0
A46: Muu hankkeelle kohdistuva julkinen rahoitus | B46: =Hankehallinnoija!B44 -> 0 | C46: =SUM(B46:B46) -> 0
A47: Haettava valtionavustus | B47: =B44-(B45+B46) -> 0 | C47: =SUM(B47:B47) -> 0
A48: Taulukko loppuu tähän

Sheet Hankehallinnoija
A1: HANKKEEN TALOUSARVIO
A2: Päivämäärä
A3: Tyhjä rivi
A4: HAKIJA JA HANKE
A5: Toteuttaja/Siirron saaja
A6: Y-tunnus
A7: Hankkeen ja/tai osahankkeen nimi
A9: Huom! Lomake laskee automaattisesti sinisellä olevat summarivit, kun vuosikohtaiset ja yksityiskohtaisemmat tiedot on viety lomakkeeseen.
A10: Tyhjä rivi
B11: 2027 | C11: Yhteensä
A12: Henkilöstökulut | C12: =SUM(B12:B12) -> 0
A13: Tyhjä rivi
A14: Vapaaehtoiset henkilöstökulut | C14: =SUM(B14:B14) -> 0
A16: Palvelujen ostot
A17: Asiantuntijapalvelut | C17: =SUM(B17:B17) -> 0
A18: Taloushallintopalvelut | C18: =SUM(B18:B18) -> 0
A19: Viestintäpalvelut | C19: =SUM(B19:B19) -> 0
A20: Muut palvelujen ostot | C20: =SUM(B20:B20) -> 0
A21: Palvelujen ostot yhteensä | B21: =SUM(B17:B20) -> 0 | C21: =SUM(B21:B21) -> 0
A22: Tyhjä rivi
A23: Matkakulut | C23: =SUM(B23:B23) -> 0
A24: Tyhjä rivi
A25: Materiaalikulut | C25: =SUM(B25:B25) -> 0
A26: Tyhjä rivi
A27: Toimitilakulut | C27: =SUM(B27:B27) -> 0
A28: Tyhjä rivi
A29: Investointikulut
A30: Ohjelmistot | C30: =SUM(B30:B30) -> 0
A31: Puhelin- ja ICT-laitehankinnat | C31: =SUM(B31:B31) -> 0
A32: Koneet ja kalusto | C32: =SUM(B32:B32) -> 0
A33: Muut investointikulut | C33: =SUM(B33:B33) -> 0
A34: Investointikulut yhteensä | B34: =SUM(B30:B33) -> 0 | C34: =SUM(B34:B34) -> 0
A35: Tyhjä rivi
A36: Muut kulut | C36: =SUM(B36:B36) -> 0
A38: Kulut yhteensä | B38: =SUM(B12,B14,B21,B23,B25,B27,B34,B36) -> 0 | C38: =SUM(B38:B38) -> 0
A39: Tyhjä rivi
A40: Hankkeesta saatavat tuotot | C40: =SUM(B40:B40) -> 0
A41: Muut hankkeeseen kohdistettavat tuotot | C41: =SUM(B41:B41) -> 0
A42: Valtionavustukseen oikeuttavat kustannukset | B42: =(B38-B40-B41) -> 0 | C42: =SUM(B42:B42) -> 0
A43: Hanketoimijoiden omarahoitus | C43: =SUM(B43:B43) -> 0
A44: Muu hankkeelle kohdistuva julkinen rahoitus | C44: =SUM(B44:B44) -> 0
A45: Haettava valtionavustus | B45: =(B42-B43-B44) -> 0 | C45: =SUM(B45:B45) -> 0
A46: Taulukko loppuu tähän

Sheet Osatoteuttajat
A1: HANKKEEN TALOUSARVIO
A2: Hakemuksen päivämäärä
A5: Tyhjä rivi | B5: OSATOTEUTTAJA 1 | C5: OSATOTEUTTAJA 2 | D5: OSATOTEUTTAJA 3 | E5: OSATOTEUTTAJA 4 | F5: OSATOTEUTTAJA 5 | G5: OSATOTEUTTAJA 6 | H5: OSATOTEUTTAJA 7 | I5: OSATOTEUTTAJA 8 | J5: OSATOTEUTTAJA 9 | K5: OSATOTEUTTAJA 10 | L5: OSATOTEUTTAJA 11 | M5: OSATOTEUTTAJA 12 | N5: OSATOTEUTTAJA 13 | O5: OSATOTEUTTAJA 14 | P5: OSATOTEUTTAJA 15 | Q5: OSATOTEUTTAJA 16 | R5: OSATOTEUTTAJA 17 | S5: OSATOTEUTTAJA 18 | T5: OSATOTEUTTAJA 19 | U5: OSATOTEUTTAJA 20 | V5: OSATOTEUTTAJA 21 | W5: OSATOTEUTTAJA 22 | X5: OSATOTEUTTAJA 23 | Y5: OSATOTEUTTAJA 24 | Z5: OSATOTEUTTAJA 25
A6: HAKIJA JA HANKE
A7: Toteuttaja/Siirron saaja
A8: Y-tunnus
A9: Hankkeen ja/tai osahankkeen nimi
A11: Huom! Lomake laskee automaattisesti sinisellä olevat summarivit, kun yksityiskohtaisemmat tiedot on viety lomakkeeseen.
A12: Tyhjä rivi
A13: Budjettivuosi | B13: 2027 | C13: 2027 | D13: 2027 | E13: 2027 | F13: 2027 | G13: 2027 | H13: 2027 | I13: 2027 | J13: 2027 | K13: 2027 | L13: 2027 | M13: 2027 | N13: 2027 | O13: 2027 | P13: 2027 | Q13: 2027 | R13: 2027 | S13: 2027 | T13: 2027 | U13: 2027 | V13: 2027 | W13: 2027 | X13: 2027 | Y13: 2027 | Z13: 2027 | AA13: Yhteensä
A14: Henkilöstökulut | AA14: =SUM(B14:Z14) -> 0
A15: Tyhjä rivi
A16: Vapaaehtoiset henkilöstökulut | AA16: =SUM(B16:Z16) -> 0
A18: Palvelujen ostot
A19: Asiantuntijapalvelut | AA19: =SUM(B19:Z19) -> 0
A20: Taloushallintopalvelut | AA20: =SUM(B20:Z20) -> 0
A21: Viestintäpalvelut | AA21: =SUM(B21:Z21) -> 0
A22: Muut palvelujen ostot | AA22: =SUM(B22:Z22) -> 0
A23: Palvelujen ostot yhteensä | B23: =SUM(B19:B22) -> 0 | C23: =SUM(C19:C22) -> 0 | D23: =SUM(D19:D22) -> 0 | E23: =SUM(E19:E22) -> 0 | F23: =SUM(F19:F22) -> 0 | G23: =SUM(G19:G22) -> 0 | H23: =SUM(H19:H22) -> 0 | I23: =SUM(I19:I22) -> 0 | ... Z23: =SUM(Z19:Z22) -> 0 | AA23: =SUM(B23:Z23) -> 0
A24: Tyhjä rivi
A25: Matkakulut | AA25: =SUM(B25:Z25) -> 0
A26: Tyhjä rivi
A27: Materiaalikulut | AA27: =SUM(B27:Z27) -> 0
A28: Tyhjä rivi
A29: Toimitilakulut | AA29: =SUM(B29:Z29) -> 0
A30: Tyhjä rivi
A31: Investointikulut
A32: Ohjelmistot | AA32: =SUM(B32:Z32) -> 0
A33: Puhelin- ja ICT-laitehankinnat | AA33: =SUM(B33:Z33) -> 0
A34: Koneet ja kalusto | AA34: =SUM(B34:Z34) -> 0
A35: Muut investointikulut | AA35: =SUM(B35:Z35) -> 0
A36: Investointikulut yhteensä | B36: =SUM(B32:B35) -> 0 | C36: =SUM(C32:C35) -> 0 | D36: =SUM(D32:D35) -> 0 | E36: =SUM(E32:E35) -> 0 | F36: =SUM(F32:F35) -> 0 | G36: =SUM(G32:G35) -> 0 | H36: =SUM(H32:H35) -> 0 | I36: =SUM(I32:I35) -> 0 | ... Z36: =SUM(Z32:Z35) -> 0 | AA36: =SUM(B36:Z36) -> 0
A37: Tyhjä rivi
A38: Muut kulut | AA38: =SUM(B38:Z38) -> 0
A40: Kulut yhteensä | B40: =SUM(B14,B16,B23,B25,B27,B29,B36,B38) -> 0 | C40: =SUM(C14,C16,C23,C25,C27,C29,C36,C38) -> 0 | D40: =SUM(D14,D16,D23,D25,D27,D29,D36,D38) -> 0 | E40: =SUM(E14,E16,E23,E25,E27,E29,E36,E38) -> 0 | F40: =SUM(F14,F16,F23,F25,F27,F29,F36,F38) -> 0 | G40: =SUM(G14,G16,G23,G25,G27,G29,G36,G38) -> 0 | H40: =SUM(H14,H16,H23,H25,H27,H29,H36,H38) -> 0 | I40: =SUM(I14,I16,I23,I25,I27,I29,I36,I38) -> 0 | ... Z40: =SUM(Z14,Z16,Z23,Z25,Z27,Z29,Z36,Z38) -> 0 | AA40: =SUM(B40:Z40) -> 0
A41: Tyhjä rivi
A42: Hankkeesta saatavat tuotot | AA42: =SUM(B42:Z42) -> 0
A43: Muut hankkeeseen kohdistettavat tuotot | AA43: =SUM(B43:Z43) -> 0
A44: Valtionavustukseen oikeuttavat kustannukset | B44: =(B40-B42-B43) -> 0 | C44: =(C40-C42-C43) -> 0 | D44: =(D40-D42-D43) -> 0 | E44: =(E40-E42-E43) -> 0 | F44: =(F40-F42-F43) -> 0 | G44: =(G40-G42-G43) -> 0 | H44: =(H40-H42-H43) -> 0 | I44: =(I40-I42-I43) -> 0 | ... Z44: =(Z40-Z42-Z43) -> 0 | AA44: =SUM(B44:Z44) -> 0
A45: Hanketoimijoiden omarahoitus | AA45: =SUM(B45:Z45) -> 0
A46: Muu hankkeelle kohdistuva julkinen rahoitus | AA46: =SUM(B46:Z46) -> 0
A47: Haettava valtionavustus | B47: =(B44-B45-B46) -> 0 | C47: =(C44-C45-C46) -> 0 | D47: =(D44-D45-D46) -> 0 | E47: =(E44-E45-E46) -> 0 | F47: =(F44-F45-F46) -> 0 | G47: =(G44-G45-G46) -> 0 | H47: =(H44-H45-H46) -> 0 | I47: =(I44-I45-I46) -> 0 | ... Z47: =(Z44-Z45-Z46) -> 0 | AA47: =SUM(B47:Z47) -> 0
A48: Taulukko loppuu tähän

Sheet Suurten kuluerien erittely
A1: Kuluerittelyt
A2: Erittele alla olevaan taulukkoon hankkeeseen kuuluvat palveluostot, jotka hankitaan ulkopuoliselta palveluntuottajalta.
A3: Ostettavan palvelun sisältö | B3: Arvio kustannuksista euroina | C3: Perustelu hankinnan tarpeellisuudelle
A13: Erittele alla olevaan taulukkoon muut suuret kuluerät. Suurena kulueränä voi pitää kulua, joka on arvoltaan 5 % hankkeen kokonaiskuluista tai yli 20 000 euroa.
A14: Kulun nimi / sisältö | B14: Arvio kustannuksista euroina | C14: Perustelu kulun tarpeellisuudelle
A24: Taulukko loppuu tähän
